BEGIN:VCALENDAR
VERSION:2.0
PRODID:-//Barx Parx - ECPv6.15.20//NONSGML v1.0//EN
CALSCALE:GREGORIAN
METHOD:PUBLISH
X-WR-CALNAME:Barx Parx
X-ORIGINAL-URL:https://barxparx.com
X-WR-CALDESC:Events for Barx Parx
REFRESH-INTERVAL;VALUE=DURATION:PT1H
X-Robots-Tag:noindex
X-PUBLISHED-TTL:PT1H
BEGIN:VTIMEZONE
TZID:America/Los_Angeles
BEGIN:DAYLIGHT
TZOFFSETFROM:-0800
TZOFFSETTO:-0700
TZNAME:PDT
DTSTART:20240310T100000
END:DAYLIGHT
BEGIN:STANDARD
TZOFFSETFROM:-0700
TZOFFSETTO:-0800
TZNAME:PST
DTSTART:20241103T090000
END:STANDARD
BEGIN:DAYLIGHT
TZOFFSETFROM:-0800
TZOFFSETTO:-0700
TZNAME:PDT
DTSTART:20250309T100000
END:DAYLIGHT
BEGIN:STANDARD
TZOFFSETFROM:-0700
TZOFFSETTO:-0800
TZNAME:PST
DTSTART:20251102T090000
END:STANDARD
BEGIN:DAYLIGHT
TZOFFSETFROM:-0800
TZOFFSETTO:-0700
TZNAME:PDT
DTSTART:20260308T100000
END:DAYLIGHT
BEGIN:STANDARD
TZOFFSETFROM:-0700
TZOFFSETTO:-0800
TZNAME:PST
DTSTART:20261101T090000
END:STANDARD
END:VTIMEZONE
BEGIN:VEVENT
DTSTART;VALUE=DATE:20251101
DTEND;VALUE=DATE:20251123
DTSTAMP:20260425T113000
CREATED:20251105T190931Z
LAST-MODIFIED:20251105T190931Z
UID:10003263-1761955200-1763855999@barxparx.com
SUMMARY:$15 PUPsgiving Meals Available To Order Online Only
DESCRIPTION:Now through 11/22 or when sold out (whichever comes first\, so don’t delay!!) –  Order your PUPsgiving meals ONLINE ONLY via barxparx.com/pupsgiving\n\n\n\n\n\n LOCAL PICKUP ONLY – please do not select any of the shipping options other than local pickup\n\n\n\n\n\nADD ORDER NOTES IF YOU WANT TO DONATE ANY TO THE SHELTER DOGGOS – if so\, please also mention the quantity donated i.e. “2 for shelter doggos\, 2 for us”\n\n\n\n\n\nEat-at-home-meals can be picked up at Barx Parx on Wednesday\, 11/26 \n\n\n\n\n\nPlease note that the front desk staff will not be handling any of these orders  If the website is giving you any issues with ordering\, you can email info@barxparx.com
URL:https://barxparx.com/event/15-pupsgiving-meals-available-to-order-online-only/
LOCATION:Barx Parx\, 8868 S. Eastern Ave. Suite #115\, Las Vegas\, NV\, 89123\, United States
CATEGORIES:Holiday Event,Nevada - Las Vegas,Rescue
ATTACH;FMTTYPE=image/jpeg:https://barxparx.com/wp-content/uploads/2025/11/PupsgivingMealOrderDonate-e1762369762809.jpg
ORGANIZER;CN="Barx Parx":MAILTO:info@barxparx.com
GEO:36.0281686;-115.1167465
X-APPLE-STRUCTURED-LOCATION;VALUE=URI;X-ADDRESS=Barx Parx 8868 S. Eastern Ave. Suite #115 Las Vegas NV 89123 United States;X-APPLE-RADIUS=500;X-TITLE=8868 S. Eastern Ave. Suite #115:geo:-115.1167465,36.0281686
END:VEVENT
BEGIN:VEVENT
DTSTART;TZID=America/Los_Angeles:20251116T103000
DTEND;TZID=America/Los_Angeles:20251116T113000
DTSTAMP:20260425T113000
CREATED:20251005T234341Z
LAST-MODIFIED:20251005T234516Z
UID:10003241-1763289000-1763292600@barxparx.com
SUMMARY:Puppy Academy
DESCRIPTION:The Puppy Academy class is a great follow-up to our puppy socialization sessions. In this six week class\, younger dogs will grow and learn the basics of positive reinforcement training with you. Instruction will also cover basic dog safety principles\, smart management techniques\, and positive relationship-building activities. The Puppy Academy class is recommended for pups from four to twelve months. As with all Barx Parx group classes\, we find the greatest success with small groups so this class is limited to three dogs. \nPuppy Academy Training Class
URL:https://barxparx.com/event/puppy-academy-5-copy-copy-copy-copy-copy/2025-11-16/
LOCATION:Barx Parx\, 8868 S. Eastern Ave. Suite #115\, Las Vegas\, NV\, 89123\, United States
CATEGORIES:Puppy Academy,Training
ATTACH;FMTTYPE=image/png:https://barxparx.com/wp-content/uploads/2023/02/puppy_academy_logo.png
ORGANIZER;CN="Barx Parx":MAILTO:info@barxparx.com
GEO:36.0281686;-115.1167465
X-APPLE-STRUCTURED-LOCATION;VALUE=URI;X-ADDRESS=Barx Parx 8868 S. Eastern Ave. Suite #115 Las Vegas NV 89123 United States;X-APPLE-RADIUS=500;X-TITLE=8868 S. Eastern Ave. Suite #115:geo:-115.1167465,36.0281686
END:VEVENT
BEGIN:VEVENT
DTSTART;TZID=America/Los_Angeles:20251116T120000
DTEND;TZID=America/Los_Angeles:20251117T230000
DTSTAMP:20260425T113000
CREATED:20251030T164404Z
LAST-MODIFIED:20251030T172123Z
UID:10003255-1763294400-1763420400@barxparx.com
SUMMARY:Kendra Scott Giveback Fundraiser
DESCRIPTION: Kendra Scott Giveback Event\nJoin us at @kendrascott in Downtown Summerlin from 12-2pm on Sunday\, November 16th for an afternoon of shopping\, fun\, and fundraising!  20% of your purchase will go towards the Barx Parx Foundation\, our 501c3 that helps fund local rescues.  Can’t make it in person? Shop Online November 16th and 17th using code GIVEBACK-KIIZZ at checkout to also donate 20% of your purchase back to the Barx Parx Foundation!\n barxparxfoundation.org@barxparxfoundation
URL:https://barxparx.com/event/kendra-scott-giveback-fundraiser-2025/
LOCATION:Kendra Scott\, 1980 Festival Plaza Dr Suite 135\, Las Vegas\, 89135\, United States
CATEGORIES:Community,Fundraiser,Nevada - Las Vegas,Rescue
ATTACH;FMTTYPE=image/png:https://barxparx.com/wp-content/uploads/2025/10/KendraScott-e1761842795628.png
ORGANIZER;CN="Barx Parx":MAILTO:info@barxparx.com
GEO:36.1502016;-115.333229
X-APPLE-STRUCTURED-LOCATION;VALUE=URI;X-ADDRESS=Kendra Scott 1980 Festival Plaza Dr Suite 135 Las Vegas 89135 United States;X-APPLE-RADIUS=500;X-TITLE=1980 Festival Plaza Dr Suite 135:geo:-115.333229,36.1502016
END:VEVENT
BEGIN:VEVENT
DTSTART;TZID=America/Los_Angeles:20251116T140000
DTEND;TZID=America/Los_Angeles:20251116T143000
DTSTAMP:20260425T113000
CREATED:20250108T002213Z
LAST-MODIFIED:20250108T002606Z
UID:10002297-1763301600-1763303400@barxparx.com
SUMMARY:Puppy Socialization
DESCRIPTION:PUPPY SOCIALIZATION | EVERY SUNDAY AT 2PM\nCALLING ALL PUPPIES AGES 8 TO 16 WEEKS OLD \n💚🧡🐾 Only $35 for the 3-week long class. Limited availability. First come\, first served. \nLooking for a fun\, safe\, clean and organized way to help socialize your young pup? 🙋‍♂️🙋‍♀️ Our amazing trainers Stephy and Kacey have got you covered! 💯🐶🐾❤ \nOur super informative 30-minute puppy socialization classes are on Sundays at 2pm! \nSocializing your puppy early is key to ensuring you’ll have a happy\, confident\, and well-adjusted dog for life. \nEmail training@barxparx.com
URL:https://barxparx.com/event/puppy-socialization/2025-11-16/
LOCATION:Barx Parx\, 8868 S. Eastern Ave. Suite #115\, Las Vegas\, NV\, 89123\, United States
CATEGORIES:Puppy Socialization,Training
ATTACH;FMTTYPE=image/png:https://barxparx.com/wp-content/uploads/2023/08/puppy_socialization_logo.png
ORGANIZER;CN="Barx Parx":MAILTO:info@barxparx.com
GEO:36.0281686;-115.1167465
X-APPLE-STRUCTURED-LOCATION;VALUE=URI;X-ADDRESS=Barx Parx 8868 S. Eastern Ave. Suite #115 Las Vegas NV 89123 United States;X-APPLE-RADIUS=500;X-TITLE=8868 S. Eastern Ave. Suite #115:geo:-115.1167465,36.0281686
END:VEVENT
BEGIN:VEVENT
DTSTART;TZID=America/Los_Angeles:20251116T150000
DTEND;TZID=America/Los_Angeles:20251116T160000
DTSTAMP:20260425T113000
CREATED:20251105T191053Z
LAST-MODIFIED:20251105T191843Z
UID:10003264-1763305200-1763308800@barxparx.com
SUMMARY:Puppy Academy
DESCRIPTION:The Puppy Academy class is a great follow-up to our puppy socialization sessions. In this six week class\, younger dogs will grow and learn the basics of positive reinforcement training with you. Instruction will also cover basic dog safety principles\, smart management techniques\, and positive relationship-building activities. The Puppy Academy class is recommended for pups from four to twelve months. As with all Barx Parx group classes\, we find the greatest success with small groups so this class is limited to three dogs. \nPuppy Academy Training Class
URL:https://barxparx.com/event/puppy-academy-20-copy-2/2025-11-16/
LOCATION:Barx Parx\, 8868 S. Eastern Ave. Suite #115\, Las Vegas\, NV\, 89123\, United States
CATEGORIES:Puppy Academy,Training
ATTACH;FMTTYPE=image/png:https://barxparx.com/wp-content/uploads/2023/02/puppy_academy_logo.png
ORGANIZER;CN="Barx Parx":MAILTO:info@barxparx.com
GEO:36.0281686;-115.1167465
X-APPLE-STRUCTURED-LOCATION;VALUE=URI;X-ADDRESS=Barx Parx 8868 S. Eastern Ave. Suite #115 Las Vegas NV 89123 United States;X-APPLE-RADIUS=500;X-TITLE=8868 S. Eastern Ave. Suite #115:geo:-115.1167465,36.0281686
END:VEVENT
BEGIN:VEVENT
DTSTART;TZID=America/Los_Angeles:20251116T173000
DTEND;TZID=America/Los_Angeles:20251116T183000
DTSTAMP:20260425T113000
CREATED:20251016T155558Z
LAST-MODIFIED:20251016T160220Z
UID:10003245-1763314200-1763317800@barxparx.com
SUMMARY:Agility Training
DESCRIPTION:A 6-WEEK LONG SEMI-PRIVATE GROUP AGILITY TRAINING CLASS. Please note that this is a small group class with very limited availability. Using basic obedience techniques\, dogs and their pet parents will learn how to successfully execute various obstacles in an agility course like weaves\, hurdle jumps\, hoop jumps\, tunnels and more. Attending dogs must have already mastered name recall (with distractions)\, “sit” and “down”.   Interested? More information available at the link below. \nAgility Training – 6 Week Class
URL:https://barxparx.com/event/agility-training-3-copy-copy-copy-2-copy/2025-11-16/
LOCATION:Barx Parx\, 8868 S. Eastern Ave. Suite #115\, Las Vegas\, NV\, 89123\, United States
CATEGORIES:Agility,Training
ATTACH;FMTTYPE=image/png:https://barxparx.com/wp-content/uploads/2023/02/Agility_Training_logo.png
ORGANIZER;CN="Barx Parx":MAILTO:info@barxparx.com
GEO:36.0281686;-115.1167465
X-APPLE-STRUCTURED-LOCATION;VALUE=URI;X-ADDRESS=Barx Parx 8868 S. Eastern Ave. Suite #115 Las Vegas NV 89123 United States;X-APPLE-RADIUS=500;X-TITLE=8868 S. Eastern Ave. Suite #115:geo:-115.1167465,36.0281686
END:VEVENT
END:VCALENDAR