BEGIN:VCALENDAR
VERSION:2.0
PRODID:-//Barx Parx - ECPv6.15.20//NONSGML v1.0//EN
CALSCALE:GREGORIAN
METHOD:PUBLISH
X-WR-CALNAME:Barx Parx
X-ORIGINAL-URL:https://barxparx.com
X-WR-CALDESC:Events for Barx Parx
REFRESH-INTERVAL;VALUE=DURATION:PT1H
X-Robots-Tag:noindex
X-PUBLISHED-TTL:PT1H
BEGIN:VTIMEZONE
TZID:America/Los_Angeles
BEGIN:DAYLIGHT
TZOFFSETFROM:-0800
TZOFFSETTO:-0700
TZNAME:PDT
DTSTART:20240310T100000
END:DAYLIGHT
BEGIN:STANDARD
TZOFFSETFROM:-0700
TZOFFSETTO:-0800
TZNAME:PST
DTSTART:20241103T090000
END:STANDARD
BEGIN:DAYLIGHT
TZOFFSETFROM:-0800
TZOFFSETTO:-0700
TZNAME:PDT
DTSTART:20250309T100000
END:DAYLIGHT
BEGIN:STANDARD
TZOFFSETFROM:-0700
TZOFFSETTO:-0800
TZNAME:PST
DTSTART:20251102T090000
END:STANDARD
BEGIN:DAYLIGHT
TZOFFSETFROM:-0800
TZOFFSETTO:-0700
TZNAME:PDT
DTSTART:20260308T100000
END:DAYLIGHT
BEGIN:STANDARD
TZOFFSETFROM:-0700
TZOFFSETTO:-0800
TZNAME:PST
DTSTART:20261101T090000
END:STANDARD
END:VTIMEZONE
BEGIN:VEVENT
DTSTART;VALUE=DATE:20251201
DTEND;VALUE=DATE:20251219
DTSTAMP:20260425T095810
CREATED:20251129T224043Z
LAST-MODIFIED:20251201T183150Z
UID:10003274-1764547200-1766102399@barxparx.com
SUMMARY:Pawliday Toy Drive For Shelter Dogs
DESCRIPTION:Now through December 18 at Barx Parx and 3rd Reef Pet Supplies!! @barxparx @3rdreefpetsupplies\n\nHelp bring a little joy to a shelter dog at Henderson Animal Shelter and the Nevada SPCA this holiday season.\nWe are collecting new and gently used dog toys\, bones and chews for the adoptable pups at our local Las Vegas shelters.
URL:https://barxparx.com/event/pawliday-toy-drive-for-shelter-dogs-2025/
LOCATION:Barx Parx\, 8868 S. Eastern Ave. Suite #115\, Las Vegas\, NV\, 89123\, United States
ATTACH;FMTTYPE=image/jpeg:https://barxparx.com/wp-content/uploads/2025/11/ToyDrive2025-e1764456035776.jpg
ORGANIZER;CN="Barx Parx":MAILTO:info@barxparx.com
GEO:36.0281686;-115.1167465
X-APPLE-STRUCTURED-LOCATION;VALUE=URI;X-ADDRESS=Barx Parx 8868 S. Eastern Ave. Suite #115 Las Vegas NV 89123 United States;X-APPLE-RADIUS=500;X-TITLE=8868 S. Eastern Ave. Suite #115:geo:-115.1167465,36.0281686
END:VEVENT
BEGIN:VEVENT
DTSTART;TZID=America/Los_Angeles:20251207T110000
DTEND;TZID=America/Los_Angeles:20251207T120000
DTSTAMP:20260425T095810
CREATED:20251023T180517Z
LAST-MODIFIED:20251023T180537Z
UID:10003254-1765105200-1765108800@barxparx.com
SUMMARY:Storm's Form Yoga
DESCRIPTION:Storm’s Form\nSunday\, 12/7 at 11am \n$20 Per Person | 21+ Event\nAssessed Dogs Welcome To Attend! \nWant to relax with your dog AND do some yoga? 🧘🐶❤️\nCome join Michelle and Storm for some relaxing Yin Yoga. Yin Yoga is slow paced and guided and focuses on holding poses for longer periods of time to fully stretch the muscles. This class is for any and all levels from beginner to advanced\, with modifications given to anyone who might need. Throughout the class we will be incorporating our pups in to poses and holds. Whether you are new to yoga or been practicing for a while\, come try Storm’s Form at Barx Parx. \nEmail bri@barxparx.com to sign up!
URL:https://barxparx.com/event/storms-form-yoga-12-2025/
LOCATION:Barx Parx\, 8868 S. Eastern Ave. Suite #115\, Las Vegas\, NV\, 89123\, United States
CATEGORIES:Enrichment,Informational,Nevada - Las Vegas,Storm's Form
ATTACH;FMTTYPE=image/png:https://barxparx.com/wp-content/uploads/2025/10/December-Storms-Form-2025-e1761242698390.png
ORGANIZER;CN="Barx Parx":MAILTO:info@barxparx.com
GEO:36.0281686;-115.1167465
X-APPLE-STRUCTURED-LOCATION;VALUE=URI;X-ADDRESS=Barx Parx 8868 S. Eastern Ave. Suite #115 Las Vegas NV 89123 United States;X-APPLE-RADIUS=500;X-TITLE=8868 S. Eastern Ave. Suite #115:geo:-115.1167465,36.0281686
END:VEVENT
BEGIN:VEVENT
DTSTART;TZID=America/Los_Angeles:20251207T110000
DTEND;TZID=America/Los_Angeles:20251207T120000
DTSTAMP:20260425T095810
CREATED:20251129T223848Z
LAST-MODIFIED:20251129T223916Z
UID:10003273-1765105200-1765108800@barxparx.com
SUMMARY:Storm's Form Yoga
DESCRIPTION:Storm’s FormSunday\, 12/7 at 11am\n\n$20 Per Person | 21+ EventAssessed Dogs Welcome To Attend!\n\nWant to relax with your dog AND do some yoga?  Come join Michelle and Storm for some relaxing Yin Yoga. Yin Yoga is slow paced and guided and focuses on holding poses for longer periods of time to fully stretch the muscles. This class is for any and all levels from beginner to advanced\, with modifications given to anyone who might need. Throughout the class we will be incorporating our pups in to poses and holds. Whether you are new to yoga or been practicing for a while\, come try Storm’s Form at Barx Parx.\n\nEmail bri@barxparx.com to sign up!
URL:https://barxparx.com/event/storms-form-yoga-1225/
LOCATION:Barx Parx\, 8868 S. Eastern Ave. Suite #115\, Las Vegas\, NV\, 89123\, United States
CATEGORIES:Enrichment,Informational,Nevada - Las Vegas,Storm's Form
ATTACH;FMTTYPE=image/png:https://barxparx.com/wp-content/uploads/2025/11/December-Storms-Form-2025-e1764455916470.png
ORGANIZER;CN="Barx Parx":MAILTO:info@barxparx.com
GEO:36.0281686;-115.1167465
X-APPLE-STRUCTURED-LOCATION;VALUE=URI;X-ADDRESS=Barx Parx 8868 S. Eastern Ave. Suite #115 Las Vegas NV 89123 United States;X-APPLE-RADIUS=500;X-TITLE=8868 S. Eastern Ave. Suite #115:geo:-115.1167465,36.0281686
END:VEVENT
BEGIN:VEVENT
DTSTART;TZID=America/Los_Angeles:20251207T140000
DTEND;TZID=America/Los_Angeles:20251207T143000
DTSTAMP:20260425T095810
CREATED:20250108T002213Z
LAST-MODIFIED:20250108T002606Z
UID:10002300-1765116000-1765117800@barxparx.com
SUMMARY:Puppy Socialization
DESCRIPTION:PUPPY SOCIALIZATION | EVERY SUNDAY AT 2PM\nCALLING ALL PUPPIES AGES 8 TO 16 WEEKS OLD \n💚🧡🐾 Only $35 for the 3-week long class. Limited availability. First come\, first served. \nLooking for a fun\, safe\, clean and organized way to help socialize your young pup? 🙋‍♂️🙋‍♀️ Our amazing trainers Stephy and Kacey have got you covered! 💯🐶🐾❤ \nOur super informative 30-minute puppy socialization classes are on Sundays at 2pm! \nSocializing your puppy early is key to ensuring you’ll have a happy\, confident\, and well-adjusted dog for life. \nEmail training@barxparx.com
URL:https://barxparx.com/event/puppy-socialization/2025-12-07/
LOCATION:Barx Parx\, 8868 S. Eastern Ave. Suite #115\, Las Vegas\, NV\, 89123\, United States
CATEGORIES:Puppy Socialization,Training
ATTACH;FMTTYPE=image/png:https://barxparx.com/wp-content/uploads/2023/08/puppy_socialization_logo.png
ORGANIZER;CN="Barx Parx":MAILTO:info@barxparx.com
GEO:36.0281686;-115.1167465
X-APPLE-STRUCTURED-LOCATION;VALUE=URI;X-ADDRESS=Barx Parx 8868 S. Eastern Ave. Suite #115 Las Vegas NV 89123 United States;X-APPLE-RADIUS=500;X-TITLE=8868 S. Eastern Ave. Suite #115:geo:-115.1167465,36.0281686
END:VEVENT
BEGIN:VEVENT
DTSTART;TZID=America/Los_Angeles:20251207T150000
DTEND;TZID=America/Los_Angeles:20251207T160000
DTSTAMP:20260425T095810
CREATED:20251105T191053Z
LAST-MODIFIED:20251105T191843Z
UID:10003267-1765119600-1765123200@barxparx.com
SUMMARY:Puppy Academy
DESCRIPTION:The Puppy Academy class is a great follow-up to our puppy socialization sessions. In this six week class\, younger dogs will grow and learn the basics of positive reinforcement training with you. Instruction will also cover basic dog safety principles\, smart management techniques\, and positive relationship-building activities. The Puppy Academy class is recommended for pups from four to twelve months. As with all Barx Parx group classes\, we find the greatest success with small groups so this class is limited to three dogs. \nPuppy Academy Training Class
URL:https://barxparx.com/event/puppy-academy-20-copy-2/2025-12-07/
LOCATION:Barx Parx\, 8868 S. Eastern Ave. Suite #115\, Las Vegas\, NV\, 89123\, United States
CATEGORIES:Puppy Academy,Training
ATTACH;FMTTYPE=image/png:https://barxparx.com/wp-content/uploads/2023/02/puppy_academy_logo.png
ORGANIZER;CN="Barx Parx":MAILTO:info@barxparx.com
GEO:36.0281686;-115.1167465
X-APPLE-STRUCTURED-LOCATION;VALUE=URI;X-ADDRESS=Barx Parx 8868 S. Eastern Ave. Suite #115 Las Vegas NV 89123 United States;X-APPLE-RADIUS=500;X-TITLE=8868 S. Eastern Ave. Suite #115:geo:-115.1167465,36.0281686
END:VEVENT
BEGIN:VEVENT
DTSTART;TZID=America/Los_Angeles:20251207T173000
DTEND;TZID=America/Los_Angeles:20251207T183000
DTSTAMP:20260425T095810
CREATED:20251016T155558Z
LAST-MODIFIED:20251016T160220Z
UID:10003248-1765128600-1765132200@barxparx.com
SUMMARY:Agility Training
DESCRIPTION:A 6-WEEK LONG SEMI-PRIVATE GROUP AGILITY TRAINING CLASS. Please note that this is a small group class with very limited availability. Using basic obedience techniques\, dogs and their pet parents will learn how to successfully execute various obstacles in an agility course like weaves\, hurdle jumps\, hoop jumps\, tunnels and more. Attending dogs must have already mastered name recall (with distractions)\, “sit” and “down”.   Interested? More information available at the link below. \nAgility Training – 6 Week Class
URL:https://barxparx.com/event/agility-training-3-copy-copy-copy-2-copy/2025-12-07/
LOCATION:Barx Parx\, 8868 S. Eastern Ave. Suite #115\, Las Vegas\, NV\, 89123\, United States
CATEGORIES:Agility,Training
ATTACH;FMTTYPE=image/png:https://barxparx.com/wp-content/uploads/2023/02/Agility_Training_logo.png
ORGANIZER;CN="Barx Parx":MAILTO:info@barxparx.com
GEO:36.0281686;-115.1167465
X-APPLE-STRUCTURED-LOCATION;VALUE=URI;X-ADDRESS=Barx Parx 8868 S. Eastern Ave. Suite #115 Las Vegas NV 89123 United States;X-APPLE-RADIUS=500;X-TITLE=8868 S. Eastern Ave. Suite #115:geo:-115.1167465,36.0281686
END:VEVENT
END:VCALENDAR