BEGIN:VCALENDAR
VERSION:2.0
PRODID:-//Barx Parx - ECPv6.15.20//NONSGML v1.0//EN
CALSCALE:GREGORIAN
METHOD:PUBLISH
X-WR-CALNAME:Barx Parx
X-ORIGINAL-URL:https://barxparx.com
X-WR-CALDESC:Events for Barx Parx
REFRESH-INTERVAL;VALUE=DURATION:PT1H
X-Robots-Tag:noindex
X-PUBLISHED-TTL:PT1H
BEGIN:VTIMEZONE
TZID:America/Los_Angeles
BEGIN:DAYLIGHT
TZOFFSETFROM:-0800
TZOFFSETTO:-0700
TZNAME:PDT
DTSTART:20240310T100000
END:DAYLIGHT
BEGIN:STANDARD
TZOFFSETFROM:-0700
TZOFFSETTO:-0800
TZNAME:PST
DTSTART:20241103T090000
END:STANDARD
BEGIN:DAYLIGHT
TZOFFSETFROM:-0800
TZOFFSETTO:-0700
TZNAME:PDT
DTSTART:20250309T100000
END:DAYLIGHT
BEGIN:STANDARD
TZOFFSETFROM:-0700
TZOFFSETTO:-0800
TZNAME:PST
DTSTART:20251102T090000
END:STANDARD
BEGIN:DAYLIGHT
TZOFFSETFROM:-0800
TZOFFSETTO:-0700
TZNAME:PDT
DTSTART:20260308T100000
END:DAYLIGHT
BEGIN:STANDARD
TZOFFSETFROM:-0700
TZOFFSETTO:-0800
TZNAME:PST
DTSTART:20261101T090000
END:STANDARD
END:VTIMEZONE
BEGIN:VEVENT
DTSTART;VALUE=DATE:20251201
DTEND;VALUE=DATE:20251219
DTSTAMP:20260425T095849
CREATED:20251129T224043Z
LAST-MODIFIED:20251201T183150Z
UID:10003274-1764547200-1766102399@barxparx.com
SUMMARY:Pawliday Toy Drive For Shelter Dogs
DESCRIPTION:Now through December 18 at Barx Parx and 3rd Reef Pet Supplies!! @barxparx @3rdreefpetsupplies\n\nHelp bring a little joy to a shelter dog at Henderson Animal Shelter and the Nevada SPCA this holiday season.\nWe are collecting new and gently used dog toys\, bones and chews for the adoptable pups at our local Las Vegas shelters.
URL:https://barxparx.com/event/pawliday-toy-drive-for-shelter-dogs-2025/
LOCATION:Barx Parx\, 8868 S. Eastern Ave. Suite #115\, Las Vegas\, NV\, 89123\, United States
ATTACH;FMTTYPE=image/jpeg:https://barxparx.com/wp-content/uploads/2025/11/ToyDrive2025-e1764456035776.jpg
ORGANIZER;CN="Barx Parx":MAILTO:info@barxparx.com
GEO:36.0281686;-115.1167465
X-APPLE-STRUCTURED-LOCATION;VALUE=URI;X-ADDRESS=Barx Parx 8868 S. Eastern Ave. Suite #115 Las Vegas NV 89123 United States;X-APPLE-RADIUS=500;X-TITLE=8868 S. Eastern Ave. Suite #115:geo:-115.1167465,36.0281686
END:VEVENT
BEGIN:VEVENT
DTSTART;TZID=America/Los_Angeles:20251209T060000
DTEND;TZID=America/Los_Angeles:20251209T100000
DTSTAMP:20260425T095849
CREATED:20251201T182318Z
LAST-MODIFIED:20251201T182346Z
UID:10003277-1765260000-1765274400@barxparx.com
SUMMARY:Holiday Pawtraits During Daycare
DESCRIPTION:📸🎅 Don’t miss out on Holiday themed pet pawtraits taken on a merry background!! Only a $15 upcharge per dog. Offered on select dates during daycare until 10am daily. 🐶🐾 – Monday\, December 8 – Tuesday\, December 9 – Wednesday\, December 10 – Monday\, December 15 – Tuesday\, December 16 – Wednesday\, December 17 – **** 6am to 10am daily. Must RSVP and stay 4+ hours. Limited availability. First come\, first served. Text 702-518-6439 to reserve your pup’s spot today. **** 💚🧡 Next steps for any new dogs who want to attend Barx Parx: Register your pup(s) at barxparx.com/register.
URL:https://barxparx.com/event/holiday-pawtraits-during-daycare-2025/2025-12-09/
LOCATION:Barx Parx\, 8868 S. Eastern Ave. Suite #115\, Las Vegas\, NV\, 89123\, United States
CATEGORIES:Holiday Event,Nevada - Las Vegas,Party,Pawtraits
ATTACH;FMTTYPE=image/jpeg:https://barxparx.com/wp-content/uploads/2025/12/ChristmasPetPawtraits2025-e1764613355330.jpg
ORGANIZER;CN="Barx Parx":MAILTO:info@barxparx.com
GEO:36.0281686;-115.1167465
X-APPLE-STRUCTURED-LOCATION;VALUE=URI;X-ADDRESS=Barx Parx 8868 S. Eastern Ave. Suite #115 Las Vegas NV 89123 United States;X-APPLE-RADIUS=500;X-TITLE=8868 S. Eastern Ave. Suite #115:geo:-115.1167465,36.0281686
END:VEVENT
END:VCALENDAR