BEGIN:VCALENDAR
VERSION:2.0
PRODID:-//Barx Parx - ECPv6.15.20//NONSGML v1.0//EN
CALSCALE:GREGORIAN
METHOD:PUBLISH
X-ORIGINAL-URL:https://barxparx.com
X-WR-CALDESC:Events for Barx Parx
REFRESH-INTERVAL;VALUE=DURATION:PT1H
X-Robots-Tag:noindex
X-PUBLISHED-TTL:PT1H
BEGIN:VTIMEZONE
TZID:America/Los_Angeles
BEGIN:DAYLIGHT
TZOFFSETFROM:-0800
TZOFFSETTO:-0700
TZNAME:PDT
DTSTART:20250309T100000
END:DAYLIGHT
BEGIN:STANDARD
TZOFFSETFROM:-0700
TZOFFSETTO:-0800
TZNAME:PST
DTSTART:20251102T090000
END:STANDARD
BEGIN:DAYLIGHT
TZOFFSETFROM:-0800
TZOFFSETTO:-0700
TZNAME:PDT
DTSTART:20260308T100000
END:DAYLIGHT
BEGIN:STANDARD
TZOFFSETFROM:-0700
TZOFFSETTO:-0800
TZNAME:PST
DTSTART:20261101T090000
END:STANDARD
BEGIN:DAYLIGHT
TZOFFSETFROM:-0800
TZOFFSETTO:-0700
TZNAME:PDT
DTSTART:20270314T100000
END:DAYLIGHT
BEGIN:STANDARD
TZOFFSETFROM:-0700
TZOFFSETTO:-0800
TZNAME:PST
DTSTART:20271107T090000
END:STANDARD
END:VTIMEZONE
BEGIN:VEVENT
DTSTART;VALUE=DATE:20260201
DTEND;VALUE=DATE:20260209
DTSTAMP:20260425T070323
CREATED:20260120T222956Z
LAST-MODIFIED:20260120T223440Z
UID:10003465-1769904000-1770595199@barxparx.com
SUMMARY:Barx Parx Foundation Football Pool
DESCRIPTION:⚠️⚠️⚠️ Fundraiser Alert \nBarx Parx Foundation Football Pool for the big game! 🏈🐶 Squares are $5 each! Buy yours for the chance to win Barx Parx swag and free daycare/boarding!!! (Not to mention supporting a good cause!) Squares on sale until the game starts on Sunday\, February 9th or until gone! We only have 100 available!!🐶🏈 \n100% of the proceeds will benefit the Barx Parx Foundation\, our 501c3 that helps fund and provide for local rescues. 💜🧡🐶 \nSquares can be bought in person or via text at 702-518-6439! Open fundraiser to the public! Anyone 21+ can purchase squares!
URL:https://barxparx.com/event/barx-parx-foundation-football-pool-2026/
LOCATION:Barx Parx\, 8868 S. Eastern Ave. Suite #115\, Las Vegas\, NV\, 89123\, United States
CATEGORIES:Holiday Event,Party,Sports
ATTACH;FMTTYPE=image/jpeg:https://barxparx.com/wp-content/uploads/2026/01/BPFFootballPool-e1768948466818.jpg
ORGANIZER;CN="Barx Parx":MAILTO:info@barxparx.com
GEO:36.0281686;-115.1167465
X-APPLE-STRUCTURED-LOCATION;VALUE=URI;X-ADDRESS=Barx Parx 8868 S. Eastern Ave. Suite #115 Las Vegas NV 89123 United States;X-APPLE-RADIUS=500;X-TITLE=8868 S. Eastern Ave. Suite #115:geo:-115.1167465,36.0281686
END:VEVENT
BEGIN:VEVENT
DTSTART;VALUE=DATE:20260201
DTEND;VALUE=DATE:20260301
DTSTAMP:20260425T070323
CREATED:20260202T160336Z
LAST-MODIFIED:20260202T160700Z
UID:10003469-1769904000-1772323199@barxparx.com
SUMMARY:Giving Hearts - Donations to Barx Parx Foundation
DESCRIPTION:💘💌💋🐾 Donate $5 or more to the Barx Parx Foundation and fill out a giving heart to put up on our front desk!! 🐶 Thank you for helping local rescue pups in need find loving homes and their furever valentines. 100% of the proceeds will benefit the Barx Parx Foundation\, our 501c3 that helps fund\, supply and support local Las Vegas rescues. Hearts can be bought in person or via text at 702-518-6439! Open fundraiser to the public! Anyone can purchase hearts!
URL:https://barxparx.com/event/giving-hearts-donations-to-barx-parx-foundation-2026/
LOCATION:Barx Parx\, 8868 S. Eastern Ave. Suite #115\, Las Vegas\, NV\, 89123\, United States
CATEGORIES:Fundraiser,Holiday Event
ATTACH;FMTTYPE=image/jpeg:https://barxparx.com/wp-content/uploads/2025/01/GivingHearts-e1737072983952.jpg
ORGANIZER;CN="Barx Parx":MAILTO:info@barxparx.com
GEO:36.0281686;-115.1167465
X-APPLE-STRUCTURED-LOCATION;VALUE=URI;X-ADDRESS=Barx Parx 8868 S. Eastern Ave. Suite #115 Las Vegas NV 89123 United States;X-APPLE-RADIUS=500;X-TITLE=8868 S. Eastern Ave. Suite #115:geo:-115.1167465,36.0281686
END:VEVENT
BEGIN:VEVENT
DTSTART;TZID=America/Los_Angeles:20260201T110000
DTEND;TZID=America/Los_Angeles:20260201T120000
DTSTAMP:20260425T070323
CREATED:20251229T165747Z
LAST-MODIFIED:20260116T232143Z
UID:10003438-1769943600-1769947200@barxparx.com
SUMMARY:Storm's Form Yoga
DESCRIPTION:Storm’s Form\nSunday\, 2/1 at 11am \n$20 Per Person | 21+ Event\nAssessed Dogs Welcome To Attend! \nWant to relax with your dog AND do some yoga? 🧘🐶❤️\nCome join Michelle and Storm for some relaxing Yin Yoga. Yin Yoga is slow paced and guided and focuses on holding poses for longer periods of time to fully stretch the muscles. This class is for any and all levels from beginner to advanced\, with modifications given to anyone who might need. Throughout the class we will be incorporating our pups in to poses and holds. Whether you are new to yoga or been practicing for a while\, come try Storm’s Form at Barx Parx. \nEmail bri@barxparx.com to sign up!
URL:https://barxparx.com/event/storms-form-yoga-0226/
LOCATION:Barx Parx\, 8868 S. Eastern Ave. Suite #115\, Las Vegas\, NV\, 89123\, United States
CATEGORIES:Enrichment,Informational,Nevada - Las Vegas,Storm's Form
ATTACH;FMTTYPE=image/jpeg:https://barxparx.com/wp-content/uploads/2025/12/February-Storms-Form-e1768605694753.jpg
ORGANIZER;CN="Barx Parx":MAILTO:info@barxparx.com
GEO:36.0281686;-115.1167465
X-APPLE-STRUCTURED-LOCATION;VALUE=URI;X-ADDRESS=Barx Parx 8868 S. Eastern Ave. Suite #115 Las Vegas NV 89123 United States;X-APPLE-RADIUS=500;X-TITLE=8868 S. Eastern Ave. Suite #115:geo:-115.1167465,36.0281686
END:VEVENT
BEGIN:VEVENT
DTSTART;TZID=America/Los_Angeles:20260201T140000
DTEND;TZID=America/Los_Angeles:20260201T143000
DTSTAMP:20260425T070323
CREATED:20250108T002213Z
LAST-MODIFIED:20250108T002606Z
UID:10003714-1769954400-1769956200@barxparx.com
SUMMARY:Puppy Socialization
DESCRIPTION:PUPPY SOCIALIZATION | EVERY SUNDAY AT 2PM\nCALLING ALL PUPPIES AGES 8 TO 16 WEEKS OLD \n💚🧡🐾 Only $35 for the 3-week long class. Limited availability. First come\, first served. \nLooking for a fun\, safe\, clean and organized way to help socialize your young pup? 🙋‍♂️🙋‍♀️ Our amazing trainers Stephy and Kacey have got you covered! 💯🐶🐾❤ \nOur super informative 30-minute puppy socialization classes are on Sundays at 2pm! \nSocializing your puppy early is key to ensuring you’ll have a happy\, confident\, and well-adjusted dog for life. \nEmail training@barxparx.com
URL:https://barxparx.com/event/puppy-socialization/2026-02-01/
LOCATION:Barx Parx\, 8868 S. Eastern Ave. Suite #115\, Las Vegas\, NV\, 89123\, United States
CATEGORIES:Puppy Socialization,Training
ATTACH;FMTTYPE=image/png:https://barxparx.com/wp-content/uploads/2023/08/puppy_socialization_logo.png
ORGANIZER;CN="Barx Parx":MAILTO:info@barxparx.com
GEO:36.0281686;-115.1167465
X-APPLE-STRUCTURED-LOCATION;VALUE=URI;X-ADDRESS=Barx Parx 8868 S. Eastern Ave. Suite #115 Las Vegas NV 89123 United States;X-APPLE-RADIUS=500;X-TITLE=8868 S. Eastern Ave. Suite #115:geo:-115.1167465,36.0281686
END:VEVENT
BEGIN:VEVENT
DTSTART;TZID=America/Los_Angeles:20260201T140000
DTEND;TZID=America/Los_Angeles:20260201T143000
DTSTAMP:20260425T070323
CREATED:20251226T172627Z
LAST-MODIFIED:20251226T172627Z
UID:10003384-1769954400-1769956200@barxparx.com
SUMMARY:Puppy Socialization
DESCRIPTION:PUPPY SOCIALIZATION | EVERY SUNDAY AT 2PM\nCALLING ALL PUPPIES AGES 8 TO 16 WEEKS OLD \n💚🧡🐾 Only $35 for the 3-week long class. Limited availability. First come\, first served. \nLooking for a fun\, safe\, clean and organized way to help socialize your young pup? 🙋‍♂️🙋‍♀️ Our amazing trainers Stephy and Kacey have got you covered! 💯🐶🐾❤ \nOur super informative 30-minute puppy socialization classes are on Sundays at 2pm! \nSocializing your puppy early is key to ensuring you’ll have a happy\, confident\, and well-adjusted dog for life. \nEmail training@barxparx.com
URL:https://barxparx.com/event/puppy-socialization-2/2026-02-01/
LOCATION:Barx Parx\, 8868 S. Eastern Ave. Suite #115\, Las Vegas\, NV\, 89123\, United States
CATEGORIES:Puppy Socialization,Training
ATTACH;FMTTYPE=image/png:https://barxparx.com/wp-content/uploads/2023/08/puppy_socialization_logo.png
ORGANIZER;CN="Barx Parx":MAILTO:info@barxparx.com
GEO:36.0281686;-115.1167465
X-APPLE-STRUCTURED-LOCATION;VALUE=URI;X-ADDRESS=Barx Parx 8868 S. Eastern Ave. Suite #115 Las Vegas NV 89123 United States;X-APPLE-RADIUS=500;X-TITLE=8868 S. Eastern Ave. Suite #115:geo:-115.1167465,36.0281686
END:VEVENT
BEGIN:VEVENT
DTSTART;TZID=America/Los_Angeles:20260201T173000
DTEND;TZID=America/Los_Angeles:20260201T183000
DTSTAMP:20260425T070323
CREATED:20251226T173056Z
LAST-MODIFIED:20251226T173056Z
UID:10003435-1769967000-1769970600@barxparx.com
SUMMARY:Agility Training
DESCRIPTION:A 6-WEEK LONG SEMI-PRIVATE GROUP AGILITY TRAINING CLASS. Please note that this is a small group class with very limited availability. Using basic obedience techniques\, dogs and their pet parents will learn how to successfully execute various obstacles in an agility course like weaves\, hurdle jumps\, hoop jumps\, tunnels and more. Attending dogs must have already mastered name recall (with distractions)\, “sit” and “down”.   Interested? More information available at the link below. \nAgility Training – 6 Week Class
URL:https://barxparx.com/event/agility-training-4/2026-02-01/
LOCATION:Barx Parx\, 8868 S. Eastern Ave. Suite #115\, Las Vegas\, NV\, 89123\, United States
CATEGORIES:Agility,Nevada - Las Vegas,Training
ATTACH;FMTTYPE=image/png:https://barxparx.com/wp-content/uploads/2023/02/Agility_Training_logo.png
ORGANIZER;CN="Barx Parx":MAILTO:info@barxparx.com
GEO:36.0281686;-115.1167465
X-APPLE-STRUCTURED-LOCATION;VALUE=URI;X-ADDRESS=Barx Parx 8868 S. Eastern Ave. Suite #115 Las Vegas NV 89123 United States;X-APPLE-RADIUS=500;X-TITLE=8868 S. Eastern Ave. Suite #115:geo:-115.1167465,36.0281686
END:VEVENT
END:VCALENDAR