BEGIN:VCALENDAR
VERSION:2.0
PRODID:-//Barx Parx - ECPv6.15.20//NONSGML v1.0//EN
CALSCALE:GREGORIAN
METHOD:PUBLISH
X-ORIGINAL-URL:https://barxparx.com
X-WR-CALDESC:Events for Barx Parx
REFRESH-INTERVAL;VALUE=DURATION:PT1H
X-Robots-Tag:noindex
X-PUBLISHED-TTL:PT1H
BEGIN:VTIMEZONE
TZID:America/Los_Angeles
BEGIN:DAYLIGHT
TZOFFSETFROM:-0800
TZOFFSETTO:-0700
TZNAME:PDT
DTSTART:20250309T100000
END:DAYLIGHT
BEGIN:STANDARD
TZOFFSETFROM:-0700
TZOFFSETTO:-0800
TZNAME:PST
DTSTART:20251102T090000
END:STANDARD
BEGIN:DAYLIGHT
TZOFFSETFROM:-0800
TZOFFSETTO:-0700
TZNAME:PDT
DTSTART:20260308T100000
END:DAYLIGHT
BEGIN:STANDARD
TZOFFSETFROM:-0700
TZOFFSETTO:-0800
TZNAME:PST
DTSTART:20261101T090000
END:STANDARD
BEGIN:DAYLIGHT
TZOFFSETFROM:-0800
TZOFFSETTO:-0700
TZNAME:PDT
DTSTART:20270314T100000
END:DAYLIGHT
BEGIN:STANDARD
TZOFFSETFROM:-0700
TZOFFSETTO:-0800
TZNAME:PST
DTSTART:20271107T090000
END:STANDARD
END:VTIMEZONE
BEGIN:VEVENT
DTSTART;VALUE=DATE:20260201
DTEND;VALUE=DATE:20260301
DTSTAMP:20260425T070421
CREATED:20260202T160336Z
LAST-MODIFIED:20260202T160700Z
UID:10003469-1769904000-1772323199@barxparx.com
SUMMARY:Giving Hearts - Donations to Barx Parx Foundation
DESCRIPTION:💘💌💋🐾 Donate $5 or more to the Barx Parx Foundation and fill out a giving heart to put up on our front desk!! 🐶 Thank you for helping local rescue pups in need find loving homes and their furever valentines. 100% of the proceeds will benefit the Barx Parx Foundation\, our 501c3 that helps fund\, supply and support local Las Vegas rescues. Hearts can be bought in person or via text at 702-518-6439! Open fundraiser to the public! Anyone can purchase hearts!
URL:https://barxparx.com/event/giving-hearts-donations-to-barx-parx-foundation-2026/
LOCATION:Barx Parx\, 8868 S. Eastern Ave. Suite #115\, Las Vegas\, NV\, 89123\, United States
CATEGORIES:Fundraiser,Holiday Event
ATTACH;FMTTYPE=image/jpeg:https://barxparx.com/wp-content/uploads/2025/01/GivingHearts-e1737072983952.jpg
ORGANIZER;CN="Barx Parx":MAILTO:info@barxparx.com
GEO:36.0281686;-115.1167465
X-APPLE-STRUCTURED-LOCATION;VALUE=URI;X-ADDRESS=Barx Parx 8868 S. Eastern Ave. Suite #115 Las Vegas NV 89123 United States;X-APPLE-RADIUS=500;X-TITLE=8868 S. Eastern Ave. Suite #115:geo:-115.1167465,36.0281686
END:VEVENT
BEGIN:VEVENT
DTSTART;TZID=America/Los_Angeles:20260222T110000
DTEND;TZID=America/Los_Angeles:20260222T120000
DTSTAMP:20260425T070421
CREATED:20260202T162513Z
LAST-MODIFIED:20260205T002945Z
UID:10003470-1771758000-1771761600@barxparx.com
SUMMARY:Spaniel Breed Meetup 2026
DESCRIPTION:🚨🚨🚨 FREE MEMBER EVENT: Calling all Spaniels!!! 🐾 Let’s have a play date! Join us on 2/22 at 11am when the Spaniels take over Barx Parx! 😍😍 Spaniels of all ages are specially invited to socialize\, romp and pawty together! 🐶Membership and current vaccines required. No reservation required. Single use day passes can also be purchased for non-members at the normal rate. \n*** ⚠️ If attending the 21+ indoor dog park: All dogs attending must be registered with Barx Parx and have passed their behavior assessment before they can attend. If your pups are not already registered at Barx Parx\, please register at Barxparx.com/register. Membership and current vaccines required. No reservation required. Single use day passes can also be purchased for non-members at the normal rate. *** \nThe Barx Parx indoor dog park and happy hour portion is a 21+ facility.
URL:https://barxparx.com/event/spaniel-breed-meetup-2026/
LOCATION:Barx Parx\, 8868 S. Eastern Ave. Suite #115\, Las Vegas\, NV\, 89123\, United States
CATEGORIES:Breed Meetup,Party
ATTACH;FMTTYPE=image/jpeg:https://barxparx.com/wp-content/uploads/2026/02/SpanielMeetup-e1770251364755.jpg
ORGANIZER;CN="Barx Parx":MAILTO:info@barxparx.com
GEO:36.0281686;-115.1167465
X-APPLE-STRUCTURED-LOCATION;VALUE=URI;X-ADDRESS=Barx Parx 8868 S. Eastern Ave. Suite #115 Las Vegas NV 89123 United States;X-APPLE-RADIUS=500;X-TITLE=8868 S. Eastern Ave. Suite #115:geo:-115.1167465,36.0281686
END:VEVENT
BEGIN:VEVENT
DTSTART;TZID=America/Los_Angeles:20260222T140000
DTEND;TZID=America/Los_Angeles:20260222T143000
DTSTAMP:20260425T070421
CREATED:20250108T002213Z
LAST-MODIFIED:20250108T002606Z
UID:10003717-1771768800-1771770600@barxparx.com
SUMMARY:Puppy Socialization
DESCRIPTION:PUPPY SOCIALIZATION | EVERY SUNDAY AT 2PM\nCALLING ALL PUPPIES AGES 8 TO 16 WEEKS OLD \n💚🧡🐾 Only $35 for the 3-week long class. Limited availability. First come\, first served. \nLooking for a fun\, safe\, clean and organized way to help socialize your young pup? 🙋‍♂️🙋‍♀️ Our amazing trainers Stephy and Kacey have got you covered! 💯🐶🐾❤ \nOur super informative 30-minute puppy socialization classes are on Sundays at 2pm! \nSocializing your puppy early is key to ensuring you’ll have a happy\, confident\, and well-adjusted dog for life. \nEmail training@barxparx.com
URL:https://barxparx.com/event/puppy-socialization/2026-02-22/
LOCATION:Barx Parx\, 8868 S. Eastern Ave. Suite #115\, Las Vegas\, NV\, 89123\, United States
CATEGORIES:Puppy Socialization,Training
ATTACH;FMTTYPE=image/png:https://barxparx.com/wp-content/uploads/2023/08/puppy_socialization_logo.png
ORGANIZER;CN="Barx Parx":MAILTO:info@barxparx.com
GEO:36.0281686;-115.1167465
X-APPLE-STRUCTURED-LOCATION;VALUE=URI;X-ADDRESS=Barx Parx 8868 S. Eastern Ave. Suite #115 Las Vegas NV 89123 United States;X-APPLE-RADIUS=500;X-TITLE=8868 S. Eastern Ave. Suite #115:geo:-115.1167465,36.0281686
END:VEVENT
BEGIN:VEVENT
DTSTART;TZID=America/Los_Angeles:20260222T140000
DTEND;TZID=America/Los_Angeles:20260222T143000
DTSTAMP:20260425T070421
CREATED:20251226T172627Z
LAST-MODIFIED:20251226T172627Z
UID:10003387-1771768800-1771770600@barxparx.com
SUMMARY:Puppy Socialization
DESCRIPTION:PUPPY SOCIALIZATION | EVERY SUNDAY AT 2PM\nCALLING ALL PUPPIES AGES 8 TO 16 WEEKS OLD \n💚🧡🐾 Only $35 for the 3-week long class. Limited availability. First come\, first served. \nLooking for a fun\, safe\, clean and organized way to help socialize your young pup? 🙋‍♂️🙋‍♀️ Our amazing trainers Stephy and Kacey have got you covered! 💯🐶🐾❤ \nOur super informative 30-minute puppy socialization classes are on Sundays at 2pm! \nSocializing your puppy early is key to ensuring you’ll have a happy\, confident\, and well-adjusted dog for life. \nEmail training@barxparx.com
URL:https://barxparx.com/event/puppy-socialization-2/2026-02-22/
LOCATION:Barx Parx\, 8868 S. Eastern Ave. Suite #115\, Las Vegas\, NV\, 89123\, United States
CATEGORIES:Puppy Socialization,Training
ATTACH;FMTTYPE=image/png:https://barxparx.com/wp-content/uploads/2023/08/puppy_socialization_logo.png
ORGANIZER;CN="Barx Parx":MAILTO:info@barxparx.com
GEO:36.0281686;-115.1167465
X-APPLE-STRUCTURED-LOCATION;VALUE=URI;X-ADDRESS=Barx Parx 8868 S. Eastern Ave. Suite #115 Las Vegas NV 89123 United States;X-APPLE-RADIUS=500;X-TITLE=8868 S. Eastern Ave. Suite #115:geo:-115.1167465,36.0281686
END:VEVENT
END:VCALENDAR