BEGIN:VCALENDAR
VERSION:2.0
PRODID:-//Barx Parx - ECPv6.15.20//NONSGML v1.0//EN
CALSCALE:GREGORIAN
METHOD:PUBLISH
X-ORIGINAL-URL:https://barxparx.com
X-WR-CALDESC:Events for Barx Parx
REFRESH-INTERVAL;VALUE=DURATION:PT1H
X-Robots-Tag:noindex
X-PUBLISHED-TTL:PT1H
BEGIN:VTIMEZONE
TZID:America/Los_Angeles
BEGIN:DAYLIGHT
TZOFFSETFROM:-0800
TZOFFSETTO:-0700
TZNAME:PDT
DTSTART:20250309T100000
END:DAYLIGHT
BEGIN:STANDARD
TZOFFSETFROM:-0700
TZOFFSETTO:-0800
TZNAME:PST
DTSTART:20251102T090000
END:STANDARD
BEGIN:DAYLIGHT
TZOFFSETFROM:-0800
TZOFFSETTO:-0700
TZNAME:PDT
DTSTART:20260308T100000
END:DAYLIGHT
BEGIN:STANDARD
TZOFFSETFROM:-0700
TZOFFSETTO:-0800
TZNAME:PST
DTSTART:20261101T090000
END:STANDARD
BEGIN:DAYLIGHT
TZOFFSETFROM:-0800
TZOFFSETTO:-0700
TZNAME:PDT
DTSTART:20270314T100000
END:DAYLIGHT
BEGIN:STANDARD
TZOFFSETFROM:-0700
TZOFFSETTO:-0800
TZNAME:PST
DTSTART:20271107T090000
END:STANDARD
END:VTIMEZONE
BEGIN:VEVENT
DTSTART;TZID=America/Los_Angeles:20260426T110000
DTEND;TZID=America/Los_Angeles:20260426T120000
DTSTAMP:20260425T034220
CREATED:20260327T205943Z
LAST-MODIFIED:20260327T210520Z
UID:10003798-1777201200-1777204800@barxparx.com
SUMMARY:Golden Retriever Breed Meetup
DESCRIPTION:🚨🚨🚨 FREE MEMBER EVENT: Calling all Golden Retrievers!!! \n🐾 Let’s have a play date! Join us on 4/26 at 11am when the Golden Retrievers take over Barx Parx! 😍😍 \nGoldens of all ages are specially invited to socialize\, romp and pawty together! 🐶 \nMembership and current vaccines required. No reservation required. Single use day passes can also be purchased for non-members at the normal rate. \n*** ⚠️ If attending the 21+ indoor dog park: All dogs attending must be registered with Barx Parx and have passed their behavior assessment before they can attend. If your pups are not already registered at Barx Parx\, please register at Barxparx.com/register. Membership and current vaccines required. No reservation required. Single use day passes can also be purchased for non-members at the normal rate. *** \nThe Barx Parx indoor dog park and happy hour portion is a 21+ facility.
URL:https://barxparx.com/event/golden-retriever-breed-meetup-2026/
LOCATION:Barx Parx\, 8868 S. Eastern Ave. Suite #115\, Las Vegas\, NV\, 89123\, United States
CATEGORIES:Breed Meetup,Party
ATTACH;FMTTYPE=image/jpeg:https://barxparx.com/wp-content/uploads/2026/03/GoldenMeetup-e1774645411326.jpg
ORGANIZER;CN="Barx Parx":MAILTO:info@barxparx.com
GEO:36.0281686;-115.1167465
X-APPLE-STRUCTURED-LOCATION;VALUE=URI;X-ADDRESS=Barx Parx 8868 S. Eastern Ave. Suite #115 Las Vegas NV 89123 United States;X-APPLE-RADIUS=500;X-TITLE=8868 S. Eastern Ave. Suite #115:geo:-115.1167465,36.0281686
END:VEVENT
BEGIN:VEVENT
DTSTART;TZID=America/Los_Angeles:20260426T140000
DTEND;TZID=America/Los_Angeles:20260426T143000
DTSTAMP:20260425T034220
CREATED:20250108T002213Z
LAST-MODIFIED:20250108T002606Z
UID:10003726-1777212000-1777213800@barxparx.com
SUMMARY:Puppy Socialization
DESCRIPTION:PUPPY SOCIALIZATION | EVERY SUNDAY AT 2PM\nCALLING ALL PUPPIES AGES 8 TO 16 WEEKS OLD \n💚🧡🐾 Only $35 for the 3-week long class. Limited availability. First come\, first served. \nLooking for a fun\, safe\, clean and organized way to help socialize your young pup? 🙋‍♂️🙋‍♀️ Our amazing trainers Stephy and Kacey have got you covered! 💯🐶🐾❤ \nOur super informative 30-minute puppy socialization classes are on Sundays at 2pm! \nSocializing your puppy early is key to ensuring you’ll have a happy\, confident\, and well-adjusted dog for life. \nEmail training@barxparx.com
URL:https://barxparx.com/event/puppy-socialization/2026-04-26/
LOCATION:Barx Parx\, 8868 S. Eastern Ave. Suite #115\, Las Vegas\, NV\, 89123\, United States
CATEGORIES:Puppy Socialization,Training
ATTACH;FMTTYPE=image/png:https://barxparx.com/wp-content/uploads/2023/08/puppy_socialization_logo.png
ORGANIZER;CN="Barx Parx":MAILTO:info@barxparx.com
GEO:36.0281686;-115.1167465
X-APPLE-STRUCTURED-LOCATION;VALUE=URI;X-ADDRESS=Barx Parx 8868 S. Eastern Ave. Suite #115 Las Vegas NV 89123 United States;X-APPLE-RADIUS=500;X-TITLE=8868 S. Eastern Ave. Suite #115:geo:-115.1167465,36.0281686
END:VEVENT
BEGIN:VEVENT
DTSTART;TZID=America/Los_Angeles:20260426T140000
DTEND;TZID=America/Los_Angeles:20260426T143000
DTSTAMP:20260425T034220
CREATED:20251226T172627Z
LAST-MODIFIED:20251226T172627Z
UID:10003396-1777212000-1777213800@barxparx.com
SUMMARY:Puppy Socialization
DESCRIPTION:PUPPY SOCIALIZATION | EVERY SUNDAY AT 2PM\nCALLING ALL PUPPIES AGES 8 TO 16 WEEKS OLD \n💚🧡🐾 Only $35 for the 3-week long class. Limited availability. First come\, first served. \nLooking for a fun\, safe\, clean and organized way to help socialize your young pup? 🙋‍♂️🙋‍♀️ Our amazing trainers Stephy and Kacey have got you covered! 💯🐶🐾❤ \nOur super informative 30-minute puppy socialization classes are on Sundays at 2pm! \nSocializing your puppy early is key to ensuring you’ll have a happy\, confident\, and well-adjusted dog for life. \nEmail training@barxparx.com
URL:https://barxparx.com/event/puppy-socialization-2/2026-04-26/
LOCATION:Barx Parx\, 8868 S. Eastern Ave. Suite #115\, Las Vegas\, NV\, 89123\, United States
CATEGORIES:Puppy Socialization,Training
ATTACH;FMTTYPE=image/png:https://barxparx.com/wp-content/uploads/2023/08/puppy_socialization_logo.png
ORGANIZER;CN="Barx Parx":MAILTO:info@barxparx.com
GEO:36.0281686;-115.1167465
X-APPLE-STRUCTURED-LOCATION;VALUE=URI;X-ADDRESS=Barx Parx 8868 S. Eastern Ave. Suite #115 Las Vegas NV 89123 United States;X-APPLE-RADIUS=500;X-TITLE=8868 S. Eastern Ave. Suite #115:geo:-115.1167465,36.0281686
END:VEVENT
END:VCALENDAR