BEGIN:VCALENDAR
VERSION:2.0
PRODID:-//Barx Parx - ECPv6.15.20//NONSGML v1.0//EN
CALSCALE:GREGORIAN
METHOD:PUBLISH
X-ORIGINAL-URL:https://barxparx.com
X-WR-CALDESC:Events for Barx Parx
REFRESH-INTERVAL;VALUE=DURATION:PT1H
X-Robots-Tag:noindex
X-PUBLISHED-TTL:PT1H
BEGIN:VTIMEZONE
TZID:America/Los_Angeles
BEGIN:DAYLIGHT
TZOFFSETFROM:-0800
TZOFFSETTO:-0700
TZNAME:PDT
DTSTART:20240310T100000
END:DAYLIGHT
BEGIN:STANDARD
TZOFFSETFROM:-0700
TZOFFSETTO:-0800
TZNAME:PST
DTSTART:20241103T090000
END:STANDARD
BEGIN:DAYLIGHT
TZOFFSETFROM:-0800
TZOFFSETTO:-0700
TZNAME:PDT
DTSTART:20250309T100000
END:DAYLIGHT
BEGIN:STANDARD
TZOFFSETFROM:-0700
TZOFFSETTO:-0800
TZNAME:PST
DTSTART:20251102T090000
END:STANDARD
BEGIN:DAYLIGHT
TZOFFSETFROM:-0800
TZOFFSETTO:-0700
TZNAME:PDT
DTSTART:20260308T100000
END:DAYLIGHT
BEGIN:STANDARD
TZOFFSETFROM:-0700
TZOFFSETTO:-0800
TZNAME:PST
DTSTART:20261101T090000
END:STANDARD
BEGIN:DAYLIGHT
TZOFFSETFROM:-0800
TZOFFSETTO:-0700
TZNAME:PDT
DTSTART:20270314T100000
END:DAYLIGHT
BEGIN:STANDARD
TZOFFSETFROM:-0700
TZOFFSETTO:-0800
TZNAME:PST
DTSTART:20271107T090000
END:STANDARD
END:VTIMEZONE
BEGIN:VEVENT
DTSTART;TZID=America/Los_Angeles:20260419T110000
DTEND;TZID=America/Los_Angeles:20260419T120000
DTSTAMP:20260425T101826
CREATED:20260327T210036Z
LAST-MODIFIED:20260327T210517Z
UID:10003806-1776596400-1776600000@barxparx.com
SUMMARY:Small Dog Meetup
DESCRIPTION:🚨🚨🚨 FREE MEMBER EVENT: Calling all Pint Size Pooches!!! 🐾 Let’s have a play date! Join us on 4/19 at 11am when the pint size pooches take over Barx Parx! 😍😍 Pooches 35lbs and under of all ages are specially invited to socialize\, romp and pawty together! 🐶 Membership and current vaccines required. No reservation required. Single use day passes can also be purchased for non-members at the normal rate. *All dogs attending must be registered with Barx Parx and have passed their behavior assessment before they can attend. If your pups are not already registered at Barx Parx\, please register at Barxparx.com/register Barx Parx is a 21+ facility.
URL:https://barxparx.com/event/small-dog-meetup-2026-2/
LOCATION:Barx Parx\, 8868 S. Eastern Ave. Suite #115\, Las Vegas\, NV\, 89123\, United States
CATEGORIES:Breed Meetup,Enrichment,Nevada - Las Vegas,Party
ATTACH;FMTTYPE=image/jpeg:https://barxparx.com/wp-content/uploads/2026/03/SmallDogMeetup-e1774645378171.jpg
ORGANIZER;CN="Barx Parx":MAILTO:info@barxparx.com
GEO:36.0281686;-115.1167465
X-APPLE-STRUCTURED-LOCATION;VALUE=URI;X-ADDRESS=Barx Parx 8868 S. Eastern Ave. Suite #115 Las Vegas NV 89123 United States;X-APPLE-RADIUS=500;X-TITLE=8868 S. Eastern Ave. Suite #115:geo:-115.1167465,36.0281686
END:VEVENT
BEGIN:VEVENT
DTSTART;TZID=America/Los_Angeles:20260222T110000
DTEND;TZID=America/Los_Angeles:20260222T120000
DTSTAMP:20260425T101826
CREATED:20260202T162513Z
LAST-MODIFIED:20260205T002945Z
UID:10003470-1771758000-1771761600@barxparx.com
SUMMARY:Spaniel Breed Meetup 2026
DESCRIPTION:🚨🚨🚨 FREE MEMBER EVENT: Calling all Spaniels!!! 🐾 Let’s have a play date! Join us on 2/22 at 11am when the Spaniels take over Barx Parx! 😍😍 Spaniels of all ages are specially invited to socialize\, romp and pawty together! 🐶Membership and current vaccines required. No reservation required. Single use day passes can also be purchased for non-members at the normal rate. \n*** ⚠️ If attending the 21+ indoor dog park: All dogs attending must be registered with Barx Parx and have passed their behavior assessment before they can attend. If your pups are not already registered at Barx Parx\, please register at Barxparx.com/register. Membership and current vaccines required. No reservation required. Single use day passes can also be purchased for non-members at the normal rate. *** \nThe Barx Parx indoor dog park and happy hour portion is a 21+ facility.
URL:https://barxparx.com/event/spaniel-breed-meetup-2026/
LOCATION:Barx Parx\, 8868 S. Eastern Ave. Suite #115\, Las Vegas\, NV\, 89123\, United States
CATEGORIES:Breed Meetup,Party
ATTACH;FMTTYPE=image/jpeg:https://barxparx.com/wp-content/uploads/2026/02/SpanielMeetup-e1770251364755.jpg
ORGANIZER;CN="Barx Parx":MAILTO:info@barxparx.com
GEO:36.0281686;-115.1167465
X-APPLE-STRUCTURED-LOCATION;VALUE=URI;X-ADDRESS=Barx Parx 8868 S. Eastern Ave. Suite #115 Las Vegas NV 89123 United States;X-APPLE-RADIUS=500;X-TITLE=8868 S. Eastern Ave. Suite #115:geo:-115.1167465,36.0281686
END:VEVENT
BEGIN:VEVENT
DTSTART;TZID=America/Los_Angeles:20260125T110000
DTEND;TZID=America/Los_Angeles:20260125T120000
DTSTAMP:20260425T101826
CREATED:20251229T174621Z
LAST-MODIFIED:20251229T174657Z
UID:10003441-1769338800-1769342400@barxparx.com
SUMMARY:Small Dog Meetup
DESCRIPTION:🚨🚨🚨 FREE MEMBER EVENT: Calling all Pint Size Pooches!!! 🐾 Let’s have a play date! Join us on 1/25 at 11am when the pint size pooches take over Barx Parx! 😍😍 Pooches 35lbs and under of all ages are specially invited to socialize\, romp and pawty together! 🐶 Membership and current vaccines required. No reservation required. Single use day passes can also be purchased for non-members at the normal rate. *All dogs attending must be registered with Barx Parx and have passed their behavior assessment before they can attend. If your pups are not already registered at Barx Parx\, please register at Barxparx.com/register Barx Parx is a 21+ facility.
URL:https://barxparx.com/event/small-dog-meetup-2026/
LOCATION:Barx Parx\, 8868 S. Eastern Ave. Suite #115\, Las Vegas\, NV\, 89123\, United States
CATEGORIES:Breed Meetup,Enrichment,Nevada - Las Vegas,Party
ATTACH;FMTTYPE=image/jpeg:https://barxparx.com/wp-content/uploads/2025/12/SmallDogMeetup-e1767030371897.jpg
ORGANIZER;CN="Barx Parx":MAILTO:info@barxparx.com
GEO:36.0281686;-115.1167465
X-APPLE-STRUCTURED-LOCATION;VALUE=URI;X-ADDRESS=Barx Parx 8868 S. Eastern Ave. Suite #115 Las Vegas NV 89123 United States;X-APPLE-RADIUS=500;X-TITLE=8868 S. Eastern Ave. Suite #115:geo:-115.1167465,36.0281686
END:VEVENT
BEGIN:VEVENT
DTSTART;TZID=America/Los_Angeles:20251130T110000
DTEND;TZID=America/Los_Angeles:20251130T120000
DTSTAMP:20260425T101826
CREATED:20251030T171732Z
LAST-MODIFIED:20251030T172048Z
UID:10003262-1764500400-1764504000@barxparx.com
SUMMARY:Pittie Pawty - Pittie Breed Dog Meetup - FREE Member Event!
DESCRIPTION:🚨🚨🚨 FREE MEMBER EVENT: Calling all Pitties and Pittie mixes!!! \n🐾 Let’s have a play date! Join us on 11/30 at 11am when the labs take over Barx Parx! 😍😍 \nPitties and pittie mixes of all ages are specially invited to socialize\, romp and play together! 🐶 \nMembership and current vaccines required. No reservation required. Single use day passes can also be purchased for non-members at the normal rate. \n*** ⚠️ If attending the 21+ indoor dog park: All dogs attending must be registered with Barx Parx and have passed their behavior assessment before they can attend. If your pups are not already registered at Barx Parx\, please register at Barxparx.com/register. Membership and current vaccines required. No reservation required. Single use day passes can also be purchased for non-members at the normal rate. *** \nThe Barx Parx indoor dog park and happy hour portion is a 21+ facility.
URL:https://barxparx.com/event/pittie-pawty-pittie-breed-dog-meetup-free-member-event-2025/
LOCATION:Barx Parx\, 8868 S. Eastern Ave. Suite #115\, Las Vegas\, NV\, 89123\, United States
CATEGORIES:Breed Meetup,Community,Enrichment,Nevada - Las Vegas
ATTACH;FMTTYPE=image/jpeg:https://barxparx.com/wp-content/uploads/2025/10/Pittie-Meetup-e1761844830269.jpg
ORGANIZER;CN="Barx Parx":MAILTO:info@barxparx.com
GEO:36.0281686;-115.1167465
X-APPLE-STRUCTURED-LOCATION;VALUE=URI;X-ADDRESS=Barx Parx 8868 S. Eastern Ave. Suite #115 Las Vegas NV 89123 United States;X-APPLE-RADIUS=500;X-TITLE=8868 S. Eastern Ave. Suite #115:geo:-115.1167465,36.0281686
END:VEVENT
BEGIN:VEVENT
DTSTART;TZID=America/Los_Angeles:20250928T110000
DTEND;TZID=America/Los_Angeles:20250928T120000
DTSTAMP:20260425T101826
CREATED:20250828T175916Z
LAST-MODIFIED:20250828T175916Z
UID:10003058-1759057200-1759060800@barxparx.com
SUMMARY:Labrador Breed Dog Meetup - FREE Member Event!
DESCRIPTION:🚨🚨🚨 FREE MEMBER EVENT: Calling all Labradors!!! \n🐾 Let’s have a play date! Join us on 9/28 at 11am when the labs take over Barx Parx! 😍😍 \nLabradors of all ages are specially invited to socialize\, romp and play together! 🐶 \nMembership and current vaccines required. No reservation required. Single use day passes can also be purchased for non-members at the normal rate. \n*** ⚠️ If attending the 21+ indoor dog park: All dogs attending must be registered with Barx Parx and have passed their behavior assessment before they can attend. If your pups are not already registered at Barx Parx\, please register at Barxparx.com/register. Membership and current vaccines required. No reservation required. Single use day passes can also be purchased for non-members at the normal rate. ***\nThe Barx Parx indoor dog park and happy hour portion is a 21+ facility.
URL:https://barxparx.com/event/labrador-breed-dog-meetup-free-member-event-2/
LOCATION:Barx Parx\, 8868 S. Eastern Ave. Suite #115\, Las Vegas\, NV\, 89123\, United States
CATEGORIES:Breed Meetup,Nevada - Las Vegas,Party
ATTACH;FMTTYPE=image/jpeg:https://barxparx.com/wp-content/uploads/2025/08/LabBreedMeetup-e1756403947877.jpg
ORGANIZER;CN="Barx Parx":MAILTO:info@barxparx.com
GEO:36.0281686;-115.1167465
X-APPLE-STRUCTURED-LOCATION;VALUE=URI;X-ADDRESS=Barx Parx 8868 S. Eastern Ave. Suite #115 Las Vegas NV 89123 United States;X-APPLE-RADIUS=500;X-TITLE=8868 S. Eastern Ave. Suite #115:geo:-115.1167465,36.0281686
END:VEVENT
BEGIN:VEVENT
DTSTART;TZID=America/Los_Angeles:20250817T110000
DTEND;TZID=America/Los_Angeles:20250817T120000
DTSTAMP:20260425T101826
CREATED:20250728T182449Z
LAST-MODIFIED:20250801T190213Z
UID:10002988-1755428400-1755432000@barxparx.com
SUMMARY:Large Breed Dog Meetup - FREE Member Event!
DESCRIPTION:🚨🚨🚨 FREE MEMBER EVENT: Calling all Big Dogs!!! \n🐾 Let’s have a play date! Join us on 8/17 at 11am when the big pups take over Barx Parx! 😍😍 \nBig Dogs >50lbs of all breeds ages are specially invited to socialize\, romp and play together! 🐶 \nMembership and current vaccines required. No reservation required. Single use day passes can also be purchased for non-members at the normal rate. \n*** ⚠️ If attending the 21+ indoor dog park: All dogs attending must be registered with Barx Parx and have passed their behavior assessment before they can attend. If your pups are not already registered at Barx Parx\, please register at Barxparx.com/register. Membership and current vaccines required. No reservation required. Single use day passes can also be purchased for non-members at the normal rate. *** \nThe Barx Parx indoor dog park and happy hour portion is a 21+ facility.
URL:https://barxparx.com/event/large-breed-dog-meetup-free-member-event-2/
LOCATION:Barx Parx\, 8868 S. Eastern Ave. Suite #115\, Las Vegas\, NV\, 89123\, United States
CATEGORIES:Breed Meetup,Party
ATTACH;FMTTYPE=image/jpeg:https://barxparx.com/wp-content/uploads/2025/07/LargeDogBreedMeetup-e1753727690660.jpg
ORGANIZER;CN="Barx Parx":MAILTO:info@barxparx.com
GEO:36.0281686;-115.1167465
X-APPLE-STRUCTURED-LOCATION;VALUE=URI;X-ADDRESS=Barx Parx 8868 S. Eastern Ave. Suite #115 Las Vegas NV 89123 United States;X-APPLE-RADIUS=500;X-TITLE=8868 S. Eastern Ave. Suite #115:geo:-115.1167465,36.0281686
END:VEVENT
BEGIN:VEVENT
DTSTART;TZID=America/Los_Angeles:20250727T110000
DTEND;TZID=America/Los_Angeles:20250727T120000
DTSTAMP:20260425T101826
CREATED:20250627T203844Z
LAST-MODIFIED:20250627T204446Z
UID:10002972-1753614000-1753617600@barxparx.com
SUMMARY:Long Dog Breed Meetup
DESCRIPTION:🚨🚨🚨 FREE MEMBER EVENT: Calling all Long Dog Breeds!!! \n🐾 Let’s have a play date! Join us on 7/27 at 11am when the Doxies\, Corgis and Bassets take over Barx Parx! 😍😍 \nDoxies\, Corgis and Bassets of all ages are specially invited to socialize\, romp and pawty together! 🐶 \nMembership and current vaccines required. No reservation required. Single use day passes can also be purchased for non-members at the normal rate. \n*** ⚠️ If attending the 21+ indoor dog park: All dogs attending must be registered with Barx Parx and have passed their behavior assessment before they can attend. If your pups are not already registered at Barx Parx\, please register at Barxparx.com/register. Membership and current vaccines required. No reservation required. Single use day passes can also be purchased for non-members at the normal rate. *** \nThe Barx Parx indoor dog park and happy hour portion is a 21+ facility.
URL:https://barxparx.com/event/long-dog-breed-meetup/
LOCATION:Barx Parx\, 8868 S. Eastern Ave. Suite #115\, Las Vegas\, NV\, 89123\, United States
CATEGORIES:Breed Meetup,Community,Party
ATTACH;FMTTYPE=image/jpeg:https://barxparx.com/wp-content/uploads/2025/06/LongDogBreedMeetup-e1751057074794.jpg
ORGANIZER;CN="Barx Parx":MAILTO:info@barxparx.com
GEO:36.0281686;-115.1167465
X-APPLE-STRUCTURED-LOCATION;VALUE=URI;X-ADDRESS=Barx Parx 8868 S. Eastern Ave. Suite #115 Las Vegas NV 89123 United States;X-APPLE-RADIUS=500;X-TITLE=8868 S. Eastern Ave. Suite #115:geo:-115.1167465,36.0281686
END:VEVENT
BEGIN:VEVENT
DTSTART;TZID=America/Los_Angeles:20250608T110000
DTEND;TZID=America/Los_Angeles:20250608T120000
DTSTAMP:20260425T101826
CREATED:20250415T150833Z
LAST-MODIFIED:20250529T183058Z
UID:10002920-1749380400-1749384000@barxparx.com
SUMMARY:Boxer Breed Meetup
DESCRIPTION:🚨🚨🚨 FREE MEMBER EVENT: Calling all Boxers!!! \n🐾 Let’s have a play date! Join us on 6/8 at 11am when the Boxers take over Barx Parx! 😍😍 \nBoxers of all ages are specially invited to socialize\, romp and pawty together! 🐶 \nMembership and current vaccines required. No reservation required. Single use day passes can also be purchased for non-members at the normal rate. \n*** ⚠️ If attending the 21+ indoor dog park: All dogs attending must be registered with Barx Parx and have passed their behavior assessment before they can attend. If your pups are not already registered at Barx Parx\, please register at Barxparx.com/register. Membership and current vaccines required. No reservation required. Single use day passes can also be purchased for non-members at the normal rate. *** \nThe Barx Parx indoor dog park and happy hour portion is a 21+ facility.
URL:https://barxparx.com/event/boxer-breed-meetup/
LOCATION:Barx Parx\, 8868 S. Eastern Ave. Suite #115\, Las Vegas\, NV\, 89123\, United States
CATEGORIES:Breed Meetup,Community,Party
ATTACH;FMTTYPE=image/jpeg:https://barxparx.com/wp-content/uploads/2025/04/BoxerBreedMeetup-e1748543443463.jpg
ORGANIZER;CN="Barx Parx":MAILTO:info@barxparx.com
GEO:36.0281686;-115.1167465
X-APPLE-STRUCTURED-LOCATION;VALUE=URI;X-ADDRESS=Barx Parx 8868 S. Eastern Ave. Suite #115 Las Vegas NV 89123 United States;X-APPLE-RADIUS=500;X-TITLE=8868 S. Eastern Ave. Suite #115:geo:-115.1167465,36.0281686
END:VEVENT
BEGIN:VEVENT
DTSTART;TZID=America/Los_Angeles:20250518T110000
DTEND;TZID=America/Los_Angeles:20250518T120000
DTSTAMP:20260425T101826
CREATED:20250415T150821Z
LAST-MODIFIED:20250425T214105Z
UID:10002919-1747566000-1747569600@barxparx.com
SUMMARY:Doodle Breed Meetup
DESCRIPTION:🚨🚨🚨 FREE MEMBER EVENT: Calling all Doodles!!! \n🐾 Let’s have a play date! Join us on 5/18 at 11am when the Doodles take over Barx Parx! 😍😍 \nDoodles of all ages are specially invited to socialize\, romp and pawty together! 🐶 \nMembership and current vaccines required. No reservation required. Single use day passes can also be purchased for non-members at the normal rate. \n*** ⚠️ If attending the 21+ indoor dog park: All dogs attending must be registered with Barx Parx and have passed their behavior assessment before they can attend. If your pups are not already registered at Barx Parx\, please register at Barxparx.com/register. Membership and current vaccines required. No reservation required. Single use day passes can also be purchased for non-members at the normal rate. *** \nThe Barx Parx indoor dog park and happy hour portion is a 21+ facility.
URL:https://barxparx.com/event/doodle-breed-meetup/
LOCATION:Barx Parx\, 8868 S. Eastern Ave. Suite #115\, Las Vegas\, NV\, 89123\, United States
CATEGORIES:Breed Meetup,Community,Party
ATTACH;FMTTYPE=image/jpeg:https://barxparx.com/wp-content/uploads/2025/04/DoodleBreedMeetup-e1745617249519.jpg
ORGANIZER;CN="Barx Parx":MAILTO:info@barxparx.com
GEO:36.0281686;-115.1167465
X-APPLE-STRUCTURED-LOCATION;VALUE=URI;X-ADDRESS=Barx Parx 8868 S. Eastern Ave. Suite #115 Las Vegas NV 89123 United States;X-APPLE-RADIUS=500;X-TITLE=8868 S. Eastern Ave. Suite #115:geo:-115.1167465,36.0281686
END:VEVENT
END:VCALENDAR