BEGIN:VCALENDAR
VERSION:2.0
PRODID:-//Barx Parx - ECPv6.15.20//NONSGML v1.0//EN
CALSCALE:GREGORIAN
METHOD:PUBLISH
X-WR-CALNAME:Barx Parx
X-ORIGINAL-URL:https://barxparx.com
X-WR-CALDESC:Events for Barx Parx
REFRESH-INTERVAL;VALUE=DURATION:PT1H
X-Robots-Tag:noindex
X-PUBLISHED-TTL:PT1H
BEGIN:VTIMEZONE
TZID:America/Los_Angeles
BEGIN:DAYLIGHT
TZOFFSETFROM:-0800
TZOFFSETTO:-0700
TZNAME:PDT
DTSTART:20240310T100000
END:DAYLIGHT
BEGIN:STANDARD
TZOFFSETFROM:-0700
TZOFFSETTO:-0800
TZNAME:PST
DTSTART:20241103T090000
END:STANDARD
BEGIN:DAYLIGHT
TZOFFSETFROM:-0800
TZOFFSETTO:-0700
TZNAME:PDT
DTSTART:20250309T100000
END:DAYLIGHT
BEGIN:STANDARD
TZOFFSETFROM:-0700
TZOFFSETTO:-0800
TZNAME:PST
DTSTART:20251102T090000
END:STANDARD
BEGIN:DAYLIGHT
TZOFFSETFROM:-0800
TZOFFSETTO:-0700
TZNAME:PDT
DTSTART:20260308T100000
END:DAYLIGHT
BEGIN:STANDARD
TZOFFSETFROM:-0700
TZOFFSETTO:-0800
TZNAME:PST
DTSTART:20261101T090000
END:STANDARD
END:VTIMEZONE
BEGIN:VEVENT
DTSTART;TZID=America/Los_Angeles:20251107T160000
DTEND;TZID=America/Los_Angeles:20251107T200000
DTSTAMP:20260425T154055
CREATED:20250208T050024Z
LAST-MODIFIED:20251227T224856Z
UID:10002452-1762531200-1762545600@barxparx.com
SUMMARY:Happy Hour & Dog Park Party
DESCRIPTION:Barx Parx happy hour is a great way to check things out for the first time and spend your Friday evening from 4pm to 8pm with your furry friend! 🍺🍷 Come hang out in our indoor dog park with a variety cold craft beer\, cider\, or wine. Barx Parx is a 21+ venue. \nNo reservations required and entry is free for members and human guests. Support periodic local business pop-up shops\, non-profit partners and other themed evenings. 🐶🎉 \n*** If attending the 21+ indoor dog park: All dogs attending must be registered with Barx Parx and have passed their behavior assessment before they can attend. If your pups are not already registered at Barx Parx\, please register at Barxparx.com/register. Membership and current vaccines required. No reservation required. Single use day passes can also be purchased for non-members at the normal rate. *** \nThe Barx Parx indoor dog park and happy hour portion is a 21+ facility.
URL:https://barxparx.com/event/happy-hour-dog-park-party/2025-11-07/
LOCATION:Barx Parx\, 8868 S. Eastern Ave. Suite #115\, Las Vegas\, NV\, 89123\, United States
CATEGORIES:Community,Happy Hour,Party
ATTACH;FMTTYPE=image/jpeg:https://barxparx.com/wp-content/uploads/2023/02/HHBarSelectionSkinny-scaled-e1680106699108.jpg
ORGANIZER;CN="Barx Parx":MAILTO:info@barxparx.com
GEO:36.0281686;-115.1167465
X-APPLE-STRUCTURED-LOCATION;VALUE=URI;X-ADDRESS=Barx Parx 8868 S. Eastern Ave. Suite #115 Las Vegas NV 89123 United States;X-APPLE-RADIUS=500;X-TITLE=8868 S. Eastern Ave. Suite #115:geo:-115.1167465,36.0281686
END:VEVENT
BEGIN:VEVENT
DTSTART;TZID=America/Los_Angeles:20251114T160000
DTEND;TZID=America/Los_Angeles:20251114T200000
DTSTAMP:20260425T154055
CREATED:20250208T050024Z
LAST-MODIFIED:20251227T224856Z
UID:10002453-1763136000-1763150400@barxparx.com
SUMMARY:Happy Hour & Dog Park Party
DESCRIPTION:Barx Parx happy hour is a great way to check things out for the first time and spend your Friday evening from 4pm to 8pm with your furry friend! 🍺🍷 Come hang out in our indoor dog park with a variety cold craft beer\, cider\, or wine. Barx Parx is a 21+ venue. \nNo reservations required and entry is free for members and human guests. Support periodic local business pop-up shops\, non-profit partners and other themed evenings. 🐶🎉 \n*** If attending the 21+ indoor dog park: All dogs attending must be registered with Barx Parx and have passed their behavior assessment before they can attend. If your pups are not already registered at Barx Parx\, please register at Barxparx.com/register. Membership and current vaccines required. No reservation required. Single use day passes can also be purchased for non-members at the normal rate. *** \nThe Barx Parx indoor dog park and happy hour portion is a 21+ facility.
URL:https://barxparx.com/event/happy-hour-dog-park-party/2025-11-14/
LOCATION:Barx Parx\, 8868 S. Eastern Ave. Suite #115\, Las Vegas\, NV\, 89123\, United States
CATEGORIES:Community,Happy Hour,Party
ATTACH;FMTTYPE=image/jpeg:https://barxparx.com/wp-content/uploads/2023/02/HHBarSelectionSkinny-scaled-e1680106699108.jpg
ORGANIZER;CN="Barx Parx":MAILTO:info@barxparx.com
GEO:36.0281686;-115.1167465
X-APPLE-STRUCTURED-LOCATION;VALUE=URI;X-ADDRESS=Barx Parx 8868 S. Eastern Ave. Suite #115 Las Vegas NV 89123 United States;X-APPLE-RADIUS=500;X-TITLE=8868 S. Eastern Ave. Suite #115:geo:-115.1167465,36.0281686
END:VEVENT
BEGIN:VEVENT
DTSTART;TZID=America/Los_Angeles:20251116T120000
DTEND;TZID=America/Los_Angeles:20251117T230000
DTSTAMP:20260425T154055
CREATED:20251030T164404Z
LAST-MODIFIED:20251030T172123Z
UID:10003255-1763294400-1763420400@barxparx.com
SUMMARY:Kendra Scott Giveback Fundraiser
DESCRIPTION: Kendra Scott Giveback Event\nJoin us at @kendrascott in Downtown Summerlin from 12-2pm on Sunday\, November 16th for an afternoon of shopping\, fun\, and fundraising!  20% of your purchase will go towards the Barx Parx Foundation\, our 501c3 that helps fund local rescues.  Can’t make it in person? Shop Online November 16th and 17th using code GIVEBACK-KIIZZ at checkout to also donate 20% of your purchase back to the Barx Parx Foundation!\n barxparxfoundation.org@barxparxfoundation
URL:https://barxparx.com/event/kendra-scott-giveback-fundraiser-2025/
LOCATION:Kendra Scott\, 1980 Festival Plaza Dr Suite 135\, Las Vegas\, 89135\, United States
CATEGORIES:Community,Fundraiser,Nevada - Las Vegas,Rescue
ATTACH;FMTTYPE=image/png:https://barxparx.com/wp-content/uploads/2025/10/KendraScott-e1761842795628.png
ORGANIZER;CN="Barx Parx":MAILTO:info@barxparx.com
GEO:36.1502016;-115.333229
X-APPLE-STRUCTURED-LOCATION;VALUE=URI;X-ADDRESS=Kendra Scott 1980 Festival Plaza Dr Suite 135 Las Vegas 89135 United States;X-APPLE-RADIUS=500;X-TITLE=1980 Festival Plaza Dr Suite 135:geo:-115.333229,36.1502016
END:VEVENT
BEGIN:VEVENT
DTSTART;TZID=America/Los_Angeles:20251121T160000
DTEND;TZID=America/Los_Angeles:20251121T200000
DTSTAMP:20260425T154055
CREATED:20250208T050024Z
LAST-MODIFIED:20251227T224856Z
UID:10002454-1763740800-1763755200@barxparx.com
SUMMARY:Happy Hour & Dog Park Party
DESCRIPTION:Barx Parx happy hour is a great way to check things out for the first time and spend your Friday evening from 4pm to 8pm with your furry friend! 🍺🍷 Come hang out in our indoor dog park with a variety cold craft beer\, cider\, or wine. Barx Parx is a 21+ venue. \nNo reservations required and entry is free for members and human guests. Support periodic local business pop-up shops\, non-profit partners and other themed evenings. 🐶🎉 \n*** If attending the 21+ indoor dog park: All dogs attending must be registered with Barx Parx and have passed their behavior assessment before they can attend. If your pups are not already registered at Barx Parx\, please register at Barxparx.com/register. Membership and current vaccines required. No reservation required. Single use day passes can also be purchased for non-members at the normal rate. *** \nThe Barx Parx indoor dog park and happy hour portion is a 21+ facility.
URL:https://barxparx.com/event/happy-hour-dog-park-party/2025-11-21/
LOCATION:Barx Parx\, 8868 S. Eastern Ave. Suite #115\, Las Vegas\, NV\, 89123\, United States
CATEGORIES:Community,Happy Hour,Party
ATTACH;FMTTYPE=image/jpeg:https://barxparx.com/wp-content/uploads/2023/02/HHBarSelectionSkinny-scaled-e1680106699108.jpg
ORGANIZER;CN="Barx Parx":MAILTO:info@barxparx.com
GEO:36.0281686;-115.1167465
X-APPLE-STRUCTURED-LOCATION;VALUE=URI;X-ADDRESS=Barx Parx 8868 S. Eastern Ave. Suite #115 Las Vegas NV 89123 United States;X-APPLE-RADIUS=500;X-TITLE=8868 S. Eastern Ave. Suite #115:geo:-115.1167465,36.0281686
END:VEVENT
BEGIN:VEVENT
DTSTART;TZID=America/Los_Angeles:20251128T160000
DTEND;TZID=America/Los_Angeles:20251128T200000
DTSTAMP:20260425T154055
CREATED:20250208T050024Z
LAST-MODIFIED:20251227T224856Z
UID:10002455-1764345600-1764360000@barxparx.com
SUMMARY:Happy Hour & Dog Park Party
DESCRIPTION:Barx Parx happy hour is a great way to check things out for the first time and spend your Friday evening from 4pm to 8pm with your furry friend! 🍺🍷 Come hang out in our indoor dog park with a variety cold craft beer\, cider\, or wine. Barx Parx is a 21+ venue. \nNo reservations required and entry is free for members and human guests. Support periodic local business pop-up shops\, non-profit partners and other themed evenings. 🐶🎉 \n*** If attending the 21+ indoor dog park: All dogs attending must be registered with Barx Parx and have passed their behavior assessment before they can attend. If your pups are not already registered at Barx Parx\, please register at Barxparx.com/register. Membership and current vaccines required. No reservation required. Single use day passes can also be purchased for non-members at the normal rate. *** \nThe Barx Parx indoor dog park and happy hour portion is a 21+ facility.
URL:https://barxparx.com/event/happy-hour-dog-park-party/2025-11-28/
LOCATION:Barx Parx\, 8868 S. Eastern Ave. Suite #115\, Las Vegas\, NV\, 89123\, United States
CATEGORIES:Community,Happy Hour,Party
ATTACH;FMTTYPE=image/jpeg:https://barxparx.com/wp-content/uploads/2023/02/HHBarSelectionSkinny-scaled-e1680106699108.jpg
ORGANIZER;CN="Barx Parx":MAILTO:info@barxparx.com
GEO:36.0281686;-115.1167465
X-APPLE-STRUCTURED-LOCATION;VALUE=URI;X-ADDRESS=Barx Parx 8868 S. Eastern Ave. Suite #115 Las Vegas NV 89123 United States;X-APPLE-RADIUS=500;X-TITLE=8868 S. Eastern Ave. Suite #115:geo:-115.1167465,36.0281686
END:VEVENT
BEGIN:VEVENT
DTSTART;TZID=America/Los_Angeles:20251130T110000
DTEND;TZID=America/Los_Angeles:20251130T120000
DTSTAMP:20260425T154055
CREATED:20251030T171732Z
LAST-MODIFIED:20251030T172048Z
UID:10003262-1764500400-1764504000@barxparx.com
SUMMARY:Pittie Pawty - Pittie Breed Dog Meetup - FREE Member Event!
DESCRIPTION:🚨🚨🚨 FREE MEMBER EVENT: Calling all Pitties and Pittie mixes!!! \n🐾 Let’s have a play date! Join us on 11/30 at 11am when the labs take over Barx Parx! 😍😍 \nPitties and pittie mixes of all ages are specially invited to socialize\, romp and play together! 🐶 \nMembership and current vaccines required. No reservation required. Single use day passes can also be purchased for non-members at the normal rate. \n*** ⚠️ If attending the 21+ indoor dog park: All dogs attending must be registered with Barx Parx and have passed their behavior assessment before they can attend. If your pups are not already registered at Barx Parx\, please register at Barxparx.com/register. Membership and current vaccines required. No reservation required. Single use day passes can also be purchased for non-members at the normal rate. *** \nThe Barx Parx indoor dog park and happy hour portion is a 21+ facility.
URL:https://barxparx.com/event/pittie-pawty-pittie-breed-dog-meetup-free-member-event-2025/
LOCATION:Barx Parx\, 8868 S. Eastern Ave. Suite #115\, Las Vegas\, NV\, 89123\, United States
CATEGORIES:Breed Meetup,Community,Enrichment,Nevada - Las Vegas
ATTACH;FMTTYPE=image/jpeg:https://barxparx.com/wp-content/uploads/2025/10/Pittie-Meetup-e1761844830269.jpg
ORGANIZER;CN="Barx Parx":MAILTO:info@barxparx.com
GEO:36.0281686;-115.1167465
X-APPLE-STRUCTURED-LOCATION;VALUE=URI;X-ADDRESS=Barx Parx 8868 S. Eastern Ave. Suite #115 Las Vegas NV 89123 United States;X-APPLE-RADIUS=500;X-TITLE=8868 S. Eastern Ave. Suite #115:geo:-115.1167465,36.0281686
END:VEVENT
END:VCALENDAR