BEGIN:VCALENDAR
VERSION:2.0
PRODID:-//Barx Parx - ECPv6.15.20//NONSGML v1.0//EN
CALSCALE:GREGORIAN
METHOD:PUBLISH
X-WR-CALNAME:Barx Parx
X-ORIGINAL-URL:https://barxparx.com
X-WR-CALDESC:Events for Barx Parx
REFRESH-INTERVAL;VALUE=DURATION:PT1H
X-Robots-Tag:noindex
X-PUBLISHED-TTL:PT1H
BEGIN:VTIMEZONE
TZID:America/Los_Angeles
BEGIN:DAYLIGHT
TZOFFSETFROM:-0800
TZOFFSETTO:-0700
TZNAME:PDT
DTSTART:20250309T100000
END:DAYLIGHT
BEGIN:STANDARD
TZOFFSETFROM:-0700
TZOFFSETTO:-0800
TZNAME:PST
DTSTART:20251102T090000
END:STANDARD
BEGIN:DAYLIGHT
TZOFFSETFROM:-0800
TZOFFSETTO:-0700
TZNAME:PDT
DTSTART:20260308T100000
END:DAYLIGHT
BEGIN:STANDARD
TZOFFSETFROM:-0700
TZOFFSETTO:-0800
TZNAME:PST
DTSTART:20261101T090000
END:STANDARD
BEGIN:DAYLIGHT
TZOFFSETFROM:-0800
TZOFFSETTO:-0700
TZNAME:PDT
DTSTART:20270314T100000
END:DAYLIGHT
BEGIN:STANDARD
TZOFFSETFROM:-0700
TZOFFSETTO:-0800
TZNAME:PST
DTSTART:20271107T090000
END:STANDARD
END:VTIMEZONE
BEGIN:VEVENT
DTSTART;TZID=America/Los_Angeles:20260505T180000
DTEND;TZID=America/Los_Angeles:20260505T200000
DTSTAMP:20260425T091235
CREATED:20260306T222424Z
LAST-MODIFIED:20260306T222730Z
UID:10003666-1778004000-1778011200@barxparx.com
SUMMARY:Chicken N Pickle Giveback Night Benefiting The Barx Parx Foundation
DESCRIPTION:Chicken N Pickle Giveback Night\nBenefiting The Barx Parx Foundation \nTuesday\, May 5th | 6pm to 8pm\n3381 St Rose Pkwy Henderson\, NV 89052 \n10% of all food and drink purchases will be donated back to the Barx Parx Foundation! \n🐶❤️🐾 \n 
URL:https://barxparx.com/event/chicken-n-pickle-giveback-night-benefiting-the-barx-parx-foundation-2026/
LOCATION:Chicken N Pickle\, 3381 St Rose Pkwy\, Henderson\, 89052\, United States
CATEGORIES:Community,Fundraiser,Informational,Nevada - Las Vegas
ATTACH;FMTTYPE=image/png:https://barxparx.com/wp-content/uploads/2026/03/CNP-e1772836012998.png
ORGANIZER;CN="Barx Parx":MAILTO:info@barxparx.com
GEO:35.9850732;-115.1447151
X-APPLE-STRUCTURED-LOCATION;VALUE=URI;X-ADDRESS=Chicken N Pickle 3381 St Rose Pkwy Henderson 89052 United States;X-APPLE-RADIUS=500;X-TITLE=3381 St Rose Pkwy:geo:-115.1447151,35.9850732
END:VEVENT
END:VCALENDAR