BEGIN:VCALENDAR
VERSION:2.0
PRODID:-//Barx Parx - ECPv6.15.20//NONSGML v1.0//EN
CALSCALE:GREGORIAN
METHOD:PUBLISH
X-WR-CALNAME:Barx Parx
X-ORIGINAL-URL:https://barxparx.com
X-WR-CALDESC:Events for Barx Parx
REFRESH-INTERVAL;VALUE=DURATION:PT1H
X-Robots-Tag:noindex
X-PUBLISHED-TTL:PT1H
BEGIN:VTIMEZONE
TZID:America/Los_Angeles
BEGIN:DAYLIGHT
TZOFFSETFROM:-0800
TZOFFSETTO:-0700
TZNAME:PDT
DTSTART:20240310T100000
END:DAYLIGHT
BEGIN:STANDARD
TZOFFSETFROM:-0700
TZOFFSETTO:-0800
TZNAME:PST
DTSTART:20241103T090000
END:STANDARD
BEGIN:DAYLIGHT
TZOFFSETFROM:-0800
TZOFFSETTO:-0700
TZNAME:PDT
DTSTART:20250309T100000
END:DAYLIGHT
BEGIN:STANDARD
TZOFFSETFROM:-0700
TZOFFSETTO:-0800
TZNAME:PST
DTSTART:20251102T090000
END:STANDARD
BEGIN:DAYLIGHT
TZOFFSETFROM:-0800
TZOFFSETTO:-0700
TZNAME:PDT
DTSTART:20260308T100000
END:DAYLIGHT
BEGIN:STANDARD
TZOFFSETFROM:-0700
TZOFFSETTO:-0800
TZNAME:PST
DTSTART:20261101T090000
END:STANDARD
END:VTIMEZONE
BEGIN:VEVENT
DTSTART;TZID=America/Los_Angeles:20251005T080000
DTEND;TZID=America/Los_Angeles:20251005T120000
DTSTAMP:20260425T171748
CREATED:20250929T191518Z
LAST-MODIFIED:20250930T151631Z
UID:10003072-1759651200-1759665600@barxparx.com
SUMMARY:Barktoberfest During Daycare
DESCRIPTION:🍻🐶🥨 Sunday\, October 5th 8am-12pm during daycare! Have your pups join us for Barktoberfest at daycare! All attending pups will be able to enjoy some dog beer and pretzels! **** 8am to 12pm. Must RSVP and stay 4+ hours. Limited availability. First come\, first served. Text 702-518-6439 to reserve your pup’s spot today. **** 💚🧡 Next steps for any new dogs who want to attend Barx Parx: Register your pup(s) at barxparx.com/register.
URL:https://barxparx.com/event/barktoberfest-during-daycare-2025/
LOCATION:Barx Parx\, 8868 S. Eastern Ave. Suite #115\, Las Vegas\, NV\, 89123\, United States
CATEGORIES:Enrichment,Holiday Event,Nevada - Las Vegas,Party
ATTACH;FMTTYPE=image/jpeg:https://barxparx.com/wp-content/uploads/2025/09/Barktoberfest-e1759173303662.jpg
ORGANIZER;CN="Barx Parx":MAILTO:info@barxparx.com
GEO:36.0281686;-115.1167465
X-APPLE-STRUCTURED-LOCATION;VALUE=URI;X-ADDRESS=Barx Parx 8868 S. Eastern Ave. Suite #115 Las Vegas NV 89123 United States;X-APPLE-RADIUS=500;X-TITLE=8868 S. Eastern Ave. Suite #115:geo:-115.1167465,36.0281686
END:VEVENT
BEGIN:VEVENT
DTSTART;TZID=America/Los_Angeles:20251012T110000
DTEND;TZID=America/Los_Angeles:20251012T120000
DTSTAMP:20260425T171748
CREATED:20250929T193018Z
LAST-MODIFIED:20250930T151639Z
UID:10003235-1760266800-1760270400@barxparx.com
SUMMARY:Storm's Form Yoga
DESCRIPTION:Storm’s Form\n🎃 SPOOKY THEMED 👻\nSunday\, 10/12 at 11am \n$20 Per Person | 21+ Event\nAssessed Dogs Welcome To Attend! \nWant to relax with your dog AND do some yoga? 🧘🐶❤️\nCome join Michelle and Storm for some relaxing Yin Yoga. Yin Yoga is slow paced and guided and focuses on holding poses for longer periods of time to fully stretch the muscles. This class is for any and all levels from beginner to advanced\, with modifications given to anyone who might need. Throughout the class we will be incorporating our pups in to poses and holds. Whether you are new to yoga or been practicing for a while\, come try Storm’s Form at Barx Parx. \nEmail bri@barxparx.com to sign up!
URL:https://barxparx.com/event/storms-form-yoga-10-2025/
LOCATION:Barx Parx\, 8868 S. Eastern Ave. Suite #115\, Las Vegas\, NV\, 89123\, United States
CATEGORIES:Enrichment,Holiday Event,Nevada - Las Vegas,Storm's Form
ATTACH;FMTTYPE=image/jpeg:https://barxparx.com/wp-content/uploads/2025/09/October-Storms-Form-e1759174211153.jpg
ORGANIZER;CN="Barx Parx":MAILTO:info@barxparx.com
GEO:36.0281686;-115.1167465
X-APPLE-STRUCTURED-LOCATION;VALUE=URI;X-ADDRESS=Barx Parx 8868 S. Eastern Ave. Suite #115 Las Vegas NV 89123 United States;X-APPLE-RADIUS=500;X-TITLE=8868 S. Eastern Ave. Suite #115:geo:-115.1167465,36.0281686
END:VEVENT
END:VCALENDAR