BEGIN:VCALENDAR
VERSION:2.0
PRODID:-//Barx Parx - ECPv6.15.20//NONSGML v1.0//EN
CALSCALE:GREGORIAN
METHOD:PUBLISH
X-ORIGINAL-URL:https://barxparx.com
X-WR-CALDESC:Events for Barx Parx
REFRESH-INTERVAL;VALUE=DURATION:PT1H
X-Robots-Tag:noindex
X-PUBLISHED-TTL:PT1H
BEGIN:VTIMEZONE
TZID:America/Los_Angeles
BEGIN:DAYLIGHT
TZOFFSETFROM:-0800
TZOFFSETTO:-0700
TZNAME:PDT
DTSTART:20240310T100000
END:DAYLIGHT
BEGIN:STANDARD
TZOFFSETFROM:-0700
TZOFFSETTO:-0800
TZNAME:PST
DTSTART:20241103T090000
END:STANDARD
BEGIN:DAYLIGHT
TZOFFSETFROM:-0800
TZOFFSETTO:-0700
TZNAME:PDT
DTSTART:20250309T100000
END:DAYLIGHT
BEGIN:STANDARD
TZOFFSETFROM:-0700
TZOFFSETTO:-0800
TZNAME:PST
DTSTART:20251102T090000
END:STANDARD
BEGIN:DAYLIGHT
TZOFFSETFROM:-0800
TZOFFSETTO:-0700
TZNAME:PDT
DTSTART:20260308T100000
END:DAYLIGHT
BEGIN:STANDARD
TZOFFSETFROM:-0700
TZOFFSETTO:-0800
TZNAME:PST
DTSTART:20261101T090000
END:STANDARD
END:VTIMEZONE
BEGIN:VEVENT
DTSTART;TZID=America/Los_Angeles:20250728T060000
DTEND;TZID=America/Los_Angeles:20250728T100000
DTSTAMP:20260425T091617
CREATED:20250627T203425Z
LAST-MODIFIED:20250627T203425Z
UID:10002970-1753682400-1753696800@barxparx.com
SUMMARY:Watermelon Day During Daycare
DESCRIPTION:YUM! 🍉🍉🍉 FREE watermelon snacks for daycare dogs on the morning of Monday\, 7/28 from 6am to 10am! Must RSVP and stay 4+ hours. Limited availability. First come\, first served. Text 702-518-6439 to reserve your pup’s spot today.
URL:https://barxparx.com/event/watermelon-day-during-daycare-2/
LOCATION:Barx Parx\, 8868 S. Eastern Ave. Suite #115\, Las Vegas\, NV\, 89123\, United States
CATEGORIES:Enrichment,Party
ATTACH;FMTTYPE=image/jpeg:https://barxparx.com/wp-content/uploads/2025/06/WatermelonDay2025-e1751056454607.jpg
ORGANIZER;CN="Barx Parx":MAILTO:info@barxparx.com
GEO:36.0281686;-115.1167465
X-APPLE-STRUCTURED-LOCATION;VALUE=URI;X-ADDRESS=Barx Parx 8868 S. Eastern Ave. Suite #115 Las Vegas NV 89123 United States;X-APPLE-RADIUS=500;X-TITLE=8868 S. Eastern Ave. Suite #115:geo:-115.1167465,36.0281686
END:VEVENT
BEGIN:VEVENT
DTSTART;TZID=America/Los_Angeles:20250707T060000
DTEND;TZID=America/Los_Angeles:20250707T100000
DTSTAMP:20260425T091617
CREATED:20250627T203427Z
LAST-MODIFIED:20250627T203427Z
UID:10002971-1751868000-1751882400@barxparx.com
SUMMARY:Bubble Day During Daycare
DESCRIPTION:FREE bubble play fun for daycare dogs on the morning of Monday\, 7/7 from 6am to 10am! Must RSVP and stay 4+ hours. Limited availability. First come\, first served. Text 702-518-6439 to reserve your pup’s spot today.
URL:https://barxparx.com/event/bubble-day-during-daycare-2/
LOCATION:Barx Parx\, 8868 S. Eastern Ave. Suite #115\, Las Vegas\, NV\, 89123\, United States
CATEGORIES:Enrichment,Party
ATTACH;FMTTYPE=image/jpeg:https://barxparx.com/wp-content/uploads/2025/06/BubbleDay2025-e1751056449609.jpg
ORGANIZER;CN="Barx Parx":MAILTO:info@barxparx.com
GEO:36.0281686;-115.1167465
X-APPLE-STRUCTURED-LOCATION;VALUE=URI;X-ADDRESS=Barx Parx 8868 S. Eastern Ave. Suite #115 Las Vegas NV 89123 United States;X-APPLE-RADIUS=500;X-TITLE=8868 S. Eastern Ave. Suite #115:geo:-115.1167465,36.0281686
END:VEVENT
BEGIN:VEVENT
DTSTART;TZID=America/Los_Angeles:20250601T110000
DTEND;TZID=America/Los_Angeles:20250601T120000
DTSTAMP:20260425T091617
CREATED:20250214T224419Z
LAST-MODIFIED:20250529T183144Z
UID:10002469-1748775600-1748779200@barxparx.com
SUMMARY:Storm's Form Yoga
DESCRIPTION:Storm’s FormSunday\, 6/1 at 11am\n\n$20 Per Person | 21+ EventAssessed Dogs Welcome To Attend!\n\nWant to relax with your dog AND do some yoga?  Come join Michelle and Storm for some relaxing Yin Yoga. Yin Yoga is slow paced and guided and focuses on holding poses for longer periods of time to fully stretch the muscles. This class is for any and all levels from beginner to advanced\, with modifications given to anyone who might need. Throughout the class we will be incorporating our pups in to poses and holds. Whether you are new to yoga or been practicing for a while\, come try Storm’s Form at Barx Parx.\n\nEmail bri@barxparx.com to sign up!
URL:https://barxparx.com/event/storms-form-yoga-12/
LOCATION:Barx Parx\, 8868 S. Eastern Ave. Suite #115\, Las Vegas\, NV\, 89123\, United States
CATEGORIES:Enrichment,Informational,Storm's Form
ATTACH;FMTTYPE=image/jpeg:https://barxparx.com/wp-content/uploads/2025/02/June-Storms-Form-e1748542507188.jpg
ORGANIZER;CN="Barx Parx":MAILTO:info@barxparx.com
GEO:36.0281686;-115.1167465
X-APPLE-STRUCTURED-LOCATION;VALUE=URI;X-ADDRESS=Barx Parx 8868 S. Eastern Ave. Suite #115 Las Vegas NV 89123 United States;X-APPLE-RADIUS=500;X-TITLE=8868 S. Eastern Ave. Suite #115:geo:-115.1167465,36.0281686
END:VEVENT
BEGIN:VEVENT
DTSTART;TZID=America/Los_Angeles:20250504T110000
DTEND;TZID=America/Los_Angeles:20250504T120000
DTSTAMP:20260425T091617
CREATED:20250214T224042Z
LAST-MODIFIED:20250425T214155Z
UID:10002468-1746356400-1746360000@barxparx.com
SUMMARY:Storm's Form Yoga
DESCRIPTION:MAY THE FOURTH THEMED\n\nStorm’s FormSunday\, 5/4 at 11am\n\n$20 Per Person | 21+ EventAssessed Dogs Welcome To Attend!\n\nWant to relax with your dog AND do some yoga?  Come join Michelle and Storm for some relaxing Yin Yoga. Yin Yoga is slow paced and guided and focuses on holding poses for longer periods of time to fully stretch the muscles. This class is for any and all levels from beginner to advanced\, with modifications given to anyone who might need. Throughout the class we will be incorporating our pups in to poses and holds. Whether you are new to yoga or been practicing for a while\, come try Storm’s Form at Barx Parx.\n\nEmail bri@barxparx.com to sign up!
URL:https://barxparx.com/event/storms-form-yoga-11/
LOCATION:Barx Parx\, 8868 S. Eastern Ave. Suite #115\, Las Vegas\, NV\, 89123\, United States
CATEGORIES:Enrichment,Informational,Storm's Form
ATTACH;FMTTYPE=image/jpeg:https://barxparx.com/wp-content/uploads/2025/02/May-Storms-Form-e1745616630321.jpg
ORGANIZER;CN="Barx Parx":MAILTO:info@barxparx.com
GEO:36.0281686;-115.1167465
X-APPLE-STRUCTURED-LOCATION;VALUE=URI;X-ADDRESS=Barx Parx 8868 S. Eastern Ave. Suite #115 Las Vegas NV 89123 United States;X-APPLE-RADIUS=500;X-TITLE=8868 S. Eastern Ave. Suite #115:geo:-115.1167465,36.0281686
END:VEVENT
BEGIN:VEVENT
DTSTART;TZID=America/Los_Angeles:20250428T060000
DTEND;TZID=America/Los_Angeles:20250428T100000
DTSTAMP:20260425T091617
CREATED:20250317T161250Z
LAST-MODIFIED:20250327T155810Z
UID:10002729-1745820000-1745834400@barxparx.com
SUMMARY:$10 Fruit Salad Day During Daycare
DESCRIPTION:$10 Fruit Salad Upgrades 🍓🍌🍏 during daycare on Monday\, 4/28 🐶😋🎉 Mixed fruits will vary and all be dog safe. \n*** 6am to 10am only. Must RSVP and stay 4+ hours. Limited availability\, first come first served. Text 702-518-6439 to RSVP today!*** \n⚠️ All dogs attending must be registered with Barx Parx and have passed their behavior assessment before they can attend. If your pups are not already registered at Barx Parx\, please register at Barxparx.com/register
URL:https://barxparx.com/event/10-fruit-salad-day-during-daycare/
LOCATION:Barx Parx\, 8868 S. Eastern Ave. Suite #115\, Las Vegas\, NV\, 89123\, United States
CATEGORIES:Enrichment,Party
ATTACH;FMTTYPE=image/jpeg:https://barxparx.com/wp-content/uploads/2025/03/FruitSaladDay-e1743091061354.jpg
ORGANIZER;CN="Barx Parx":MAILTO:info@barxparx.com
GEO:36.0281686;-115.1167465
X-APPLE-STRUCTURED-LOCATION;VALUE=URI;X-ADDRESS=Barx Parx 8868 S. Eastern Ave. Suite #115 Las Vegas NV 89123 United States;X-APPLE-RADIUS=500;X-TITLE=8868 S. Eastern Ave. Suite #115:geo:-115.1167465,36.0281686
END:VEVENT
END:VCALENDAR