BEGIN:VCALENDAR
VERSION:2.0
PRODID:-//Barx Parx - ECPv6.15.20//NONSGML v1.0//EN
CALSCALE:GREGORIAN
METHOD:PUBLISH
X-WR-CALNAME:Barx Parx
X-ORIGINAL-URL:https://barxparx.com
X-WR-CALDESC:Events for Barx Parx
REFRESH-INTERVAL;VALUE=DURATION:PT1H
X-Robots-Tag:noindex
X-PUBLISHED-TTL:PT1H
BEGIN:VTIMEZONE
TZID:America/Los_Angeles
BEGIN:DAYLIGHT
TZOFFSETFROM:-0800
TZOFFSETTO:-0700
TZNAME:PDT
DTSTART:20240310T100000
END:DAYLIGHT
BEGIN:STANDARD
TZOFFSETFROM:-0700
TZOFFSETTO:-0800
TZNAME:PST
DTSTART:20241103T090000
END:STANDARD
BEGIN:DAYLIGHT
TZOFFSETFROM:-0800
TZOFFSETTO:-0700
TZNAME:PDT
DTSTART:20250309T100000
END:DAYLIGHT
BEGIN:STANDARD
TZOFFSETFROM:-0700
TZOFFSETTO:-0800
TZNAME:PST
DTSTART:20251102T090000
END:STANDARD
BEGIN:DAYLIGHT
TZOFFSETFROM:-0800
TZOFFSETTO:-0700
TZNAME:PDT
DTSTART:20260308T100000
END:DAYLIGHT
BEGIN:STANDARD
TZOFFSETFROM:-0700
TZOFFSETTO:-0800
TZNAME:PST
DTSTART:20261101T090000
END:STANDARD
END:VTIMEZONE
BEGIN:VEVENT
DTSTART;TZID=America/Los_Angeles:20251016T110000
DTEND;TZID=America/Los_Angeles:20251016T220000
DTSTAMP:20260425T185410
CREATED:20251009T144215Z
LAST-MODIFIED:20251009T145611Z
UID:10003243-1760612400-1760652000@barxparx.com
SUMMARY:Applebee's Fundraiser For The Barx Parx Foundation
DESCRIPTION:Eat To Support! \nAPPLEBEE’S\nThursday\, October 16th\n11am to 10pm\n10305 S. Eastern Ave.\nHenderson\, NV \nDonating back 15% to The Barx Parx Foundation for all ONLINE ORDERS and IN STORE ORDERS and DELIVERY ORDERS \n>> Important: MUST mention The Barx Parx Foundation when ordering << \n(Open to the public! Share this event with all of your family and friends.) \n  \nhttps://www.groupraise.com/events/313453-barx-parx-foundation-at-applebee-s
URL:https://barxparx.com/event/applebees-fundraiser-for-the-barx-parx-foundation/
CATEGORIES:Fundraiser,Nevada - Las Vegas
ATTACH;FMTTYPE=image/png:https://barxparx.com/wp-content/uploads/2025/10/Applebees-e1760020922158.png
ORGANIZER;CN="Barx Parx":MAILTO:info@barxparx.com
END:VEVENT
END:VCALENDAR