BEGIN:VCALENDAR
VERSION:2.0
PRODID:-//Barx Parx - ECPv6.15.20//NONSGML v1.0//EN
CALSCALE:GREGORIAN
METHOD:PUBLISH
X-WR-CALNAME:Barx Parx
X-ORIGINAL-URL:https://barxparx.com
X-WR-CALDESC:Events for Barx Parx
REFRESH-INTERVAL;VALUE=DURATION:PT1H
X-Robots-Tag:noindex
X-PUBLISHED-TTL:PT1H
BEGIN:VTIMEZONE
TZID:America/Los_Angeles
BEGIN:DAYLIGHT
TZOFFSETFROM:-0800
TZOFFSETTO:-0700
TZNAME:PDT
DTSTART:20240310T100000
END:DAYLIGHT
BEGIN:STANDARD
TZOFFSETFROM:-0700
TZOFFSETTO:-0800
TZNAME:PST
DTSTART:20241103T090000
END:STANDARD
BEGIN:DAYLIGHT
TZOFFSETFROM:-0800
TZOFFSETTO:-0700
TZNAME:PDT
DTSTART:20250309T100000
END:DAYLIGHT
BEGIN:STANDARD
TZOFFSETFROM:-0700
TZOFFSETTO:-0800
TZNAME:PST
DTSTART:20251102T090000
END:STANDARD
BEGIN:DAYLIGHT
TZOFFSETFROM:-0800
TZOFFSETTO:-0700
TZNAME:PDT
DTSTART:20260308T100000
END:DAYLIGHT
BEGIN:STANDARD
TZOFFSETFROM:-0700
TZOFFSETTO:-0800
TZNAME:PST
DTSTART:20261101T090000
END:STANDARD
END:VTIMEZONE
BEGIN:VEVENT
DTSTART;VALUE=DATE:20250829
DTEND;VALUE=DATE:20250902
DTSTAMP:20260425T182034
CREATED:20250821T150631Z
LAST-MODIFIED:20250821T151009Z
UID:10003027-1756425600-1756771199@barxparx.com
SUMMARY:Labor Day Weekend Hours
DESCRIPTION:⚠️ Fur-riends\, please note our Labor Day weekend hours. Effective Friday\, Aug 29 – Monday\, Sep 1 Please note the slightly lessened PARK hours to help with our influx of boarders ❤ Otherwise business as usual!! YES\, Friday happy hour will still be happening from 4pm to 8pm but our indoor dog park will close promptly at 8pm. ❤️🤍💙 🇺🇸🐶 Fri/Sat/Sun DOG PARK: 8am – 8pm Mon DOG PARK: 4pm – 8pm DAYCARE & BOARDING: 6am – 10pm (Extremely limited availability. First come\, first served. 25% upcharge for daycare and boarding.)
URL:https://barxparx.com/event/labor-day-weekend-hours-2-copy/
LOCATION:Barx Parx\, 8868 S. Eastern Ave. Suite #115\, Las Vegas\, NV\, 89123\, United States
CATEGORIES:Happy Hour,Holiday Event
ATTACH;FMTTYPE=image/jpeg:https://barxparx.com/wp-content/uploads/2025/08/LaborDayHoursSign2025.jpg
ORGANIZER;CN="Barx Parx":MAILTO:info@barxparx.com
GEO:36.0281686;-115.1167465
X-APPLE-STRUCTURED-LOCATION;VALUE=URI;X-ADDRESS=Barx Parx 8868 S. Eastern Ave. Suite #115 Las Vegas NV 89123 United States;X-APPLE-RADIUS=500;X-TITLE=8868 S. Eastern Ave. Suite #115:geo:-115.1167465,36.0281686
END:VEVENT
BEGIN:VEVENT
DTSTART;VALUE=DATE:20250901
DTEND;VALUE=DATE:20251001
DTSTAMP:20260425T182034
CREATED:20250821T150633Z
LAST-MODIFIED:20250821T151039Z
UID:10003028-1756684800-1759276799@barxparx.com
SUMMARY:Member Appreciation Month
DESCRIPTION:This month we’d like to show all of our amazing members just how much we appreciate YOU! 💚🧡🐾 Thank you for being the best Barx Parx family we ever could have asked for. MEMBERS: PLAY GAMES TO WIN PRIZES\nDURING HAPPY HOUR EVERY FRIDAY IN SEPTEMBER FROM 4PM – 8PM!\n\n\n*Must be an ACTIVE member and current on payments. 21+ facility.\nNew to the club? Here are the next steps: https://barxparx.com/membership-options/ .
URL:https://barxparx.com/event/member-appreciation-month-2-copy/
LOCATION:Barx Parx\, 8868 S. Eastern Ave. Suite #115\, Las Vegas\, NV\, 89123\, United States
CATEGORIES:Happy Hour,Party
ATTACH;FMTTYPE=image/jpeg:https://barxparx.com/wp-content/uploads/2023/08/MemberAppreciationMonthEmail2023-e1724878431207.jpg
ORGANIZER;CN="Barx Parx":MAILTO:info@barxparx.com
GEO:36.0281686;-115.1167465
X-APPLE-STRUCTURED-LOCATION;VALUE=URI;X-ADDRESS=Barx Parx 8868 S. Eastern Ave. Suite #115 Las Vegas NV 89123 United States;X-APPLE-RADIUS=500;X-TITLE=8868 S. Eastern Ave. Suite #115:geo:-115.1167465,36.0281686
END:VEVENT
BEGIN:VEVENT
DTSTART;TZID=America/Los_Angeles:20250905T160000
DTEND;TZID=America/Los_Angeles:20250905T200000
DTSTAMP:20260425T182034
CREATED:20250208T050024Z
LAST-MODIFIED:20251227T224856Z
UID:10002443-1757088000-1757102400@barxparx.com
SUMMARY:Happy Hour & Dog Park Party
DESCRIPTION:Barx Parx happy hour is a great way to check things out for the first time and spend your Friday evening from 4pm to 8pm with your furry friend! 🍺🍷 Come hang out in our indoor dog park with a variety cold craft beer\, cider\, or wine. Barx Parx is a 21+ venue. \nNo reservations required and entry is free for members and human guests. Support periodic local business pop-up shops\, non-profit partners and other themed evenings. 🐶🎉 \n*** If attending the 21+ indoor dog park: All dogs attending must be registered with Barx Parx and have passed their behavior assessment before they can attend. If your pups are not already registered at Barx Parx\, please register at Barxparx.com/register. Membership and current vaccines required. No reservation required. Single use day passes can also be purchased for non-members at the normal rate. *** \nThe Barx Parx indoor dog park and happy hour portion is a 21+ facility.
URL:https://barxparx.com/event/happy-hour-dog-park-party/2025-09-05/
LOCATION:Barx Parx\, 8868 S. Eastern Ave. Suite #115\, Las Vegas\, NV\, 89123\, United States
CATEGORIES:Community,Happy Hour,Party
ATTACH;FMTTYPE=image/jpeg:https://barxparx.com/wp-content/uploads/2023/02/HHBarSelectionSkinny-scaled-e1680106699108.jpg
ORGANIZER;CN="Barx Parx":MAILTO:info@barxparx.com
GEO:36.0281686;-115.1167465
X-APPLE-STRUCTURED-LOCATION;VALUE=URI;X-ADDRESS=Barx Parx 8868 S. Eastern Ave. Suite #115 Las Vegas NV 89123 United States;X-APPLE-RADIUS=500;X-TITLE=8868 S. Eastern Ave. Suite #115:geo:-115.1167465,36.0281686
END:VEVENT
BEGIN:VEVENT
DTSTART;TZID=America/Los_Angeles:20250912T160000
DTEND;TZID=America/Los_Angeles:20250912T200000
DTSTAMP:20260425T182034
CREATED:20250208T050024Z
LAST-MODIFIED:20251227T224856Z
UID:10002444-1757692800-1757707200@barxparx.com
SUMMARY:Happy Hour & Dog Park Party
DESCRIPTION:Barx Parx happy hour is a great way to check things out for the first time and spend your Friday evening from 4pm to 8pm with your furry friend! 🍺🍷 Come hang out in our indoor dog park with a variety cold craft beer\, cider\, or wine. Barx Parx is a 21+ venue. \nNo reservations required and entry is free for members and human guests. Support periodic local business pop-up shops\, non-profit partners and other themed evenings. 🐶🎉 \n*** If attending the 21+ indoor dog park: All dogs attending must be registered with Barx Parx and have passed their behavior assessment before they can attend. If your pups are not already registered at Barx Parx\, please register at Barxparx.com/register. Membership and current vaccines required. No reservation required. Single use day passes can also be purchased for non-members at the normal rate. *** \nThe Barx Parx indoor dog park and happy hour portion is a 21+ facility.
URL:https://barxparx.com/event/happy-hour-dog-park-party/2025-09-12/
LOCATION:Barx Parx\, 8868 S. Eastern Ave. Suite #115\, Las Vegas\, NV\, 89123\, United States
CATEGORIES:Community,Happy Hour,Party
ATTACH;FMTTYPE=image/jpeg:https://barxparx.com/wp-content/uploads/2023/02/HHBarSelectionSkinny-scaled-e1680106699108.jpg
ORGANIZER;CN="Barx Parx":MAILTO:info@barxparx.com
GEO:36.0281686;-115.1167465
X-APPLE-STRUCTURED-LOCATION;VALUE=URI;X-ADDRESS=Barx Parx 8868 S. Eastern Ave. Suite #115 Las Vegas NV 89123 United States;X-APPLE-RADIUS=500;X-TITLE=8868 S. Eastern Ave. Suite #115:geo:-115.1167465,36.0281686
END:VEVENT
BEGIN:VEVENT
DTSTART;TZID=America/Los_Angeles:20250919T160000
DTEND;TZID=America/Los_Angeles:20250919T200000
DTSTAMP:20260425T182034
CREATED:20250208T050024Z
LAST-MODIFIED:20251227T224856Z
UID:10002445-1758297600-1758312000@barxparx.com
SUMMARY:Happy Hour & Dog Park Party
DESCRIPTION:Barx Parx happy hour is a great way to check things out for the first time and spend your Friday evening from 4pm to 8pm with your furry friend! 🍺🍷 Come hang out in our indoor dog park with a variety cold craft beer\, cider\, or wine. Barx Parx is a 21+ venue. \nNo reservations required and entry is free for members and human guests. Support periodic local business pop-up shops\, non-profit partners and other themed evenings. 🐶🎉 \n*** If attending the 21+ indoor dog park: All dogs attending must be registered with Barx Parx and have passed their behavior assessment before they can attend. If your pups are not already registered at Barx Parx\, please register at Barxparx.com/register. Membership and current vaccines required. No reservation required. Single use day passes can also be purchased for non-members at the normal rate. *** \nThe Barx Parx indoor dog park and happy hour portion is a 21+ facility.
URL:https://barxparx.com/event/happy-hour-dog-park-party/2025-09-19/
LOCATION:Barx Parx\, 8868 S. Eastern Ave. Suite #115\, Las Vegas\, NV\, 89123\, United States
CATEGORIES:Community,Happy Hour,Party
ATTACH;FMTTYPE=image/jpeg:https://barxparx.com/wp-content/uploads/2023/02/HHBarSelectionSkinny-scaled-e1680106699108.jpg
ORGANIZER;CN="Barx Parx":MAILTO:info@barxparx.com
GEO:36.0281686;-115.1167465
X-APPLE-STRUCTURED-LOCATION;VALUE=URI;X-ADDRESS=Barx Parx 8868 S. Eastern Ave. Suite #115 Las Vegas NV 89123 United States;X-APPLE-RADIUS=500;X-TITLE=8868 S. Eastern Ave. Suite #115:geo:-115.1167465,36.0281686
END:VEVENT
BEGIN:VEVENT
DTSTART;TZID=America/Los_Angeles:20250926T160000
DTEND;TZID=America/Los_Angeles:20250926T200000
DTSTAMP:20260425T182034
CREATED:20250208T050024Z
LAST-MODIFIED:20251227T224856Z
UID:10002446-1758902400-1758916800@barxparx.com
SUMMARY:Happy Hour & Dog Park Party
DESCRIPTION:Barx Parx happy hour is a great way to check things out for the first time and spend your Friday evening from 4pm to 8pm with your furry friend! 🍺🍷 Come hang out in our indoor dog park with a variety cold craft beer\, cider\, or wine. Barx Parx is a 21+ venue. \nNo reservations required and entry is free for members and human guests. Support periodic local business pop-up shops\, non-profit partners and other themed evenings. 🐶🎉 \n*** If attending the 21+ indoor dog park: All dogs attending must be registered with Barx Parx and have passed their behavior assessment before they can attend. If your pups are not already registered at Barx Parx\, please register at Barxparx.com/register. Membership and current vaccines required. No reservation required. Single use day passes can also be purchased for non-members at the normal rate. *** \nThe Barx Parx indoor dog park and happy hour portion is a 21+ facility.
URL:https://barxparx.com/event/happy-hour-dog-park-party/2025-09-26/
LOCATION:Barx Parx\, 8868 S. Eastern Ave. Suite #115\, Las Vegas\, NV\, 89123\, United States
CATEGORIES:Community,Happy Hour,Party
ATTACH;FMTTYPE=image/jpeg:https://barxparx.com/wp-content/uploads/2023/02/HHBarSelectionSkinny-scaled-e1680106699108.jpg
ORGANIZER;CN="Barx Parx":MAILTO:info@barxparx.com
GEO:36.0281686;-115.1167465
X-APPLE-STRUCTURED-LOCATION;VALUE=URI;X-ADDRESS=Barx Parx 8868 S. Eastern Ave. Suite #115 Las Vegas NV 89123 United States;X-APPLE-RADIUS=500;X-TITLE=8868 S. Eastern Ave. Suite #115:geo:-115.1167465,36.0281686
END:VEVENT
END:VCALENDAR