BEGIN:VCALENDAR
VERSION:2.0
PRODID:-//Barx Parx - ECPv6.15.20//NONSGML v1.0//EN
CALSCALE:GREGORIAN
METHOD:PUBLISH
X-WR-CALNAME:Barx Parx
X-ORIGINAL-URL:https://barxparx.com
X-WR-CALDESC:Events for Barx Parx
REFRESH-INTERVAL;VALUE=DURATION:PT1H
X-Robots-Tag:noindex
X-PUBLISHED-TTL:PT1H
BEGIN:VTIMEZONE
TZID:America/Los_Angeles
BEGIN:DAYLIGHT
TZOFFSETFROM:-0800
TZOFFSETTO:-0700
TZNAME:PDT
DTSTART:20250309T100000
END:DAYLIGHT
BEGIN:STANDARD
TZOFFSETFROM:-0700
TZOFFSETTO:-0800
TZNAME:PST
DTSTART:20251102T090000
END:STANDARD
BEGIN:DAYLIGHT
TZOFFSETFROM:-0800
TZOFFSETTO:-0700
TZNAME:PDT
DTSTART:20260308T100000
END:DAYLIGHT
BEGIN:STANDARD
TZOFFSETFROM:-0700
TZOFFSETTO:-0800
TZNAME:PST
DTSTART:20261101T090000
END:STANDARD
BEGIN:DAYLIGHT
TZOFFSETFROM:-0800
TZOFFSETTO:-0700
TZNAME:PDT
DTSTART:20270314T100000
END:DAYLIGHT
BEGIN:STANDARD
TZOFFSETFROM:-0700
TZOFFSETTO:-0800
TZNAME:PST
DTSTART:20271107T090000
END:STANDARD
END:VTIMEZONE
BEGIN:VEVENT
DTSTART;TZID=America/Los_Angeles:20260206T160000
DTEND;TZID=America/Los_Angeles:20260206T200000
DTSTAMP:20260425T085556
CREATED:20250208T050024Z
LAST-MODIFIED:20251227T224856Z
UID:10003781-1770393600-1770408000@barxparx.com
SUMMARY:Happy Hour & Dog Park Party
DESCRIPTION:Barx Parx happy hour is a great way to check things out for the first time and spend your Friday evening from 4pm to 8pm with your furry friend! 🍺🍷 Come hang out in our indoor dog park with a variety cold craft beer\, cider\, or wine. Barx Parx is a 21+ venue. \nNo reservations required and entry is free for members and human guests. Support periodic local business pop-up shops\, non-profit partners and other themed evenings. 🐶🎉 \n*** If attending the 21+ indoor dog park: All dogs attending must be registered with Barx Parx and have passed their behavior assessment before they can attend. If your pups are not already registered at Barx Parx\, please register at Barxparx.com/register. Membership and current vaccines required. No reservation required. Single use day passes can also be purchased for non-members at the normal rate. *** \nThe Barx Parx indoor dog park and happy hour portion is a 21+ facility.
URL:https://barxparx.com/event/happy-hour-dog-park-party/2026-02-06/
LOCATION:Barx Parx\, 8868 S. Eastern Ave. Suite #115\, Las Vegas\, NV\, 89123\, United States
CATEGORIES:Community,Happy Hour,Party
ATTACH;FMTTYPE=image/jpeg:https://barxparx.com/wp-content/uploads/2023/02/HHBarSelectionSkinny-scaled-e1680106699108.jpg
ORGANIZER;CN="Barx Parx":MAILTO:info@barxparx.com
GEO:36.0281686;-115.1167465
X-APPLE-STRUCTURED-LOCATION;VALUE=URI;X-ADDRESS=Barx Parx 8868 S. Eastern Ave. Suite #115 Las Vegas NV 89123 United States;X-APPLE-RADIUS=500;X-TITLE=8868 S. Eastern Ave. Suite #115:geo:-115.1167465,36.0281686
END:VEVENT
BEGIN:VEVENT
DTSTART;TZID=America/Los_Angeles:20260206T160000
DTEND;TZID=America/Los_Angeles:20260206T200000
DTSTAMP:20260425T085556
CREATED:20260202T162258Z
LAST-MODIFIED:20260202T162301Z
UID:10002465-1770393600-1770408000@barxparx.com
SUMMARY:Jukebox Happy Hour & Dog Park Party
DESCRIPTION:🎶 Join us for JUKEBOX HAPPY HOUR!! 🎶 Every Friday in February 4pm to 8pm >> YOU choose the tunes!! Cast your votes each week on our social media pages (voting on Tuesdays\, winners announced on Thursdays). << \nBarx Parx happy hour is a great way to check things out for the first time and spend your Friday evening from 4pm to 8pm with your furry friend! 🍺🍷 Come hang out in our indoor dog park with a variety cold craft beer\, cider\, or wine. Barx Parx is a 21+ venue. \nNo reservations required and entry is free for members and human guests. Support periodic local business pop-up shops\, non-profit partners and other themed evenings. 🐶🎉 \n*** If attending the 21+ indoor dog park: All dogs attending must be registered with Barx Parx and have passed their behavior assessment before they can attend. If your pups are not already registered at Barx Parx\, please register at Barxparx.com/register. Membership and current vaccines required. No reservation required. Single use day passes can also be purchased for non-members at the normal rate. *** \nThe Barx Parx indoor dog park and happy hour portion is a 21+ facility.
URL:https://barxparx.com/event/happy-hour-dog-park-party-7/
LOCATION:Barx Parx\, 8868 S. Eastern Ave. Suite #115\, Las Vegas\, NV\, 89123\, United States
CATEGORIES:Community,Happy Hour,Party
ATTACH;FMTTYPE=image/jpeg:https://barxparx.com/wp-content/uploads/2023/02/HHBarSelectionSkinny-scaled-e1680106699108.jpg
ORGANIZER;CN="Barx Parx":MAILTO:info@barxparx.com
GEO:36.0281686;-115.1167465
X-APPLE-STRUCTURED-LOCATION;VALUE=URI;X-ADDRESS=Barx Parx 8868 S. Eastern Ave. Suite #115 Las Vegas NV 89123 United States;X-APPLE-RADIUS=500;X-TITLE=8868 S. Eastern Ave. Suite #115:geo:-115.1167465,36.0281686
END:VEVENT
BEGIN:VEVENT
DTSTART;TZID=America/Los_Angeles:20260213T160000
DTEND;TZID=America/Los_Angeles:20260213T190000
DTSTAMP:20260425T085556
CREATED:20260120T223018Z
LAST-MODIFIED:20260120T223545Z
UID:10003468-1770998400-1771009200@barxparx.com
SUMMARY:Kissing Booth Fundraiser for Barx Parx Foundation
DESCRIPTION:Pucker up and join us Friday 2/13 for our 3rdAnnual Kissing Booth Fundraiser!  4pm-7pm Friday 2/13 during Happy Hour! A suggested donation of $5 will get you (or your pup) a kiss from Barx Parx’s very own\, Curry  All proceeds will benefit the Barx Parx Foundation\, our 501c3 that helps fund local rescues. \n  \n***  If attending the 21+ indoor dog park: All dogs attending must be registered with Barx Parx and have passed their behavior assessment before they can attend. If your pups are not already registered at Barx Parx\, please register at Barxparx.com/register. Membership and current vaccines required. No reservation required. Single use day passes can also be purchased for non-members at the normal rate. *
URL:https://barxparx.com/event/kissing-booth-fundraiser-for-barx-parx-foundation-2026/
LOCATION:Barx Parx\, 8868 S. Eastern Ave. Suite #115\, Las Vegas\, NV\, 89123\, United States
CATEGORIES:Fundraiser,Happy Hour,Holiday Event
ATTACH;FMTTYPE=image/jpeg:https://barxparx.com/wp-content/uploads/2026/01/BPF-Kissing-Booth-e1768948540767.jpg
ORGANIZER;CN="Barx Parx":MAILTO:info@barxparx.com
GEO:36.0281686;-115.1167465
X-APPLE-STRUCTURED-LOCATION;VALUE=URI;X-ADDRESS=Barx Parx 8868 S. Eastern Ave. Suite #115 Las Vegas NV 89123 United States;X-APPLE-RADIUS=500;X-TITLE=8868 S. Eastern Ave. Suite #115:geo:-115.1167465,36.0281686
END:VEVENT
BEGIN:VEVENT
DTSTART;TZID=America/Los_Angeles:20260213T160000
DTEND;TZID=America/Los_Angeles:20260213T200000
DTSTAMP:20260425T085556
CREATED:20250208T050024Z
LAST-MODIFIED:20251227T224856Z
UID:10003782-1770998400-1771012800@barxparx.com
SUMMARY:Happy Hour & Dog Park Party
DESCRIPTION:Barx Parx happy hour is a great way to check things out for the first time and spend your Friday evening from 4pm to 8pm with your furry friend! 🍺🍷 Come hang out in our indoor dog park with a variety cold craft beer\, cider\, or wine. Barx Parx is a 21+ venue. \nNo reservations required and entry is free for members and human guests. Support periodic local business pop-up shops\, non-profit partners and other themed evenings. 🐶🎉 \n*** If attending the 21+ indoor dog park: All dogs attending must be registered with Barx Parx and have passed their behavior assessment before they can attend. If your pups are not already registered at Barx Parx\, please register at Barxparx.com/register. Membership and current vaccines required. No reservation required. Single use day passes can also be purchased for non-members at the normal rate. *** \nThe Barx Parx indoor dog park and happy hour portion is a 21+ facility.
URL:https://barxparx.com/event/happy-hour-dog-park-party/2026-02-13/
LOCATION:Barx Parx\, 8868 S. Eastern Ave. Suite #115\, Las Vegas\, NV\, 89123\, United States
CATEGORIES:Community,Happy Hour,Party
ATTACH;FMTTYPE=image/jpeg:https://barxparx.com/wp-content/uploads/2023/02/HHBarSelectionSkinny-scaled-e1680106699108.jpg
ORGANIZER;CN="Barx Parx":MAILTO:info@barxparx.com
GEO:36.0281686;-115.1167465
X-APPLE-STRUCTURED-LOCATION;VALUE=URI;X-ADDRESS=Barx Parx 8868 S. Eastern Ave. Suite #115 Las Vegas NV 89123 United States;X-APPLE-RADIUS=500;X-TITLE=8868 S. Eastern Ave. Suite #115:geo:-115.1167465,36.0281686
END:VEVENT
BEGIN:VEVENT
DTSTART;TZID=America/Los_Angeles:20260213T160000
DTEND;TZID=America/Los_Angeles:20260213T200000
DTSTAMP:20260425T085556
CREATED:20260202T162304Z
LAST-MODIFIED:20260202T162307Z
UID:10003282-1770998400-1771012800@barxparx.com
SUMMARY:Jukebox Happy Hour & Dog Park Party
DESCRIPTION:🎶 Join us for JUKEBOX HAPPY HOUR!! 🎶 Every Friday in February 4pm to 8pm >> YOU choose the tunes!! Cast your votes each week on our social media pages (voting on Tuesdays\, winners announced on Thursdays). << \nBarx Parx happy hour is a great way to check things out for the first time and spend your Friday evening from 4pm to 8pm with your furry friend! 🍺🍷 Come hang out in our indoor dog park with a variety cold craft beer\, cider\, or wine. Barx Parx is a 21+ venue. \nNo reservations required and entry is free for members and human guests. Support periodic local business pop-up shops\, non-profit partners and other themed evenings. 🐶🎉 \n*** If attending the 21+ indoor dog park: All dogs attending must be registered with Barx Parx and have passed their behavior assessment before they can attend. If your pups are not already registered at Barx Parx\, please register at Barxparx.com/register. Membership and current vaccines required. No reservation required. Single use day passes can also be purchased for non-members at the normal rate. *** \nThe Barx Parx indoor dog park and happy hour portion is a 21+ facility.
URL:https://barxparx.com/event/happy-hour-dog-park-party-8/
LOCATION:Barx Parx\, 8868 S. Eastern Ave. Suite #115\, Las Vegas\, NV\, 89123\, United States
CATEGORIES:Community,Happy Hour,Party
ATTACH;FMTTYPE=image/jpeg:https://barxparx.com/wp-content/uploads/2023/02/HHBarSelectionSkinny-scaled-e1680106699108.jpg
ORGANIZER;CN="Barx Parx":MAILTO:info@barxparx.com
GEO:36.0281686;-115.1167465
X-APPLE-STRUCTURED-LOCATION;VALUE=URI;X-ADDRESS=Barx Parx 8868 S. Eastern Ave. Suite #115 Las Vegas NV 89123 United States;X-APPLE-RADIUS=500;X-TITLE=8868 S. Eastern Ave. Suite #115:geo:-115.1167465,36.0281686
END:VEVENT
BEGIN:VEVENT
DTSTART;TZID=America/Los_Angeles:20260220T160000
DTEND;TZID=America/Los_Angeles:20260220T200000
DTSTAMP:20260425T085556
CREATED:20250208T050024Z
LAST-MODIFIED:20251227T224856Z
UID:10003783-1771603200-1771617600@barxparx.com
SUMMARY:Happy Hour & Dog Park Party
DESCRIPTION:Barx Parx happy hour is a great way to check things out for the first time and spend your Friday evening from 4pm to 8pm with your furry friend! 🍺🍷 Come hang out in our indoor dog park with a variety cold craft beer\, cider\, or wine. Barx Parx is a 21+ venue. \nNo reservations required and entry is free for members and human guests. Support periodic local business pop-up shops\, non-profit partners and other themed evenings. 🐶🎉 \n*** If attending the 21+ indoor dog park: All dogs attending must be registered with Barx Parx and have passed their behavior assessment before they can attend. If your pups are not already registered at Barx Parx\, please register at Barxparx.com/register. Membership and current vaccines required. No reservation required. Single use day passes can also be purchased for non-members at the normal rate. *** \nThe Barx Parx indoor dog park and happy hour portion is a 21+ facility.
URL:https://barxparx.com/event/happy-hour-dog-park-party/2026-02-20/
LOCATION:Barx Parx\, 8868 S. Eastern Ave. Suite #115\, Las Vegas\, NV\, 89123\, United States
CATEGORIES:Community,Happy Hour,Party
ATTACH;FMTTYPE=image/jpeg:https://barxparx.com/wp-content/uploads/2023/02/HHBarSelectionSkinny-scaled-e1680106699108.jpg
ORGANIZER;CN="Barx Parx":MAILTO:info@barxparx.com
GEO:36.0281686;-115.1167465
X-APPLE-STRUCTURED-LOCATION;VALUE=URI;X-ADDRESS=Barx Parx 8868 S. Eastern Ave. Suite #115 Las Vegas NV 89123 United States;X-APPLE-RADIUS=500;X-TITLE=8868 S. Eastern Ave. Suite #115:geo:-115.1167465,36.0281686
END:VEVENT
BEGIN:VEVENT
DTSTART;TZID=America/Los_Angeles:20260220T160000
DTEND;TZID=America/Los_Angeles:20260220T200000
DTSTAMP:20260425T085556
CREATED:20260202T162317Z
LAST-MODIFIED:20260202T162320Z
UID:10003283-1771603200-1771617600@barxparx.com
SUMMARY:Jukebox Happy Hour & Dog Park Party
DESCRIPTION:🎶 Join us for JUKEBOX HAPPY HOUR!! 🎶 Every Friday in February 4pm to 8pm >> YOU choose the tunes!! Cast your votes each week on our social media pages (voting on Tuesdays\, winners announced on Thursdays). << \nBarx Parx happy hour is a great way to check things out for the first time and spend your Friday evening from 4pm to 8pm with your furry friend! 🍺🍷 Come hang out in our indoor dog park with a variety cold craft beer\, cider\, or wine. Barx Parx is a 21+ venue. \nNo reservations required and entry is free for members and human guests. Support periodic local business pop-up shops\, non-profit partners and other themed evenings. 🐶🎉 \n*** If attending the 21+ indoor dog park: All dogs attending must be registered with Barx Parx and have passed their behavior assessment before they can attend. If your pups are not already registered at Barx Parx\, please register at Barxparx.com/register. Membership and current vaccines required. No reservation required. Single use day passes can also be purchased for non-members at the normal rate. *** \nThe Barx Parx indoor dog park and happy hour portion is a 21+ facility.
URL:https://barxparx.com/event/happy-hour-dog-park-party-9/
LOCATION:Barx Parx\, 8868 S. Eastern Ave. Suite #115\, Las Vegas\, NV\, 89123\, United States
CATEGORIES:Community,Happy Hour,Party
ATTACH;FMTTYPE=image/jpeg:https://barxparx.com/wp-content/uploads/2023/02/HHBarSelectionSkinny-scaled-e1680106699108.jpg
ORGANIZER;CN="Barx Parx":MAILTO:info@barxparx.com
GEO:36.0281686;-115.1167465
X-APPLE-STRUCTURED-LOCATION;VALUE=URI;X-ADDRESS=Barx Parx 8868 S. Eastern Ave. Suite #115 Las Vegas NV 89123 United States;X-APPLE-RADIUS=500;X-TITLE=8868 S. Eastern Ave. Suite #115:geo:-115.1167465,36.0281686
END:VEVENT
BEGIN:VEVENT
DTSTART;TZID=America/Los_Angeles:20260227T160000
DTEND;TZID=America/Los_Angeles:20260227T200000
DTSTAMP:20260425T085556
CREATED:20250208T050024Z
LAST-MODIFIED:20251227T224856Z
UID:10003784-1772208000-1772222400@barxparx.com
SUMMARY:Happy Hour & Dog Park Party
DESCRIPTION:Barx Parx happy hour is a great way to check things out for the first time and spend your Friday evening from 4pm to 8pm with your furry friend! 🍺🍷 Come hang out in our indoor dog park with a variety cold craft beer\, cider\, or wine. Barx Parx is a 21+ venue. \nNo reservations required and entry is free for members and human guests. Support periodic local business pop-up shops\, non-profit partners and other themed evenings. 🐶🎉 \n*** If attending the 21+ indoor dog park: All dogs attending must be registered with Barx Parx and have passed their behavior assessment before they can attend. If your pups are not already registered at Barx Parx\, please register at Barxparx.com/register. Membership and current vaccines required. No reservation required. Single use day passes can also be purchased for non-members at the normal rate. *** \nThe Barx Parx indoor dog park and happy hour portion is a 21+ facility.
URL:https://barxparx.com/event/happy-hour-dog-park-party/2026-02-27/
LOCATION:Barx Parx\, 8868 S. Eastern Ave. Suite #115\, Las Vegas\, NV\, 89123\, United States
CATEGORIES:Community,Happy Hour,Party
ATTACH;FMTTYPE=image/jpeg:https://barxparx.com/wp-content/uploads/2023/02/HHBarSelectionSkinny-scaled-e1680106699108.jpg
ORGANIZER;CN="Barx Parx":MAILTO:info@barxparx.com
GEO:36.0281686;-115.1167465
X-APPLE-STRUCTURED-LOCATION;VALUE=URI;X-ADDRESS=Barx Parx 8868 S. Eastern Ave. Suite #115 Las Vegas NV 89123 United States;X-APPLE-RADIUS=500;X-TITLE=8868 S. Eastern Ave. Suite #115:geo:-115.1167465,36.0281686
END:VEVENT
BEGIN:VEVENT
DTSTART;TZID=America/Los_Angeles:20260227T160000
DTEND;TZID=America/Los_Angeles:20260227T200000
DTSTAMP:20260425T085556
CREATED:20260202T162331Z
LAST-MODIFIED:20260202T162334Z
UID:10003284-1772208000-1772222400@barxparx.com
SUMMARY:Jukebox Happy Hour & Dog Park Party
DESCRIPTION:🎶 Join us for JUKEBOX HAPPY HOUR!! 🎶 Every Friday in February 4pm to 8pm >> YOU choose the tunes!! Cast your votes each week on our social media pages (voting on Tuesdays\, winners announced on Thursdays). << \nBarx Parx happy hour is a great way to check things out for the first time and spend your Friday evening from 4pm to 8pm with your furry friend! 🍺🍷 Come hang out in our indoor dog park with a variety cold craft beer\, cider\, or wine. Barx Parx is a 21+ venue. \nNo reservations required and entry is free for members and human guests. Support periodic local business pop-up shops\, non-profit partners and other themed evenings. 🐶🎉 \n*** If attending the 21+ indoor dog park: All dogs attending must be registered with Barx Parx and have passed their behavior assessment before they can attend. If your pups are not already registered at Barx Parx\, please register at Barxparx.com/register. Membership and current vaccines required. No reservation required. Single use day passes can also be purchased for non-members at the normal rate. *** \nThe Barx Parx indoor dog park and happy hour portion is a 21+ facility.
URL:https://barxparx.com/event/happy-hour-dog-park-party-10/
LOCATION:Barx Parx\, 8868 S. Eastern Ave. Suite #115\, Las Vegas\, NV\, 89123\, United States
CATEGORIES:Community,Happy Hour,Party
ATTACH;FMTTYPE=image/jpeg:https://barxparx.com/wp-content/uploads/2023/02/HHBarSelectionSkinny-scaled-e1680106699108.jpg
ORGANIZER;CN="Barx Parx":MAILTO:info@barxparx.com
GEO:36.0281686;-115.1167465
X-APPLE-STRUCTURED-LOCATION;VALUE=URI;X-ADDRESS=Barx Parx 8868 S. Eastern Ave. Suite #115 Las Vegas NV 89123 United States;X-APPLE-RADIUS=500;X-TITLE=8868 S. Eastern Ave. Suite #115:geo:-115.1167465,36.0281686
END:VEVENT
END:VCALENDAR