BEGIN:VCALENDAR
VERSION:2.0
PRODID:-//Barx Parx - ECPv6.15.20//NONSGML v1.0//EN
CALSCALE:GREGORIAN
METHOD:PUBLISH
X-WR-CALNAME:Barx Parx
X-ORIGINAL-URL:https://barxparx.com
X-WR-CALDESC:Events for Barx Parx
REFRESH-INTERVAL;VALUE=DURATION:PT1H
X-Robots-Tag:noindex
X-PUBLISHED-TTL:PT1H
BEGIN:VTIMEZONE
TZID:America/Los_Angeles
BEGIN:DAYLIGHT
TZOFFSETFROM:-0800
TZOFFSETTO:-0700
TZNAME:PDT
DTSTART:20240310T100000
END:DAYLIGHT
BEGIN:STANDARD
TZOFFSETFROM:-0700
TZOFFSETTO:-0800
TZNAME:PST
DTSTART:20241103T090000
END:STANDARD
BEGIN:DAYLIGHT
TZOFFSETFROM:-0800
TZOFFSETTO:-0700
TZNAME:PDT
DTSTART:20250309T100000
END:DAYLIGHT
BEGIN:STANDARD
TZOFFSETFROM:-0700
TZOFFSETTO:-0800
TZNAME:PST
DTSTART:20251102T090000
END:STANDARD
BEGIN:DAYLIGHT
TZOFFSETFROM:-0800
TZOFFSETTO:-0700
TZNAME:PDT
DTSTART:20260308T100000
END:DAYLIGHT
BEGIN:STANDARD
TZOFFSETFROM:-0700
TZOFFSETTO:-0800
TZNAME:PST
DTSTART:20261101T090000
END:STANDARD
END:VTIMEZONE
BEGIN:VEVENT
DTSTART;TZID=America/Los_Angeles:20250613T160000
DTEND;TZID=America/Los_Angeles:20250613T200000
DTSTAMP:20260425T091343
CREATED:20250208T050024Z
LAST-MODIFIED:20251227T224856Z
UID:10002431-1749830400-1749844800@barxparx.com
SUMMARY:Happy Hour & Dog Park Party
DESCRIPTION:Barx Parx happy hour is a great way to check things out for the first time and spend your Friday evening from 4pm to 8pm with your furry friend! 🍺🍷 Come hang out in our indoor dog park with a variety cold craft beer\, cider\, or wine. Barx Parx is a 21+ venue. \nNo reservations required and entry is free for members and human guests. Support periodic local business pop-up shops\, non-profit partners and other themed evenings. 🐶🎉 \n*** If attending the 21+ indoor dog park: All dogs attending must be registered with Barx Parx and have passed their behavior assessment before they can attend. If your pups are not already registered at Barx Parx\, please register at Barxparx.com/register. Membership and current vaccines required. No reservation required. Single use day passes can also be purchased for non-members at the normal rate. *** \nThe Barx Parx indoor dog park and happy hour portion is a 21+ facility.
URL:https://barxparx.com/event/happy-hour-dog-park-party/2025-06-13/
LOCATION:Barx Parx\, 8868 S. Eastern Ave. Suite #115\, Las Vegas\, NV\, 89123\, United States
CATEGORIES:Community,Happy Hour,Party
ATTACH;FMTTYPE=image/jpeg:https://barxparx.com/wp-content/uploads/2023/02/HHBarSelectionSkinny-scaled-e1680106699108.jpg
ORGANIZER;CN="Barx Parx":MAILTO:info@barxparx.com
GEO:36.0281686;-115.1167465
X-APPLE-STRUCTURED-LOCATION;VALUE=URI;X-ADDRESS=Barx Parx 8868 S. Eastern Ave. Suite #115 Las Vegas NV 89123 United States;X-APPLE-RADIUS=500;X-TITLE=8868 S. Eastern Ave. Suite #115:geo:-115.1167465,36.0281686
END:VEVENT
BEGIN:VEVENT
DTSTART;TZID=America/Los_Angeles:20250606T160000
DTEND;TZID=America/Los_Angeles:20250606T200000
DTSTAMP:20260425T091343
CREATED:20250208T050024Z
LAST-MODIFIED:20251227T224856Z
UID:10002430-1749225600-1749240000@barxparx.com
SUMMARY:Happy Hour & Dog Park Party
DESCRIPTION:Barx Parx happy hour is a great way to check things out for the first time and spend your Friday evening from 4pm to 8pm with your furry friend! 🍺🍷 Come hang out in our indoor dog park with a variety cold craft beer\, cider\, or wine. Barx Parx is a 21+ venue. \nNo reservations required and entry is free for members and human guests. Support periodic local business pop-up shops\, non-profit partners and other themed evenings. 🐶🎉 \n*** If attending the 21+ indoor dog park: All dogs attending must be registered with Barx Parx and have passed their behavior assessment before they can attend. If your pups are not already registered at Barx Parx\, please register at Barxparx.com/register. Membership and current vaccines required. No reservation required. Single use day passes can also be purchased for non-members at the normal rate. *** \nThe Barx Parx indoor dog park and happy hour portion is a 21+ facility.
URL:https://barxparx.com/event/happy-hour-dog-park-party/2025-06-06/
LOCATION:Barx Parx\, 8868 S. Eastern Ave. Suite #115\, Las Vegas\, NV\, 89123\, United States
CATEGORIES:Community,Happy Hour,Party
ATTACH;FMTTYPE=image/jpeg:https://barxparx.com/wp-content/uploads/2023/02/HHBarSelectionSkinny-scaled-e1680106699108.jpg
ORGANIZER;CN="Barx Parx":MAILTO:info@barxparx.com
GEO:36.0281686;-115.1167465
X-APPLE-STRUCTURED-LOCATION;VALUE=URI;X-ADDRESS=Barx Parx 8868 S. Eastern Ave. Suite #115 Las Vegas NV 89123 United States;X-APPLE-RADIUS=500;X-TITLE=8868 S. Eastern Ave. Suite #115:geo:-115.1167465,36.0281686
END:VEVENT
BEGIN:VEVENT
DTSTART;TZID=America/Los_Angeles:20250530T160000
DTEND;TZID=America/Los_Angeles:20250530T200000
DTSTAMP:20260425T091343
CREATED:20250208T050024Z
LAST-MODIFIED:20251227T224856Z
UID:10002429-1748620800-1748635200@barxparx.com
SUMMARY:Happy Hour & Dog Park Party
DESCRIPTION:Barx Parx happy hour is a great way to check things out for the first time and spend your Friday evening from 4pm to 8pm with your furry friend! 🍺🍷 Come hang out in our indoor dog park with a variety cold craft beer\, cider\, or wine. Barx Parx is a 21+ venue. \nNo reservations required and entry is free for members and human guests. Support periodic local business pop-up shops\, non-profit partners and other themed evenings. 🐶🎉 \n*** If attending the 21+ indoor dog park: All dogs attending must be registered with Barx Parx and have passed their behavior assessment before they can attend. If your pups are not already registered at Barx Parx\, please register at Barxparx.com/register. Membership and current vaccines required. No reservation required. Single use day passes can also be purchased for non-members at the normal rate. *** \nThe Barx Parx indoor dog park and happy hour portion is a 21+ facility.
URL:https://barxparx.com/event/happy-hour-dog-park-party/2025-05-30/
LOCATION:Barx Parx\, 8868 S. Eastern Ave. Suite #115\, Las Vegas\, NV\, 89123\, United States
CATEGORIES:Community,Happy Hour,Party
ATTACH;FMTTYPE=image/jpeg:https://barxparx.com/wp-content/uploads/2023/02/HHBarSelectionSkinny-scaled-e1680106699108.jpg
ORGANIZER;CN="Barx Parx":MAILTO:info@barxparx.com
GEO:36.0281686;-115.1167465
X-APPLE-STRUCTURED-LOCATION;VALUE=URI;X-ADDRESS=Barx Parx 8868 S. Eastern Ave. Suite #115 Las Vegas NV 89123 United States;X-APPLE-RADIUS=500;X-TITLE=8868 S. Eastern Ave. Suite #115:geo:-115.1167465,36.0281686
END:VEVENT
BEGIN:VEVENT
DTSTART;TZID=America/Los_Angeles:20250523T160000
DTEND;TZID=America/Los_Angeles:20250523T200000
DTSTAMP:20260425T091343
CREATED:20250208T050024Z
LAST-MODIFIED:20251227T224856Z
UID:10002428-1748016000-1748030400@barxparx.com
SUMMARY:Happy Hour & Dog Park Party
DESCRIPTION:Barx Parx happy hour is a great way to check things out for the first time and spend your Friday evening from 4pm to 8pm with your furry friend! 🍺🍷 Come hang out in our indoor dog park with a variety cold craft beer\, cider\, or wine. Barx Parx is a 21+ venue. \nNo reservations required and entry is free for members and human guests. Support periodic local business pop-up shops\, non-profit partners and other themed evenings. 🐶🎉 \n*** If attending the 21+ indoor dog park: All dogs attending must be registered with Barx Parx and have passed their behavior assessment before they can attend. If your pups are not already registered at Barx Parx\, please register at Barxparx.com/register. Membership and current vaccines required. No reservation required. Single use day passes can also be purchased for non-members at the normal rate. *** \nThe Barx Parx indoor dog park and happy hour portion is a 21+ facility.
URL:https://barxparx.com/event/happy-hour-dog-park-party/2025-05-23/
LOCATION:Barx Parx\, 8868 S. Eastern Ave. Suite #115\, Las Vegas\, NV\, 89123\, United States
CATEGORIES:Community,Happy Hour,Party
ATTACH;FMTTYPE=image/jpeg:https://barxparx.com/wp-content/uploads/2023/02/HHBarSelectionSkinny-scaled-e1680106699108.jpg
ORGANIZER;CN="Barx Parx":MAILTO:info@barxparx.com
GEO:36.0281686;-115.1167465
X-APPLE-STRUCTURED-LOCATION;VALUE=URI;X-ADDRESS=Barx Parx 8868 S. Eastern Ave. Suite #115 Las Vegas NV 89123 United States;X-APPLE-RADIUS=500;X-TITLE=8868 S. Eastern Ave. Suite #115:geo:-115.1167465,36.0281686
END:VEVENT
BEGIN:VEVENT
DTSTART;VALUE=DATE:20250523
DTEND;VALUE=DATE:20250527
DTSTAMP:20260425T091343
CREATED:20250521T153908Z
LAST-MODIFIED:20250522T173034Z
UID:10002944-1747958400-1748303999@barxparx.com
SUMMARY:Memorial Day Weekend Park Hours
DESCRIPTION:️ Fur-riends\, please note our Memorial Day weekend hours. Effective Friday\, May 23 – Monday\, May 26. Please note the slightly lessened PARK hours only this Fri/Sat/Sun to help with our influx of boarders  Otherwise business as usual!! YES\, happy hour will still be happening on Friday from 4pm to 8pm but our indoor dog park will close promptly at 8pm.  
URL:https://barxparx.com/event/memorial-day-weekend-park-hours-2/
LOCATION:Barx Parx\, 8868 S. Eastern Ave. Suite #115\, Las Vegas\, NV\, 89123\, United States
CATEGORIES:Happy Hour,Holiday Event,Informational
ATTACH;FMTTYPE=image/jpeg:https://barxparx.com/wp-content/uploads/2025/05/MemorialDayHoursSlider2025-e1747935025680.jpg
ORGANIZER;CN="Barx Parx":MAILTO:info@barxparx.com
GEO:36.0281686;-115.1167465
X-APPLE-STRUCTURED-LOCATION;VALUE=URI;X-ADDRESS=Barx Parx 8868 S. Eastern Ave. Suite #115 Las Vegas NV 89123 United States;X-APPLE-RADIUS=500;X-TITLE=8868 S. Eastern Ave. Suite #115:geo:-115.1167465,36.0281686
END:VEVENT
BEGIN:VEVENT
DTSTART;TZID=America/Los_Angeles:20250516T160000
DTEND;TZID=America/Los_Angeles:20250516T200000
DTSTAMP:20260425T091343
CREATED:20250208T050024Z
LAST-MODIFIED:20251227T224856Z
UID:10002427-1747411200-1747425600@barxparx.com
SUMMARY:Happy Hour & Dog Park Party
DESCRIPTION:Barx Parx happy hour is a great way to check things out for the first time and spend your Friday evening from 4pm to 8pm with your furry friend! 🍺🍷 Come hang out in our indoor dog park with a variety cold craft beer\, cider\, or wine. Barx Parx is a 21+ venue. \nNo reservations required and entry is free for members and human guests. Support periodic local business pop-up shops\, non-profit partners and other themed evenings. 🐶🎉 \n*** If attending the 21+ indoor dog park: All dogs attending must be registered with Barx Parx and have passed their behavior assessment before they can attend. If your pups are not already registered at Barx Parx\, please register at Barxparx.com/register. Membership and current vaccines required. No reservation required. Single use day passes can also be purchased for non-members at the normal rate. *** \nThe Barx Parx indoor dog park and happy hour portion is a 21+ facility.
URL:https://barxparx.com/event/happy-hour-dog-park-party/2025-05-16/
LOCATION:Barx Parx\, 8868 S. Eastern Ave. Suite #115\, Las Vegas\, NV\, 89123\, United States
CATEGORIES:Community,Happy Hour,Party
ATTACH;FMTTYPE=image/jpeg:https://barxparx.com/wp-content/uploads/2023/02/HHBarSelectionSkinny-scaled-e1680106699108.jpg
ORGANIZER;CN="Barx Parx":MAILTO:info@barxparx.com
GEO:36.0281686;-115.1167465
X-APPLE-STRUCTURED-LOCATION;VALUE=URI;X-ADDRESS=Barx Parx 8868 S. Eastern Ave. Suite #115 Las Vegas NV 89123 United States;X-APPLE-RADIUS=500;X-TITLE=8868 S. Eastern Ave. Suite #115:geo:-115.1167465,36.0281686
END:VEVENT
BEGIN:VEVENT
DTSTART;TZID=America/Los_Angeles:20250510T130000
DTEND;TZID=America/Los_Angeles:20250510T160000
DTSTAMP:20260425T091343
CREATED:20250425T195017Z
LAST-MODIFIED:20250505T151403Z
UID:10002925-1746882000-1746892800@barxparx.com
SUMMARY:Fi Collar Party
DESCRIPTION:The Biggest Dog Meetup in Vegas – Celebrating Dog Moms – Vendors\, Caricatures\, Swag\, Crafts & More! \nThis one’s for the dog moms. 🐶 On Saturday\, May 10th from 1-4 PM\, head to Barx Parx for a fun\, feel-good event celebrating you and your pup — just in time for Mother’s Day weekend. \nWhether you’re spoiling your dog (as usual) or looking for the perfect excuse to treat yourself\, we’ve got you covered with giveaways\, creative stations\, and local favorites. \n📢 What’s Happening: \n– Free drinks (while supplies last)\n– Free dog caricatures\n– Fi swag and exclusive giveaways\n– Collar tag-making station – personalize it with a name or message\n– Dog Mom card-making – create a sweet card to celebrate your unique bond \n🛍️ Shop with local vendors\, including: \n– Little Luck Boutique: Dog-themed home décor and gifts\n– For Harley: Stylish bandanas and bowties for your pup\n– Snacks’ Snacks: Small-batch treats made just for dogs \n🥳 MORE SURPRISES IN STORE!! \nThis event is all about honoring the special role dog moms play every day — and giving you a chance to unwind\, create\, and connect with others who get it. \nEvent Details: \n📍 Barx Parx\, Las Vegas\n📅 Saturday\, May 10th\n🕐 1:00 PM – 4:00 PM\n🎟 Free to attend – RSVP required \n🎟️ Get Your Ticket Here\nGrab your pup\, bring your friends\, and come ready to celebrate Dog Mom life. \n** Free\, all ages\, open-to-the-public event if only attending the Fi activities and vendor portion. ** \n*** If attending the 21+ indoor dog park: All dogs attending must be registered with Barx Parx and have passed their behavior assessment before they can attend. If your pups are not already registered at Barx Parx\, please register at Barxparx.com/register. Membership and current vaccines required. No reservation required. Single use day passes can also be purchased for non-members at the normal rate. *** \n 
URL:https://barxparx.com/event/fi-collar-party/
LOCATION:Barx Parx\, 8868 S. Eastern Ave. Suite #115\, Las Vegas\, NV\, 89123\, United States
CATEGORIES:Craft,Happy Hour,Party
ATTACH;FMTTYPE=image/png:https://barxparx.com/wp-content/uploads/2025/04/FiEventSmaller-e1746404662286.png
ORGANIZER;CN="Barx Parx":MAILTO:info@barxparx.com
GEO:36.0281686;-115.1167465
X-APPLE-STRUCTURED-LOCATION;VALUE=URI;X-ADDRESS=Barx Parx 8868 S. Eastern Ave. Suite #115 Las Vegas NV 89123 United States;X-APPLE-RADIUS=500;X-TITLE=8868 S. Eastern Ave. Suite #115:geo:-115.1167465,36.0281686
END:VEVENT
BEGIN:VEVENT
DTSTART;TZID=America/Los_Angeles:20250509T160000
DTEND;TZID=America/Los_Angeles:20250509T200000
DTSTAMP:20260425T091343
CREATED:20250208T050024Z
LAST-MODIFIED:20251227T224856Z
UID:10002426-1746806400-1746820800@barxparx.com
SUMMARY:Happy Hour & Dog Park Party
DESCRIPTION:Barx Parx happy hour is a great way to check things out for the first time and spend your Friday evening from 4pm to 8pm with your furry friend! 🍺🍷 Come hang out in our indoor dog park with a variety cold craft beer\, cider\, or wine. Barx Parx is a 21+ venue. \nNo reservations required and entry is free for members and human guests. Support periodic local business pop-up shops\, non-profit partners and other themed evenings. 🐶🎉 \n*** If attending the 21+ indoor dog park: All dogs attending must be registered with Barx Parx and have passed their behavior assessment before they can attend. If your pups are not already registered at Barx Parx\, please register at Barxparx.com/register. Membership and current vaccines required. No reservation required. Single use day passes can also be purchased for non-members at the normal rate. *** \nThe Barx Parx indoor dog park and happy hour portion is a 21+ facility.
URL:https://barxparx.com/event/happy-hour-dog-park-party/2025-05-09/
LOCATION:Barx Parx\, 8868 S. Eastern Ave. Suite #115\, Las Vegas\, NV\, 89123\, United States
CATEGORIES:Community,Happy Hour,Party
ATTACH;FMTTYPE=image/jpeg:https://barxparx.com/wp-content/uploads/2023/02/HHBarSelectionSkinny-scaled-e1680106699108.jpg
ORGANIZER;CN="Barx Parx":MAILTO:info@barxparx.com
GEO:36.0281686;-115.1167465
X-APPLE-STRUCTURED-LOCATION;VALUE=URI;X-ADDRESS=Barx Parx 8868 S. Eastern Ave. Suite #115 Las Vegas NV 89123 United States;X-APPLE-RADIUS=500;X-TITLE=8868 S. Eastern Ave. Suite #115:geo:-115.1167465,36.0281686
END:VEVENT
BEGIN:VEVENT
DTSTART;TZID=America/Los_Angeles:20250502T160000
DTEND;TZID=America/Los_Angeles:20250502T200000
DTSTAMP:20260425T091343
CREATED:20250208T050024Z
LAST-MODIFIED:20251227T224856Z
UID:10002425-1746201600-1746216000@barxparx.com
SUMMARY:Happy Hour & Dog Park Party
DESCRIPTION:Barx Parx happy hour is a great way to check things out for the first time and spend your Friday evening from 4pm to 8pm with your furry friend! 🍺🍷 Come hang out in our indoor dog park with a variety cold craft beer\, cider\, or wine. Barx Parx is a 21+ venue. \nNo reservations required and entry is free for members and human guests. Support periodic local business pop-up shops\, non-profit partners and other themed evenings. 🐶🎉 \n*** If attending the 21+ indoor dog park: All dogs attending must be registered with Barx Parx and have passed their behavior assessment before they can attend. If your pups are not already registered at Barx Parx\, please register at Barxparx.com/register. Membership and current vaccines required. No reservation required. Single use day passes can also be purchased for non-members at the normal rate. *** \nThe Barx Parx indoor dog park and happy hour portion is a 21+ facility.
URL:https://barxparx.com/event/happy-hour-dog-park-party/2025-05-02/
LOCATION:Barx Parx\, 8868 S. Eastern Ave. Suite #115\, Las Vegas\, NV\, 89123\, United States
CATEGORIES:Community,Happy Hour,Party
ATTACH;FMTTYPE=image/jpeg:https://barxparx.com/wp-content/uploads/2023/02/HHBarSelectionSkinny-scaled-e1680106699108.jpg
ORGANIZER;CN="Barx Parx":MAILTO:info@barxparx.com
GEO:36.0281686;-115.1167465
X-APPLE-STRUCTURED-LOCATION;VALUE=URI;X-ADDRESS=Barx Parx 8868 S. Eastern Ave. Suite #115 Las Vegas NV 89123 United States;X-APPLE-RADIUS=500;X-TITLE=8868 S. Eastern Ave. Suite #115:geo:-115.1167465,36.0281686
END:VEVENT
BEGIN:VEVENT
DTSTART;VALUE=DATE:20250501
DTEND;VALUE=DATE:20250607
DTSTAMP:20260425T091343
CREATED:20250425T193838Z
LAST-MODIFIED:20250425T193838Z
UID:10002922-1746057600-1749254399@barxparx.com
SUMMARY:Cash For A Splash Fundraiser For The Barx Parx Foundation
DESCRIPTION:Psst… been looking for a way to get one of the Barx Parx staff members have a bucket of water poured over their head?? 🪣😂 Join us for our 2nd Annual Cash For a Splash Barx Parx Foundation fundraiser this month that will let you PICK who gets splashed!! \nFor every $100 we raise\, one bucket will be poured over the staff member with the most votes! Donate a full $100 YOU get to pour the bucket! 💦💧 100% of the proceeds will benefit the Barx Parx Foundation\, our 501c3 that helps fund\, supply and support local Las Vegas rescues. Donations can be made in person or via text at 702-518-6439! Open fundraiser to the public! Anyone can purchase/donate now through May 31st! \nSAVE THE DATE >>>> Splashing will take place on Friday\, June 6th at 5pm outside of the Barx Parx entrance! \nAll proceeds will benefit the Barx Parx Foundation\, our 501c3 that helps fund\, supply and support local rescues. 🐾❤️ \n*** ⚠️ If attending the 21+ indoor dog park: All dogs attending must be registered with Barx Parx and have passed their behavior assessment before they can attend. If your pups are not already registered at Barx Parx\, please register at Barxparx.com/register. Membership and current vaccines required. No reservation required. Single use day passes can also be purchased for non-members at the normal rate. ** \nbarxparxfoundation.org
URL:https://barxparx.com/event/cash-for-a-splash-fundraiser-for-the-barx-parx-foundation/
LOCATION:Barx Parx\, 8868 S. Eastern Ave. Suite #115\, Las Vegas\, NV\, 89123\, United States
CATEGORIES:Fundraiser,Happy Hour,Party
ATTACH;FMTTYPE=image/jpeg:https://barxparx.com/wp-content/uploads/2025/04/CashForSplash2024Photo-copy-e1745609903890.jpg
ORGANIZER;CN="Barx Parx":MAILTO:info@barxparx.com
GEO:36.0281686;-115.1167465
X-APPLE-STRUCTURED-LOCATION;VALUE=URI;X-ADDRESS=Barx Parx 8868 S. Eastern Ave. Suite #115 Las Vegas NV 89123 United States;X-APPLE-RADIUS=500;X-TITLE=8868 S. Eastern Ave. Suite #115:geo:-115.1167465,36.0281686
END:VEVENT
BEGIN:VEVENT
DTSTART;TZID=America/Los_Angeles:20250425T160000
DTEND;TZID=America/Los_Angeles:20250425T200000
DTSTAMP:20260425T091343
CREATED:20250208T050024Z
LAST-MODIFIED:20251227T224856Z
UID:10002424-1745596800-1745611200@barxparx.com
SUMMARY:Happy Hour & Dog Park Party
DESCRIPTION:Barx Parx happy hour is a great way to check things out for the first time and spend your Friday evening from 4pm to 8pm with your furry friend! 🍺🍷 Come hang out in our indoor dog park with a variety cold craft beer\, cider\, or wine. Barx Parx is a 21+ venue. \nNo reservations required and entry is free for members and human guests. Support periodic local business pop-up shops\, non-profit partners and other themed evenings. 🐶🎉 \n*** If attending the 21+ indoor dog park: All dogs attending must be registered with Barx Parx and have passed their behavior assessment before they can attend. If your pups are not already registered at Barx Parx\, please register at Barxparx.com/register. Membership and current vaccines required. No reservation required. Single use day passes can also be purchased for non-members at the normal rate. *** \nThe Barx Parx indoor dog park and happy hour portion is a 21+ facility.
URL:https://barxparx.com/event/happy-hour-dog-park-party/2025-04-25/
LOCATION:Barx Parx\, 8868 S. Eastern Ave. Suite #115\, Las Vegas\, NV\, 89123\, United States
CATEGORIES:Community,Happy Hour,Party
ATTACH;FMTTYPE=image/jpeg:https://barxparx.com/wp-content/uploads/2023/02/HHBarSelectionSkinny-scaled-e1680106699108.jpg
ORGANIZER;CN="Barx Parx":MAILTO:info@barxparx.com
GEO:36.0281686;-115.1167465
X-APPLE-STRUCTURED-LOCATION;VALUE=URI;X-ADDRESS=Barx Parx 8868 S. Eastern Ave. Suite #115 Las Vegas NV 89123 United States;X-APPLE-RADIUS=500;X-TITLE=8868 S. Eastern Ave. Suite #115:geo:-115.1167465,36.0281686
END:VEVENT
END:VCALENDAR