BEGIN:VCALENDAR
VERSION:2.0
PRODID:-//Barx Parx - ECPv6.15.20//NONSGML v1.0//EN
CALSCALE:GREGORIAN
METHOD:PUBLISH
X-ORIGINAL-URL:https://barxparx.com
X-WR-CALDESC:Events for Barx Parx
REFRESH-INTERVAL;VALUE=DURATION:PT1H
X-Robots-Tag:noindex
X-PUBLISHED-TTL:PT1H
BEGIN:VTIMEZONE
TZID:America/Los_Angeles
BEGIN:DAYLIGHT
TZOFFSETFROM:-0800
TZOFFSETTO:-0700
TZNAME:PDT
DTSTART:20240310T100000
END:DAYLIGHT
BEGIN:STANDARD
TZOFFSETFROM:-0700
TZOFFSETTO:-0800
TZNAME:PST
DTSTART:20241103T090000
END:STANDARD
BEGIN:DAYLIGHT
TZOFFSETFROM:-0800
TZOFFSETTO:-0700
TZNAME:PDT
DTSTART:20250309T100000
END:DAYLIGHT
BEGIN:STANDARD
TZOFFSETFROM:-0700
TZOFFSETTO:-0800
TZNAME:PST
DTSTART:20251102T090000
END:STANDARD
BEGIN:DAYLIGHT
TZOFFSETFROM:-0800
TZOFFSETTO:-0700
TZNAME:PDT
DTSTART:20260308T100000
END:DAYLIGHT
BEGIN:STANDARD
TZOFFSETFROM:-0700
TZOFFSETTO:-0800
TZNAME:PST
DTSTART:20261101T090000
END:STANDARD
END:VTIMEZONE
BEGIN:VEVENT
DTSTART;VALUE=DATE:20251101
DTEND;VALUE=DATE:20251123
DTSTAMP:20260425T184233
CREATED:20251105T190931Z
LAST-MODIFIED:20251105T190931Z
UID:10003263-1761955200-1763855999@barxparx.com
SUMMARY:$15 PUPsgiving Meals Available To Order Online Only
DESCRIPTION:Now through 11/22 or when sold out (whichever comes first\, so don’t delay!!) –  Order your PUPsgiving meals ONLINE ONLY via barxparx.com/pupsgiving\n\n\n\n\n\n LOCAL PICKUP ONLY – please do not select any of the shipping options other than local pickup\n\n\n\n\n\nADD ORDER NOTES IF YOU WANT TO DONATE ANY TO THE SHELTER DOGGOS – if so\, please also mention the quantity donated i.e. “2 for shelter doggos\, 2 for us”\n\n\n\n\n\nEat-at-home-meals can be picked up at Barx Parx on Wednesday\, 11/26 \n\n\n\n\n\nPlease note that the front desk staff will not be handling any of these orders  If the website is giving you any issues with ordering\, you can email info@barxparx.com
URL:https://barxparx.com/event/15-pupsgiving-meals-available-to-order-online-only/
LOCATION:Barx Parx\, 8868 S. Eastern Ave. Suite #115\, Las Vegas\, NV\, 89123\, United States
CATEGORIES:Holiday Event,Nevada - Las Vegas,Rescue
ATTACH;FMTTYPE=image/jpeg:https://barxparx.com/wp-content/uploads/2025/11/PupsgivingMealOrderDonate-e1762369762809.jpg
ORGANIZER;CN="Barx Parx":MAILTO:info@barxparx.com
GEO:36.0281686;-115.1167465
X-APPLE-STRUCTURED-LOCATION;VALUE=URI;X-ADDRESS=Barx Parx 8868 S. Eastern Ave. Suite #115 Las Vegas NV 89123 United States;X-APPLE-RADIUS=500;X-TITLE=8868 S. Eastern Ave. Suite #115:geo:-115.1167465,36.0281686
END:VEVENT
BEGIN:VEVENT
DTSTART;TZID=America/Los_Angeles:20251110T060000
DTEND;TZID=America/Los_Angeles:20251110T100000
DTSTAMP:20260425T184233
CREATED:20251030T171525Z
LAST-MODIFIED:20251030T172042Z
UID:10003256-1762754400-1762768800@barxparx.com
SUMMARY:Thanksgiving Pawtraits
DESCRIPTION:📸🍂🍁 Don’t miss out on Thanksgiving themed pet pawtraits taken on a fall background!! Only a $15 upcharge per dog. Offered on select dates during daycare until 10am daily. 🐶🐾 – Monday\, November 10 – Tuesday\, November 11 – Wednesday\, November 12 – Monday\, November 17 – Tuesday\, November 18 – Wednesday\, November 19 – **** 6am to 10am daily. Must RSVP and stay 4+ hours. Limited availability. First come\, first served. Text 702-518-6439 to reserve your pup’s spot today. **** 💚🧡 Next steps for any new dogs who want to attend Barx Parx: Register your pup(s) at barxparx.com/register.
URL:https://barxparx.com/event/thanksgiving-pawtraits-2-copy/2025-11-10/
LOCATION:Barx Parx\, 8868 S. Eastern Ave. Suite #115\, Las Vegas\, NV\, 89123\, United States
CATEGORIES:Holiday Event,Nevada - Las Vegas,Party,Pawtraits
ATTACH;FMTTYPE=image/jpeg:https://barxparx.com/wp-content/uploads/2025/10/ThanksgivingPetPawtraitsSlider2025.jpg
ORGANIZER;CN="Barx Parx":MAILTO:info@barxparx.com
GEO:36.0281686;-115.1167465
X-APPLE-STRUCTURED-LOCATION;VALUE=URI;X-ADDRESS=Barx Parx 8868 S. Eastern Ave. Suite #115 Las Vegas NV 89123 United States;X-APPLE-RADIUS=500;X-TITLE=8868 S. Eastern Ave. Suite #115:geo:-115.1167465,36.0281686
END:VEVENT
BEGIN:VEVENT
DTSTART;TZID=America/Los_Angeles:20251111T060000
DTEND;TZID=America/Los_Angeles:20251111T100000
DTSTAMP:20260425T184233
CREATED:20251030T171525Z
LAST-MODIFIED:20251030T172042Z
UID:10003257-1762840800-1762855200@barxparx.com
SUMMARY:Thanksgiving Pawtraits
DESCRIPTION:📸🍂🍁 Don’t miss out on Thanksgiving themed pet pawtraits taken on a fall background!! Only a $15 upcharge per dog. Offered on select dates during daycare until 10am daily. 🐶🐾 – Monday\, November 10 – Tuesday\, November 11 – Wednesday\, November 12 – Monday\, November 17 – Tuesday\, November 18 – Wednesday\, November 19 – **** 6am to 10am daily. Must RSVP and stay 4+ hours. Limited availability. First come\, first served. Text 702-518-6439 to reserve your pup’s spot today. **** 💚🧡 Next steps for any new dogs who want to attend Barx Parx: Register your pup(s) at barxparx.com/register.
URL:https://barxparx.com/event/thanksgiving-pawtraits-2-copy/2025-11-11/
LOCATION:Barx Parx\, 8868 S. Eastern Ave. Suite #115\, Las Vegas\, NV\, 89123\, United States
CATEGORIES:Holiday Event,Nevada - Las Vegas,Party,Pawtraits
ATTACH;FMTTYPE=image/jpeg:https://barxparx.com/wp-content/uploads/2025/10/ThanksgivingPetPawtraitsSlider2025.jpg
ORGANIZER;CN="Barx Parx":MAILTO:info@barxparx.com
GEO:36.0281686;-115.1167465
X-APPLE-STRUCTURED-LOCATION;VALUE=URI;X-ADDRESS=Barx Parx 8868 S. Eastern Ave. Suite #115 Las Vegas NV 89123 United States;X-APPLE-RADIUS=500;X-TITLE=8868 S. Eastern Ave. Suite #115:geo:-115.1167465,36.0281686
END:VEVENT
BEGIN:VEVENT
DTSTART;TZID=America/Los_Angeles:20251112T060000
DTEND;TZID=America/Los_Angeles:20251112T100000
DTSTAMP:20260425T184233
CREATED:20251030T171525Z
LAST-MODIFIED:20251030T172042Z
UID:10003258-1762927200-1762941600@barxparx.com
SUMMARY:Thanksgiving Pawtraits
DESCRIPTION:📸🍂🍁 Don’t miss out on Thanksgiving themed pet pawtraits taken on a fall background!! Only a $15 upcharge per dog. Offered on select dates during daycare until 10am daily. 🐶🐾 – Monday\, November 10 – Tuesday\, November 11 – Wednesday\, November 12 – Monday\, November 17 – Tuesday\, November 18 – Wednesday\, November 19 – **** 6am to 10am daily. Must RSVP and stay 4+ hours. Limited availability. First come\, first served. Text 702-518-6439 to reserve your pup’s spot today. **** 💚🧡 Next steps for any new dogs who want to attend Barx Parx: Register your pup(s) at barxparx.com/register.
URL:https://barxparx.com/event/thanksgiving-pawtraits-2-copy/2025-11-12/
LOCATION:Barx Parx\, 8868 S. Eastern Ave. Suite #115\, Las Vegas\, NV\, 89123\, United States
CATEGORIES:Holiday Event,Nevada - Las Vegas,Party,Pawtraits
ATTACH;FMTTYPE=image/jpeg:https://barxparx.com/wp-content/uploads/2025/10/ThanksgivingPetPawtraitsSlider2025.jpg
ORGANIZER;CN="Barx Parx":MAILTO:info@barxparx.com
GEO:36.0281686;-115.1167465
X-APPLE-STRUCTURED-LOCATION;VALUE=URI;X-ADDRESS=Barx Parx 8868 S. Eastern Ave. Suite #115 Las Vegas NV 89123 United States;X-APPLE-RADIUS=500;X-TITLE=8868 S. Eastern Ave. Suite #115:geo:-115.1167465,36.0281686
END:VEVENT
BEGIN:VEVENT
DTSTART;TZID=America/Los_Angeles:20251117T060000
DTEND;TZID=America/Los_Angeles:20251117T100000
DTSTAMP:20260425T184233
CREATED:20251030T171525Z
LAST-MODIFIED:20251030T172042Z
UID:10003259-1763359200-1763373600@barxparx.com
SUMMARY:Thanksgiving Pawtraits
DESCRIPTION:📸🍂🍁 Don’t miss out on Thanksgiving themed pet pawtraits taken on a fall background!! Only a $15 upcharge per dog. Offered on select dates during daycare until 10am daily. 🐶🐾 – Monday\, November 10 – Tuesday\, November 11 – Wednesday\, November 12 – Monday\, November 17 – Tuesday\, November 18 – Wednesday\, November 19 – **** 6am to 10am daily. Must RSVP and stay 4+ hours. Limited availability. First come\, first served. Text 702-518-6439 to reserve your pup’s spot today. **** 💚🧡 Next steps for any new dogs who want to attend Barx Parx: Register your pup(s) at barxparx.com/register.
URL:https://barxparx.com/event/thanksgiving-pawtraits-2-copy/2025-11-17/
LOCATION:Barx Parx\, 8868 S. Eastern Ave. Suite #115\, Las Vegas\, NV\, 89123\, United States
CATEGORIES:Holiday Event,Nevada - Las Vegas,Party,Pawtraits
ATTACH;FMTTYPE=image/jpeg:https://barxparx.com/wp-content/uploads/2025/10/ThanksgivingPetPawtraitsSlider2025.jpg
ORGANIZER;CN="Barx Parx":MAILTO:info@barxparx.com
GEO:36.0281686;-115.1167465
X-APPLE-STRUCTURED-LOCATION;VALUE=URI;X-ADDRESS=Barx Parx 8868 S. Eastern Ave. Suite #115 Las Vegas NV 89123 United States;X-APPLE-RADIUS=500;X-TITLE=8868 S. Eastern Ave. Suite #115:geo:-115.1167465,36.0281686
END:VEVENT
BEGIN:VEVENT
DTSTART;TZID=America/Los_Angeles:20251118T060000
DTEND;TZID=America/Los_Angeles:20251118T100000
DTSTAMP:20260425T184233
CREATED:20251030T171525Z
LAST-MODIFIED:20251030T172042Z
UID:10003260-1763445600-1763460000@barxparx.com
SUMMARY:Thanksgiving Pawtraits
DESCRIPTION:📸🍂🍁 Don’t miss out on Thanksgiving themed pet pawtraits taken on a fall background!! Only a $15 upcharge per dog. Offered on select dates during daycare until 10am daily. 🐶🐾 – Monday\, November 10 – Tuesday\, November 11 – Wednesday\, November 12 – Monday\, November 17 – Tuesday\, November 18 – Wednesday\, November 19 – **** 6am to 10am daily. Must RSVP and stay 4+ hours. Limited availability. First come\, first served. Text 702-518-6439 to reserve your pup’s spot today. **** 💚🧡 Next steps for any new dogs who want to attend Barx Parx: Register your pup(s) at barxparx.com/register.
URL:https://barxparx.com/event/thanksgiving-pawtraits-2-copy/2025-11-18/
LOCATION:Barx Parx\, 8868 S. Eastern Ave. Suite #115\, Las Vegas\, NV\, 89123\, United States
CATEGORIES:Holiday Event,Nevada - Las Vegas,Party,Pawtraits
ATTACH;FMTTYPE=image/jpeg:https://barxparx.com/wp-content/uploads/2025/10/ThanksgivingPetPawtraitsSlider2025.jpg
ORGANIZER;CN="Barx Parx":MAILTO:info@barxparx.com
GEO:36.0281686;-115.1167465
X-APPLE-STRUCTURED-LOCATION;VALUE=URI;X-ADDRESS=Barx Parx 8868 S. Eastern Ave. Suite #115 Las Vegas NV 89123 United States;X-APPLE-RADIUS=500;X-TITLE=8868 S. Eastern Ave. Suite #115:geo:-115.1167465,36.0281686
END:VEVENT
BEGIN:VEVENT
DTSTART;TZID=America/Los_Angeles:20251119T060000
DTEND;TZID=America/Los_Angeles:20251119T100000
DTSTAMP:20260425T184233
CREATED:20251030T171525Z
LAST-MODIFIED:20251030T172042Z
UID:10003261-1763532000-1763546400@barxparx.com
SUMMARY:Thanksgiving Pawtraits
DESCRIPTION:📸🍂🍁 Don’t miss out on Thanksgiving themed pet pawtraits taken on a fall background!! Only a $15 upcharge per dog. Offered on select dates during daycare until 10am daily. 🐶🐾 – Monday\, November 10 – Tuesday\, November 11 – Wednesday\, November 12 – Monday\, November 17 – Tuesday\, November 18 – Wednesday\, November 19 – **** 6am to 10am daily. Must RSVP and stay 4+ hours. Limited availability. First come\, first served. Text 702-518-6439 to reserve your pup’s spot today. **** 💚🧡 Next steps for any new dogs who want to attend Barx Parx: Register your pup(s) at barxparx.com/register.
URL:https://barxparx.com/event/thanksgiving-pawtraits-2-copy/2025-11-19/
LOCATION:Barx Parx\, 8868 S. Eastern Ave. Suite #115\, Las Vegas\, NV\, 89123\, United States
CATEGORIES:Holiday Event,Nevada - Las Vegas,Party,Pawtraits
ATTACH;FMTTYPE=image/jpeg:https://barxparx.com/wp-content/uploads/2025/10/ThanksgivingPetPawtraitsSlider2025.jpg
ORGANIZER;CN="Barx Parx":MAILTO:info@barxparx.com
GEO:36.0281686;-115.1167465
X-APPLE-STRUCTURED-LOCATION;VALUE=URI;X-ADDRESS=Barx Parx 8868 S. Eastern Ave. Suite #115 Las Vegas NV 89123 United States;X-APPLE-RADIUS=500;X-TITLE=8868 S. Eastern Ave. Suite #115:geo:-115.1167465,36.0281686
END:VEVENT
BEGIN:VEVENT
DTSTART;TZID=America/Los_Angeles:20251123T130000
DTEND;TZID=America/Los_Angeles:20251123T150000
DTSTAMP:20260425T184233
CREATED:20251023T171724Z
LAST-MODIFIED:20251120T161048Z
UID:10003252-1763902800-1763910000@barxparx.com
SUMMARY:8th Annual Barxgiving Fundraiser For Rescues
DESCRIPTION:Sunday\, 11/23 1pm to 3pm\nBARXGIVING: Fundraiser For Rescues\, Bake Sale\, Donation Drive & PUPkin Pie Eating Contest! \nAll event proceeds go to the Barx Parx Foundation\, our 501c3 non-profit that helps fund\, supply and support local Las Vegas rescues. \n– Donation Drive – Dog Toys\, Dog Food/Treats\, etc.\n– Bake Sale & Raffle Prizes\n– $5 Donation To Participate In Eating Contest\n– SM Dog Contest @ 2pm / LG Dog Contest @ 2:15 \n*** Free\, all ages\, open-to-the-public event if only attending the only the fundraiser portion ***\n*** If attending the 21+ indoor dog park: All dogs attending must be registered with Barx Parx and have passed their behavior assessment before they can attend. If your pups are not already registered at Barx Parx\, please register at Barxparx.com/register. Membership and current vaccines required. No reservation required. Single use day passes can also be purchased for non-members at the normal rate. ***\nThe Barx Parx indoor dog park and happy hour portion is a 21+ facility.
URL:https://barxparx.com/event/8th-annual-barxgiving-fundraiser-for-rescues/
LOCATION:Barx Parx\, 8868 S. Eastern Ave. Suite #115\, Las Vegas\, NV\, 89123\, United States
CATEGORIES:Fundraiser,Holiday Event,Nevada - Las Vegas,Party,Rescue
ATTACH;FMTTYPE=image/jpeg:https://barxparx.com/wp-content/uploads/2025/10/Barxgiving2025ThankYouToDonors-1-e1763655038348.jpg
ORGANIZER;CN="Barx Parx":MAILTO:info@barxparx.com
GEO:36.0281686;-115.1167465
X-APPLE-STRUCTURED-LOCATION;VALUE=URI;X-ADDRESS=Barx Parx 8868 S. Eastern Ave. Suite #115 Las Vegas NV 89123 United States;X-APPLE-RADIUS=500;X-TITLE=8868 S. Eastern Ave. Suite #115:geo:-115.1167465,36.0281686
END:VEVENT
BEGIN:VEVENT
DTSTART;VALUE=DATE:20251125
DTEND;VALUE=DATE:20251130
DTSTAMP:20260425T184233
CREATED:20251023T171308Z
LAST-MODIFIED:20251023T171512Z
UID:10003251-1764028800-1764460799@barxparx.com
SUMMARY:Thanksgiving Hours
DESCRIPTION:Please note that our park will have limited hours during Thanksgiving week in order to accommodate for the influx of holiday boarders. There will be NO Happy Hour on Friday\, 11/28.
URL:https://barxparx.com/event/thanksgiving-hours-2025/
LOCATION:Barx Parx\, 8868 S. Eastern Ave. Suite #115\, Las Vegas\, NV\, 89123\, United States
CATEGORIES:Happy Hour,Holiday Event,Informational,Nevada - Las Vegas
ATTACH;FMTTYPE=image/jpeg:https://barxparx.com/wp-content/uploads/2025/10/HolidayHoursThanksgiving2025.jpg
ORGANIZER;CN="Barx Parx":MAILTO:info@barxparx.com
GEO:36.0281686;-115.1167465
X-APPLE-STRUCTURED-LOCATION;VALUE=URI;X-ADDRESS=Barx Parx 8868 S. Eastern Ave. Suite #115 Las Vegas NV 89123 United States;X-APPLE-RADIUS=500;X-TITLE=8868 S. Eastern Ave. Suite #115:geo:-115.1167465,36.0281686
END:VEVENT
END:VCALENDAR