BEGIN:VCALENDAR
VERSION:2.0
PRODID:-//Barx Parx - ECPv6.15.20//NONSGML v1.0//EN
CALSCALE:GREGORIAN
METHOD:PUBLISH
X-WR-CALNAME:Barx Parx
X-ORIGINAL-URL:https://barxparx.com
X-WR-CALDESC:Events for Barx Parx
REFRESH-INTERVAL;VALUE=DURATION:PT1H
X-Robots-Tag:noindex
X-PUBLISHED-TTL:PT1H
BEGIN:VTIMEZONE
TZID:America/Los_Angeles
BEGIN:DAYLIGHT
TZOFFSETFROM:-0800
TZOFFSETTO:-0700
TZNAME:PDT
DTSTART:20240310T100000
END:DAYLIGHT
BEGIN:STANDARD
TZOFFSETFROM:-0700
TZOFFSETTO:-0800
TZNAME:PST
DTSTART:20241103T090000
END:STANDARD
BEGIN:DAYLIGHT
TZOFFSETFROM:-0800
TZOFFSETTO:-0700
TZNAME:PDT
DTSTART:20250309T100000
END:DAYLIGHT
BEGIN:STANDARD
TZOFFSETFROM:-0700
TZOFFSETTO:-0800
TZNAME:PST
DTSTART:20251102T090000
END:STANDARD
BEGIN:DAYLIGHT
TZOFFSETFROM:-0800
TZOFFSETTO:-0700
TZNAME:PDT
DTSTART:20260308T100000
END:DAYLIGHT
BEGIN:STANDARD
TZOFFSETFROM:-0700
TZOFFSETTO:-0800
TZNAME:PST
DTSTART:20261101T090000
END:STANDARD
BEGIN:DAYLIGHT
TZOFFSETFROM:-0800
TZOFFSETTO:-0700
TZNAME:PDT
DTSTART:20270314T100000
END:DAYLIGHT
BEGIN:STANDARD
TZOFFSETFROM:-0700
TZOFFSETTO:-0800
TZNAME:PST
DTSTART:20271107T090000
END:STANDARD
END:VTIMEZONE
BEGIN:VEVENT
DTSTART;VALUE=DATE:20251220
DTEND;VALUE=DATE:20260102
DTSTAMP:20260425T135441
CREATED:20251201T181912Z
LAST-MODIFIED:20251201T181912Z
UID:10003275-1766188800-1767311999@barxparx.com
SUMMARY:Holiday Hours
DESCRIPTION:Please note that our park will have limited hours during the Christmas and New Year’s weeks in order to accommodate for the influx of holiday boarders. There will be NO daycare on 12/25\, only boarding.
URL:https://barxparx.com/event/holiday-hours/
LOCATION:Barx Parx\, 8868 S. Eastern Ave. Suite #115\, Las Vegas\, NV\, 89123\, United States
CATEGORIES:Happy Hour,Holiday Event,Informational,Nevada - Las Vegas
ATTACH;FMTTYPE=image/jpeg:https://barxparx.com/wp-content/uploads/2025/12/HolidayHoursSlider2025-e1764613120585.jpg
ORGANIZER;CN="Barx Parx":MAILTO:info@barxparx.com
GEO:36.0281686;-115.1167465
X-APPLE-STRUCTURED-LOCATION;VALUE=URI;X-ADDRESS=Barx Parx 8868 S. Eastern Ave. Suite #115 Las Vegas NV 89123 United States;X-APPLE-RADIUS=500;X-TITLE=8868 S. Eastern Ave. Suite #115:geo:-115.1167465,36.0281686
END:VEVENT
BEGIN:VEVENT
DTSTART;TZID=America/Los_Angeles:20260126T060000
DTEND;TZID=America/Los_Angeles:20260126T100000
DTSTAMP:20260425T135441
CREATED:20260118T010122Z
LAST-MODIFIED:20260118T010510Z
UID:10003459-1769407200-1769421600@barxparx.com
SUMMARY:Valentine’s Themed Pawtraits During Daycare
DESCRIPTION:📸💘💌💋 Don’t miss out on Valentine’s Day themed pet pawtraits taken on a sweetheart background!! Only a $15 upcharge per dog. Offered on select dates during daycare until 10am daily. 🐶🐾 – Monday\, January 26 – Tuesday\, January 27 – Wednesday\, January 28 – Monday\, February 2 – Tuesday\, February 3 – Wednesday\, February 4 **** 6am to 10am daily. Must RSVP and stay 4+ hours. Limited availability. First come\, first served. Text 702-518-6439 to reserve your pup’s spot today. **** 💚🧡 Next steps for any new dogs who want to attend Barx Parx: Register your pup(s) at barxparx.com/register.
URL:https://barxparx.com/event/valentines-themed-pawtraits-during-daycare-2026/2026-01-26/
LOCATION:Barx Parx\, 8868 S. Eastern Ave. Suite #115\, Las Vegas\, NV\, 89123\, United States
CATEGORIES:Enrichment,Holiday Event,Pawtraits
ATTACH;FMTTYPE=image/jpeg:https://barxparx.com/wp-content/uploads/2026/01/VDayPetPawtraitsSlider-e1768698252183.jpg
ORGANIZER;CN="Barx Parx":MAILTO:info@barxparx.com
GEO:36.0281686;-115.1167465
X-APPLE-STRUCTURED-LOCATION;VALUE=URI;X-ADDRESS=Barx Parx 8868 S. Eastern Ave. Suite #115 Las Vegas NV 89123 United States;X-APPLE-RADIUS=500;X-TITLE=8868 S. Eastern Ave. Suite #115:geo:-115.1167465,36.0281686
END:VEVENT
BEGIN:VEVENT
DTSTART;TZID=America/Los_Angeles:20260127T060000
DTEND;TZID=America/Los_Angeles:20260127T100000
DTSTAMP:20260425T135441
CREATED:20260118T010122Z
LAST-MODIFIED:20260118T010510Z
UID:10003460-1769493600-1769508000@barxparx.com
SUMMARY:Valentine’s Themed Pawtraits During Daycare
DESCRIPTION:📸💘💌💋 Don’t miss out on Valentine’s Day themed pet pawtraits taken on a sweetheart background!! Only a $15 upcharge per dog. Offered on select dates during daycare until 10am daily. 🐶🐾 – Monday\, January 26 – Tuesday\, January 27 – Wednesday\, January 28 – Monday\, February 2 – Tuesday\, February 3 – Wednesday\, February 4 **** 6am to 10am daily. Must RSVP and stay 4+ hours. Limited availability. First come\, first served. Text 702-518-6439 to reserve your pup’s spot today. **** 💚🧡 Next steps for any new dogs who want to attend Barx Parx: Register your pup(s) at barxparx.com/register.
URL:https://barxparx.com/event/valentines-themed-pawtraits-during-daycare-2026/2026-01-27/
LOCATION:Barx Parx\, 8868 S. Eastern Ave. Suite #115\, Las Vegas\, NV\, 89123\, United States
CATEGORIES:Enrichment,Holiday Event,Pawtraits
ATTACH;FMTTYPE=image/jpeg:https://barxparx.com/wp-content/uploads/2026/01/VDayPetPawtraitsSlider-e1768698252183.jpg
ORGANIZER;CN="Barx Parx":MAILTO:info@barxparx.com
GEO:36.0281686;-115.1167465
X-APPLE-STRUCTURED-LOCATION;VALUE=URI;X-ADDRESS=Barx Parx 8868 S. Eastern Ave. Suite #115 Las Vegas NV 89123 United States;X-APPLE-RADIUS=500;X-TITLE=8868 S. Eastern Ave. Suite #115:geo:-115.1167465,36.0281686
END:VEVENT
BEGIN:VEVENT
DTSTART;TZID=America/Los_Angeles:20260128T060000
DTEND;TZID=America/Los_Angeles:20260128T100000
DTSTAMP:20260425T135441
CREATED:20260118T010122Z
LAST-MODIFIED:20260118T010510Z
UID:10003461-1769580000-1769594400@barxparx.com
SUMMARY:Valentine’s Themed Pawtraits During Daycare
DESCRIPTION:📸💘💌💋 Don’t miss out on Valentine’s Day themed pet pawtraits taken on a sweetheart background!! Only a $15 upcharge per dog. Offered on select dates during daycare until 10am daily. 🐶🐾 – Monday\, January 26 – Tuesday\, January 27 – Wednesday\, January 28 – Monday\, February 2 – Tuesday\, February 3 – Wednesday\, February 4 **** 6am to 10am daily. Must RSVP and stay 4+ hours. Limited availability. First come\, first served. Text 702-518-6439 to reserve your pup’s spot today. **** 💚🧡 Next steps for any new dogs who want to attend Barx Parx: Register your pup(s) at barxparx.com/register.
URL:https://barxparx.com/event/valentines-themed-pawtraits-during-daycare-2026/2026-01-28/
LOCATION:Barx Parx\, 8868 S. Eastern Ave. Suite #115\, Las Vegas\, NV\, 89123\, United States
CATEGORIES:Enrichment,Holiday Event,Pawtraits
ATTACH;FMTTYPE=image/jpeg:https://barxparx.com/wp-content/uploads/2026/01/VDayPetPawtraitsSlider-e1768698252183.jpg
ORGANIZER;CN="Barx Parx":MAILTO:info@barxparx.com
GEO:36.0281686;-115.1167465
X-APPLE-STRUCTURED-LOCATION;VALUE=URI;X-ADDRESS=Barx Parx 8868 S. Eastern Ave. Suite #115 Las Vegas NV 89123 United States;X-APPLE-RADIUS=500;X-TITLE=8868 S. Eastern Ave. Suite #115:geo:-115.1167465,36.0281686
END:VEVENT
END:VCALENDAR