BEGIN:VCALENDAR
VERSION:2.0
PRODID:-//Barx Parx - ECPv6.15.20//NONSGML v1.0//EN
CALSCALE:GREGORIAN
METHOD:PUBLISH
X-WR-CALNAME:Barx Parx
X-ORIGINAL-URL:https://barxparx.com
X-WR-CALDESC:Events for Barx Parx
REFRESH-INTERVAL;VALUE=DURATION:PT1H
X-Robots-Tag:noindex
X-PUBLISHED-TTL:PT1H
BEGIN:VTIMEZONE
TZID:America/Los_Angeles
BEGIN:DAYLIGHT
TZOFFSETFROM:-0800
TZOFFSETTO:-0700
TZNAME:PDT
DTSTART:20250309T100000
END:DAYLIGHT
BEGIN:STANDARD
TZOFFSETFROM:-0700
TZOFFSETTO:-0800
TZNAME:PST
DTSTART:20251102T090000
END:STANDARD
BEGIN:DAYLIGHT
TZOFFSETFROM:-0800
TZOFFSETTO:-0700
TZNAME:PDT
DTSTART:20260308T100000
END:DAYLIGHT
BEGIN:STANDARD
TZOFFSETFROM:-0700
TZOFFSETTO:-0800
TZNAME:PST
DTSTART:20261101T090000
END:STANDARD
BEGIN:DAYLIGHT
TZOFFSETFROM:-0800
TZOFFSETTO:-0700
TZNAME:PDT
DTSTART:20270314T100000
END:DAYLIGHT
BEGIN:STANDARD
TZOFFSETFROM:-0700
TZOFFSETTO:-0800
TZNAME:PST
DTSTART:20271107T090000
END:STANDARD
END:VTIMEZONE
BEGIN:VEVENT
DTSTART;VALUE=DATE:20260201
DTEND;VALUE=DATE:20260209
DTSTAMP:20260425T152922
CREATED:20260120T222956Z
LAST-MODIFIED:20260120T223440Z
UID:10003465-1769904000-1770595199@barxparx.com
SUMMARY:Barx Parx Foundation Football Pool
DESCRIPTION:⚠️⚠️⚠️ Fundraiser Alert \nBarx Parx Foundation Football Pool for the big game! 🏈🐶 Squares are $5 each! Buy yours for the chance to win Barx Parx swag and free daycare/boarding!!! (Not to mention supporting a good cause!) Squares on sale until the game starts on Sunday\, February 9th or until gone! We only have 100 available!!🐶🏈 \n100% of the proceeds will benefit the Barx Parx Foundation\, our 501c3 that helps fund and provide for local rescues. 💜🧡🐶 \nSquares can be bought in person or via text at 702-518-6439! Open fundraiser to the public! Anyone 21+ can purchase squares!
URL:https://barxparx.com/event/barx-parx-foundation-football-pool-2026/
LOCATION:Barx Parx\, 8868 S. Eastern Ave. Suite #115\, Las Vegas\, NV\, 89123\, United States
CATEGORIES:Holiday Event,Party,Sports
ATTACH;FMTTYPE=image/jpeg:https://barxparx.com/wp-content/uploads/2026/01/BPFFootballPool-e1768948466818.jpg
ORGANIZER;CN="Barx Parx":MAILTO:info@barxparx.com
GEO:36.0281686;-115.1167465
X-APPLE-STRUCTURED-LOCATION;VALUE=URI;X-ADDRESS=Barx Parx 8868 S. Eastern Ave. Suite #115 Las Vegas NV 89123 United States;X-APPLE-RADIUS=500;X-TITLE=8868 S. Eastern Ave. Suite #115:geo:-115.1167465,36.0281686
END:VEVENT
END:VCALENDAR