BEGIN:VCALENDAR
VERSION:2.0
PRODID:-//Barx Parx - ECPv6.15.20//NONSGML v1.0//EN
CALSCALE:GREGORIAN
METHOD:PUBLISH
X-WR-CALNAME:Barx Parx
X-ORIGINAL-URL:https://barxparx.com
X-WR-CALDESC:Events for Barx Parx
REFRESH-INTERVAL;VALUE=DURATION:PT1H
X-Robots-Tag:noindex
X-PUBLISHED-TTL:PT1H
BEGIN:VTIMEZONE
TZID:America/Los_Angeles
BEGIN:DAYLIGHT
TZOFFSETFROM:-0800
TZOFFSETTO:-0700
TZNAME:PDT
DTSTART:20250309T100000
END:DAYLIGHT
BEGIN:STANDARD
TZOFFSETFROM:-0700
TZOFFSETTO:-0800
TZNAME:PST
DTSTART:20251102T090000
END:STANDARD
BEGIN:DAYLIGHT
TZOFFSETFROM:-0800
TZOFFSETTO:-0700
TZNAME:PDT
DTSTART:20260308T100000
END:DAYLIGHT
BEGIN:STANDARD
TZOFFSETFROM:-0700
TZOFFSETTO:-0800
TZNAME:PST
DTSTART:20261101T090000
END:STANDARD
BEGIN:DAYLIGHT
TZOFFSETFROM:-0800
TZOFFSETTO:-0700
TZNAME:PDT
DTSTART:20270314T100000
END:DAYLIGHT
BEGIN:STANDARD
TZOFFSETFROM:-0700
TZOFFSETTO:-0800
TZNAME:PST
DTSTART:20271107T090000
END:STANDARD
END:VTIMEZONE
BEGIN:VEVENT
DTSTART;TZID=America/Los_Angeles:20260922T190000
DTEND;TZID=America/Los_Angeles:20260922T203000
DTSTAMP:20260425T084950
CREATED:20260326T195009Z
LAST-MODIFIED:20260326T195541Z
UID:10003775-1790103600-1790109000@barxparx.com
SUMMARY:Basketball for Charity with the Las Vegas Aces 2026
DESCRIPTION:BBALL FOR CHARITY!! 🏀🐾 \nLV ACES GAME to help support the BP Foundation!! 📅 Tuesday\, 9/22 at 7pm at Mandalay Bay Event Center \n🎟 BUY TIX >> https://www.gofevo.com/event/BarxParx2026 \n$10 of every ticket sold will go right back to the Barx Parx Foundation in order to help local dog rescues fund\, supply and save puppers who need homes. We have VERY LIMITED tickets available\, all reserved in the same section for us! They are first come\, first served\, so snag yours today. \n📸 There will also be a group photo opportunity for us during halftime where we can hold up a Barx Parx Foundation banner together. Bonus points for wearing a Barx Parx Foundation or LV Aces shirt to the game if you have one! \nThis is a human only but kid friendly/all ages event. 👨‍👩‍👧‍👦 Looking forward to seeing everyone there!! \nCan’t attend but still want to donate to help the amazing cause? Donate here >> https://www.barxparxfoundation.org/donate/ \nAll proceeds will benefit the Barx Parx Foundation\, our 501c3 that helps fund\, supply and support local rescues. 🐾❤️ \n*** ⚠️ If attending the 21+ indoor dog park: All dogs attending must be registered with Barx Parx and have passed their behavior assessment before they can attend. If your pups are not already registered at Barx Parx\, please register at Barxparx.com/register. Membership and current vaccines required. No reservation required. Single use day passes can also be purchased for non-members at the normal rate. *** \n🫶 barxparxfoundation.org\n@barxparxfoundation
URL:https://barxparx.com/event/basketball-for-charity-with-the-las-vegas-aces-2026/
LOCATION:Allegiant Stadium\, 3333 Al Davis Way\, Las Vegas\, 89118\, United States
CATEGORIES:Community,Fundraiser,Nevada - Las Vegas,Sports
ATTACH;FMTTYPE=image/png:https://barxparx.com/wp-content/uploads/2026/03/LVAces2026-scaled-e1774554887834.png
ORGANIZER;CN="Barx Parx":MAILTO:info@barxparx.com
GEO:36.0913862;-115.1833778
X-APPLE-STRUCTURED-LOCATION;VALUE=URI;X-ADDRESS=Allegiant Stadium 3333 Al Davis Way Las Vegas 89118 United States;X-APPLE-RADIUS=500;X-TITLE=3333 Al Davis Way:geo:-115.1833778,36.0913862
END:VEVENT
END:VCALENDAR